BEGIN:VCALENDAR
VERSION:2.0
PRODID:-//Ludwig van Toronto - ECPv5.9.1//NONSGML v1.0//EN
CALSCALE:GREGORIAN
METHOD:PUBLISH
X-WR-CALNAME:Ludwig van Toronto
X-ORIGINAL-URL:https://www.ludwig-van.com/toronto
X-WR-CALDESC:Events for Ludwig van Toronto
BEGIN:VTIMEZONE
TZID:America/Toronto
BEGIN:DAYLIGHT
TZOFFSETFROM:-0500
TZOFFSETTO:-0400
TZNAME:EDT
DTSTART:20230312T070000
END:DAYLIGHT
BEGIN:STANDARD
TZOFFSETFROM:-0400
TZOFFSETTO:-0500
TZNAME:EST
DTSTART:20231105T060000
END:STANDARD
END:VTIMEZONE
BEGIN:VEVENT
DTSTART;TZID=America/Toronto:20230302T120000
DTEND;TZID=America/Toronto:20230302T130000
DTSTAMP:20260420T074959
CREATED:20230219T214150Z
LAST-MODIFIED:20230219T214150Z
UID:94611-1677758400-1677762000@www.ludwig-van.com
SUMMARY:Canadian Opera Company | Free Concert Series : Portraits and Fantasias
DESCRIPTION:Fantasias are associated with unbounded flights of the imagination. This concert\, with its theatrical elements\, will allow you to explore this musical form through characters that were either described by the composers or dreamed up by the performers. Meet Eusebius and Florestan\, two personifications created by Schumann to embody his own contradictions\, and watch as a dreaming painter comes to life to the sound of Debussy’s music. Come and be captivated by the clear rapport within this clarinet and piano duo as their instruments shine and transform with the music and characters that inhabit it.
URL:https://www.ludwig-van.com/toronto/event/canadian-opera-company-free-concert-series-portraits-fantasias/
LOCATION:Richard Bradshaw Amphitheatre\, Four Seasons Centre for the Performing Arts\, 145 Queen St. W.\, Toronto\, M5V 2A9
CATEGORIES:opera,Orchestra
ATTACH;FMTTYPE=image/jpeg:https://www.ludwig-van.com/toronto/wp-content/uploads/sites/2/2023/02/FreeConcertSeries_COC.jpg
END:VEVENT
END:VCALENDAR