BEGIN:VCALENDAR
VERSION:2.0
PRODID:-//Ludwig van Toronto - ECPv5.9.1//NONSGML v1.0//EN
CALSCALE:GREGORIAN
METHOD:PUBLISH
X-WR-CALNAME:Ludwig van Toronto
X-ORIGINAL-URL:https://www.ludwig-van.com/toronto
X-WR-CALDESC:Events for Ludwig van Toronto
BEGIN:VTIMEZONE
TZID:America/Toronto
BEGIN:DAYLIGHT
TZOFFSETFROM:-0500
TZOFFSETTO:-0400
TZNAME:EDT
DTSTART:20230312T070000
END:DAYLIGHT
BEGIN:STANDARD
TZOFFSETFROM:-0400
TZOFFSETTO:-0500
TZNAME:EST
DTSTART:20231105T060000
END:STANDARD
END:VTIMEZONE
BEGIN:VEVENT
DTSTART;TZID=America/Toronto:20230301T120000
DTEND;TZID=America/Toronto:20230301T130000
DTSTAMP:20260420T092818
CREATED:20230219T213822Z
LAST-MODIFIED:20230219T213822Z
UID:94609-1677672000-1677675600@www.ludwig-van.com
SUMMARY:Canadian Opera Company | Free Concert Series : Piano Passport
DESCRIPTION:Internationally renowned Canadian pianist Sheng Cai’s performances of major keyboard works of the past centuries have touched audiences and won the praise of critics on four continents. In this concert\, Cai shows off Canadian piano mastery in works by Oskar Morawetz and André Mathieu\, before bringing us to Europe to hear pieces by François Couperin and Tchaikovsky.
URL:https://www.ludwig-van.com/toronto/event/canadian-opera-company-free-concert-series-piano-passport/
LOCATION:Richard Bradshaw Amphitheatre\, Four Seasons Centre for the Performing Arts\, 145 Queen St. W.\, Toronto\, M5V 2A9
CATEGORIES:opera,Orchestra
ATTACH;FMTTYPE=image/jpeg:https://www.ludwig-van.com/toronto/wp-content/uploads/sites/2/2023/02/FreeConcertSeries_COC.jpg
END:VEVENT
BEGIN:VEVENT
DTSTART;TZID=America/Toronto:20230301T200000
DTEND;TZID=America/Toronto:20230301T220000
DTSTAMP:20260420T092818
CREATED:20221107T165907Z
LAST-MODIFIED:20221107T165907Z
UID:85511-1677700800-1677708000@www.ludwig-van.com
SUMMARY:Toronto Symphony Orchestra | Mozart’s Haffner Symphony
DESCRIPTION:Kerem Hasan leads the Orchestra in Mozart’s graceful and high-spirited “Haffner” Symphony. Trailblazing composer Missy Mazzoli has been called “Brooklyn’s post-millennial Mozart” (Time Out New York)\, and her mesmerizing double bass concerto\, Dark with Excessive Bright\, spotlights the artistry of TSO Principal Bass Jeffrey Beecher. Evocative works of Benjamin Britten open and close the program: first\, sea-swept sound-paintings from the watershed opera Peter Grimes; then the stunning and viscerally intense Sinfonia da Requiem.
URL:https://www.ludwig-van.com/toronto/event/toronto-symphony-orchestra-mozarts-haffner-symphony/2023-03-01/
LOCATION:Roy Thomson Hall\, 60 Simcoe St\, Toronto\, Ontario\, M5J 2H5\, Canada
CATEGORIES:Orchestra
ATTACH;FMTTYPE=image/png:https://www.ludwig-van.com/toronto/wp-content/uploads/sites/2/2022/11/Kerem-Hasan.png
END:VEVENT
END:VCALENDAR