BEGIN:VCALENDAR
VERSION:2.0
PRODID:-//Ludwig van Toronto - ECPv5.9.1//NONSGML v1.0//EN
CALSCALE:GREGORIAN
METHOD:PUBLISH
X-WR-CALNAME:Ludwig van Toronto
X-ORIGINAL-URL:https://www.ludwig-van.com/toronto
X-WR-CALDESC:Events for Ludwig van Toronto
BEGIN:VTIMEZONE
TZID:America/Toronto
BEGIN:DAYLIGHT
TZOFFSETFROM:-0500
TZOFFSETTO:-0400
TZNAME:EDT
DTSTART:20230312T070000
END:DAYLIGHT
BEGIN:STANDARD
TZOFFSETFROM:-0400
TZOFFSETTO:-0500
TZNAME:EST
DTSTART:20231105T060000
END:STANDARD
END:VTIMEZONE
BEGIN:VEVENT
DTSTART;TZID=America/Toronto:20230222T120000
DTEND;TZID=America/Toronto:20230222T130000
DTSTAMP:20260420T212022
CREATED:20230219T213511Z
LAST-MODIFIED:20230219T213511Z
UID:94607-1677067200-1677070800@www.ludwig-van.com
SUMMARY:Canadian Opera Company | Free Concert Series : Dynamic Traditions: Then and Now
DESCRIPTION:Ballet Creole is one of Canada’s first professional Black dance companies presenting African and Caribbean-centred programming on stage and in communities. This high-energy and educational performance will be sure to have audience members tapping their feet and wanting to join the festivities.
URL:https://www.ludwig-van.com/toronto/event/canadian-opera-company-free-concert-series-dynamic-traditions-now/
LOCATION:Richard Bradshaw Amphitheatre\, Four Seasons Centre for the Performing Arts\, 145 Queen St. W.\, Toronto\, M5V 2A9
CATEGORIES:opera,Orchestra
ATTACH;FMTTYPE=image/jpeg:https://www.ludwig-van.com/toronto/wp-content/uploads/sites/2/2023/02/FreeConcertSeries_COC.jpg
END:VEVENT
BEGIN:VEVENT
DTSTART;TZID=America/Toronto:20230222T190000
DTEND;TZID=America/Toronto:20230222T213000
DTSTAMP:20260420T212022
CREATED:20230202T221559Z
LAST-MODIFIED:20230202T221559Z
UID:93780-1677092400-1677101400@www.ludwig-van.com
SUMMARY:New Music Concerts | BRuCH: Chansons Madecasses
DESCRIPTION:Germany’s stellar BRuCH ensemble visits Toronto’s beautiful Harbourfront Theatre with an immersive and dreamlike program of works commissioned for their unique instrumentation\, in dialogue with Ravel’s classic Dreams of Madagascar. \nPresented with support from the Goethe-Institut. \nFEATURING:\nBRuCH Ensemble\nClaudia Chan —Piano\nElla Rohwer —Cello\nMarie Heeschen —Soprano\nSally Beck —Flute
URL:https://www.ludwig-van.com/toronto/event/new-music-concerts-bruch-chansons-madecasses/
LOCATION:Harbourfront Centre\, 235 Queens Quay West\, Toronto\, ON\, M5J 2G8\, Canada
CATEGORIES:Orchestra
ATTACH;FMTTYPE=image/jpeg:https://www.ludwig-van.com/toronto/wp-content/uploads/sites/2/2023/02/BRuCH-Ensemble.jpg
GEO:43.6391182;-79.3828906
X-APPLE-STRUCTURED-LOCATION;VALUE=URI;X-ADDRESS=Harbourfront Centre 235 Queens Quay West Toronto ON M5J 2G8 Canada;X-APPLE-RADIUS=500;X-TITLE=235 Queens Quay West:geo:-79.3828906,43.6391182
END:VEVENT
BEGIN:VEVENT
DTSTART;TZID=America/Toronto:20230222T193000
DTEND;TZID=America/Toronto:20230222T213000
DTSTAMP:20260420T212022
CREATED:20230201T223107Z
LAST-MODIFIED:20230714T223656Z
UID:93536-1677094200-1677101400@www.ludwig-van.com
SUMMARY:Mirvish | Hamilton
DESCRIPTION:Hamilton is the story of America then\, told by America now. Featuring a score that blends hip-hop\, jazz\, R&B and Broadway\, Hamilton has taken the story of American founding father Alexander Hamilton and created a revolutionary moment in theatre—a musical that has had a profound impact on culture\, politics\, and education. With book\, music\, and lyrics by Lin-Manuel Miranda\, direction by Thomas Kail\, choreography by Andy Blankenbuehler\, and musical supervision and orchestrations by Alex Lacamoire\, Hamilton is based on Ron Chernow’s acclaimed biography. It has won Tony®\, Grammy®\, and Olivier Awards\, the Pulitzer Prize for Drama\, and an unprecedented special citation from the Kennedy Center Honors.
URL:https://www.ludwig-van.com/toronto/event/mirvish-hamilton/2023-02-22/
LOCATION:Princess of Wales Theatre\, 300 King Street West\, Toronto\, Ontario\, M5V 1J2\, Canada
CATEGORIES:Theatre
ATTACH;FMTTYPE=image/jpeg:https://www.ludwig-van.com/toronto/wp-content/uploads/sites/2/2023/02/Hamilton-Mirvish.jpg
END:VEVENT
BEGIN:VEVENT
DTSTART;TZID=America/Toronto:20230222T200000
DTEND;TZID=America/Toronto:20230222T220000
DTSTAMP:20260420T212022
CREATED:20221102T213924Z
LAST-MODIFIED:20221102T213924Z
UID:85201-1677096000-1677103200@www.ludwig-van.com
SUMMARY:Toronto Symphony Orchestra | Mozart & Rachmaninoff
DESCRIPTION:Renowned French-Canadian pianist Louis Lortie performs Mozart’s glorious Piano Concerto No. 23\, an awe-inspiring display of Mozartean brilliance written amid an astounding stretch in which masterpiece after masterpiece poured forth as if fully formed. Conductor Laureate Sir Andrew Davis reunites with the TSO for these performances\, which feature his own orchestration of Berg’s passionate Piano Sonata. And\, nostalgic reveries and exquisitely beautiful melodies take flight in Rachmaninoff’s heartfelt\, soul-stirring musical farewell\, Symphonic Dances.
URL:https://www.ludwig-van.com/toronto/event/toronto-symphony-orchestra-mozart-rachmaninoff/2023-02-22/
LOCATION:Roy Thomson Hall\, 60 Simcoe St\, Toronto\, Ontario\, M5J 2H5\, Canada
CATEGORIES:Orchestra
ATTACH;FMTTYPE=image/png:https://www.ludwig-van.com/toronto/wp-content/uploads/sites/2/2022/11/TSO_Mozart_Rachmaninoff.png
END:VEVENT
BEGIN:VEVENT
DTSTART;TZID=America/Toronto:20230222T200000
DTEND;TZID=America/Toronto:20230222T220000
DTSTAMP:20260420T212022
CREATED:20221209T221257Z
LAST-MODIFIED:20221209T221257Z
UID:88275-1677096000-1677103200@www.ludwig-van.com
SUMMARY:The Royal Conservatory of Music | Emily D'Angelo
DESCRIPTION:With “a voice hued like polished teak … arrestingly vulnerable” (The New York Times)\, Emily D’Angelo’s critically acclaimed debut album\, energeia\, won Classical Album of the Year (Solo Artist) at the 2022 Juno Awards. The Canadian mezzo-soprano is the first and only vocalist to have been presented with the Leonard Bernstein Award from the Schleswig Holstein Festival. She has been named one of WQXR NYC Public Radio’s “40 Under 40” singers to watch and Canada’s “Top 30 Under 30” Classical Musicians. She will perform works by Hildegard von Bingen\, Missy Mazzoli\, Sarah Kirkland Snider\, and Hildur Guðnadóttir.
URL:https://www.ludwig-van.com/toronto/event/royal-conservatory-music-emily-dangelo/
LOCATION:Koerner Hall\, 273 Bloor St W\, \, Toronto\, ON\, M5S 1V6\, Canada
CATEGORIES:Orchestra
ATTACH;FMTTYPE=image/jpeg:https://www.ludwig-van.com/toronto/wp-content/uploads/sites/2/2022/12/Emily-DAngelo.jpg
ORGANIZER;CN="Royal%20Conservatory":MAILTO:tickets@rcmusic.ca
GEO:43.6679641;-79.3966795
X-APPLE-STRUCTURED-LOCATION;VALUE=URI;X-ADDRESS=Koerner Hall 273 Bloor St W  Toronto ON M5S 1V6 Canada;X-APPLE-RADIUS=500;X-TITLE=273 Bloor St W\,:geo:-79.3966795,43.6679641
END:VEVENT
END:VCALENDAR