BEGIN:VCALENDAR
VERSION:2.0
PRODID:-//Ludwig van Toronto - ECPv5.9.1//NONSGML v1.0//EN
CALSCALE:GREGORIAN
METHOD:PUBLISH
X-WR-CALNAME:Ludwig van Toronto
X-ORIGINAL-URL:https://www.ludwig-van.com/toronto
X-WR-CALDESC:Events for Ludwig van Toronto
BEGIN:VTIMEZONE
TZID:America/Toronto
BEGIN:DAYLIGHT
TZOFFSETFROM:-0500
TZOFFSETTO:-0400
TZNAME:EDT
DTSTART:20230312T070000
END:DAYLIGHT
BEGIN:STANDARD
TZOFFSETFROM:-0400
TZOFFSETTO:-0500
TZNAME:EST
DTSTART:20231105T060000
END:STANDARD
END:VTIMEZONE
BEGIN:VEVENT
DTSTART;TZID=America/Toronto:20230219T150000
DTEND;TZID=America/Toronto:20230219T163000
DTSTAMP:20260421T025007
CREATED:20230202T215001Z
LAST-MODIFIED:20230202T215001Z
UID:93773-1676818800-1676824200@www.ludwig-van.com
SUMMARY:Metropolitan United Church | Trinity Bach Project
DESCRIPTION:Bach & Brahms \nIn our first Spring 2023 Music at Met performance\, we will be partnering with the singers and instrumentalists of the Trinity Bach Project to present Bach’s Cantata 23 and motet Singet dem Herren\, BWV 225\, as well as Brahms’ Geistliches Lied and other masterworks. \nYour freewill donations will help offset the costs of the performance\, and will allow us to continue this partnership–which seeks to make great sacred choral music accessible to everyone\, regardless of creed or income.
URL:https://www.ludwig-van.com/toronto/event/metropolitan-united-church-trinity-bach-project/
LOCATION:Metropolitan United Church\, 56 Queen Street East\, Toronto\, ON\, M5C 2Z3\, Canada
CATEGORIES:Orchestra
ATTACH;FMTTYPE=image/jpeg:https://www.ludwig-van.com/toronto/wp-content/uploads/sites/2/2023/02/Trinity-Bach-Project.jpg
GEO:43.6538629;-79.3766635
X-APPLE-STRUCTURED-LOCATION;VALUE=URI;X-ADDRESS=Metropolitan United Church 56 Queen Street East Toronto ON M5C 2Z3 Canada;X-APPLE-RADIUS=500;X-TITLE=56 Queen Street East:geo:-79.3766635,43.6538629
END:VEVENT
END:VCALENDAR