BEGIN:VCALENDAR
VERSION:2.0
PRODID:-//Ludwig van Toronto - ECPv5.9.1//NONSGML v1.0//EN
CALSCALE:GREGORIAN
METHOD:PUBLISH
X-WR-CALNAME:Ludwig van Toronto
X-ORIGINAL-URL:https://www.ludwig-van.com/toronto
X-WR-CALDESC:Events for Ludwig van Toronto
BEGIN:VTIMEZONE
TZID:America/Toronto
BEGIN:DAYLIGHT
TZOFFSETFROM:-0500
TZOFFSETTO:-0400
TZNAME:EDT
DTSTART:20230312T070000
END:DAYLIGHT
BEGIN:STANDARD
TZOFFSETFROM:-0400
TZOFFSETTO:-0500
TZNAME:EST
DTSTART:20231105T060000
END:STANDARD
END:VTIMEZONE
BEGIN:VEVENT
DTSTART;TZID=America/Toronto:20230216T200000
DTEND;TZID=America/Toronto:20230216T220000
DTSTAMP:20260421T075649
CREATED:20221209T220535Z
LAST-MODIFIED:20221209T220535Z
UID:88272-1676577600-1676584800@www.ludwig-van.com
SUMMARY:The Royal Conservatory of Music | The King’s Singers: Finding Harmony
DESCRIPTION:​An afternoon of iconic anthems of struggle and revolution through history\, commissioned by and for The King’s Singers\, who have become one of the most frequent guests in Koerner Hall’s 12 seasons. \nSinging together binds us together. From the Protestant Reformation in Europe during the 1500s to the U.S. Civil Rights Movement\, there have been countless moments in history when songs have united nations\, cultures\, and causes. This is still the case in today’s world. \nFinding Harmony is evidence that music has always been our common language. A unique collection of pieces that span the globe – including music that is too often forgotten – each song is the key to a powerful true story about who we are and how we got here. Together\, Finding Harmony proves how deeply we can be moved by all kinds of stories when songs connect us to them\, to each other\, and to the places we come from.
URL:https://www.ludwig-van.com/toronto/event/royal-conservatory-music-kings-singers-finding-harmony/
LOCATION:Koerner Hall\, 273 Bloor St W\, \, Toronto\, ON\, M5S 1V6\, Canada
CATEGORIES:Orchestra
ATTACH;FMTTYPE=image/jpeg:https://www.ludwig-van.com/toronto/wp-content/uploads/sites/2/2022/12/kings-singers.jpg
ORGANIZER;CN="Royal%20Conservatory":MAILTO:tickets@rcmusic.ca
GEO:43.6679641;-79.3966795
X-APPLE-STRUCTURED-LOCATION;VALUE=URI;X-ADDRESS=Koerner Hall 273 Bloor St W  Toronto ON M5S 1V6 Canada;X-APPLE-RADIUS=500;X-TITLE=273 Bloor St W\,:geo:-79.3966795,43.6679641
END:VEVENT
END:VCALENDAR