BEGIN:VCALENDAR
VERSION:2.0
PRODID:-//Ludwig van Toronto - ECPv5.9.1//NONSGML v1.0//EN
CALSCALE:GREGORIAN
METHOD:PUBLISH
X-WR-CALNAME:Ludwig van Toronto
X-ORIGINAL-URL:https://www.ludwig-van.com/toronto
X-WR-CALDESC:Events for Ludwig van Toronto
BEGIN:VTIMEZONE
TZID:America/Toronto
BEGIN:DAYLIGHT
TZOFFSETFROM:-0500
TZOFFSETTO:-0400
TZNAME:EDT
DTSTART:20230312T070000
END:DAYLIGHT
BEGIN:STANDARD
TZOFFSETFROM:-0400
TZOFFSETTO:-0500
TZNAME:EST
DTSTART:20231105T060000
END:STANDARD
END:VTIMEZONE
BEGIN:VEVENT
DTSTART;TZID=America/Toronto:20230214T193000
DTEND;TZID=America/Toronto:20230214T213000
DTSTAMP:20260421T114356
CREATED:20221209T215922Z
LAST-MODIFIED:20221209T215922Z
UID:88267-1676403000-1676410200@www.ludwig-van.com
SUMMARY:The Royal Conservatory of Music | U of T presents: Choirs in Concert
DESCRIPTION:Chamber Choir\, MacMillan Singers\, Soprano-Alto Chorus\, Tenor-Bass Choir Thomas Burton\, Dr. Elaine Choi\, Dr. Lori-Anne Dolloff\, Kathy Haddadkar\, and Dr. Jamie Hillman\, conductors Eunseong Cho and Joy Lee\, collaborative pianists \nDan Forrest: Ubi Caritas\nNico Muhly: Set Me as a Seal\nJoan Szymko: Arise My Love\nRandall Thompson: Frostiana\nand other composers and works
URL:https://www.ludwig-van.com/toronto/event/royal-conservatory-music-u-t-presents-choirs-concert/
LOCATION:Grace Church on-the-Hill\, 300 Lonsdale Rd\, Toronto\, Ontario\, M4V 1X4\, Canada
CATEGORIES:Orchestra
ATTACH;FMTTYPE=image/jpeg:https://www.ludwig-van.com/toronto/wp-content/uploads/sites/2/2022/12/Lori-anne-dolloff.jpg
GEO:43.6894838;-79.4098874
X-APPLE-STRUCTURED-LOCATION;VALUE=URI;X-ADDRESS=Grace Church on-the-Hill 300 Lonsdale Rd Toronto Ontario M4V 1X4 Canada;X-APPLE-RADIUS=500;X-TITLE=300 Lonsdale Rd:geo:-79.4098874,43.6894838
END:VEVENT
END:VCALENDAR