BEGIN:VCALENDAR
VERSION:2.0
PRODID:-//Ludwig van Toronto - ECPv5.9.1//NONSGML v1.0//EN
CALSCALE:GREGORIAN
METHOD:PUBLISH
X-WR-CALNAME:Ludwig van Toronto
X-ORIGINAL-URL:https://www.ludwig-van.com/toronto
X-WR-CALDESC:Events for Ludwig van Toronto
BEGIN:VTIMEZONE
TZID:America/Toronto
BEGIN:DAYLIGHT
TZOFFSETFROM:-0500
TZOFFSETTO:-0400
TZNAME:EDT
DTSTART:20230312T070000
END:DAYLIGHT
BEGIN:STANDARD
TZOFFSETFROM:-0400
TZOFFSETTO:-0500
TZNAME:EST
DTSTART:20231105T060000
END:STANDARD
END:VTIMEZONE
BEGIN:VEVENT
DTSTART;TZID=America/Toronto:20230212T140000
DTEND;TZID=America/Toronto:20230212T160000
DTSTAMP:20260421T151801
CREATED:20221209T214524Z
LAST-MODIFIED:20221209T214524Z
UID:88262-1676210400-1676217600@www.ludwig-van.com
SUMMARY:The Royal Conservatory of Music | Anton Nel and Friends
DESCRIPTION:Anton Nel is “an uncommonly elegant pianist” (The New York Times). “The South African-born and internationally acclaimed pianist … [is] a consummate performer with an ear for musical detail in a recital which can best be described as a study in refined artistic elegance.” (East Cape Herald) In this concert\, he will perform Brahms Variations on a Theme by Haydn for Two Pianos with James Anagnoson\, and Brahms Piano Quartet in G Minor with Erika Raum (violin)\, Barry Shiffman (viola)\, and Alexandra Koerner Yeo Chair in Cello\, Andrés Díaz.
URL:https://www.ludwig-van.com/toronto/event/royal-conservatory-music-anton-nel-friends/
LOCATION:Mazzoleni Concert Hall\, 273 Bloor St West\, Toronto\, Ontario\, M5S 1W2\, Canada
CATEGORIES:Orchestra
ATTACH;FMTTYPE=image/jpeg:https://www.ludwig-van.com/toronto/wp-content/uploads/sites/2/2022/12/Anton-Nel.jpg
ORGANIZER;CN="Royal%20Conservatory":MAILTO:tickets@rcmusic.ca
END:VEVENT
BEGIN:VEVENT
DTSTART;TZID=America/Toronto:20230212T150000
DTEND;TZID=America/Toronto:20230212T170000
DTSTAMP:20260421T151801
CREATED:20220925T223457Z
LAST-MODIFIED:20220925T223457Z
UID:80326-1676214000-1676221200@www.ludwig-van.com
SUMMARY:North York Concert Orchestra | Bruckner's 4th
DESCRIPTION:Anton Bruckner – Symphony #4 \nRafael Luz Conductor
URL:https://www.ludwig-van.com/toronto/event/north-york-concert-orchestra-bruckners-4th/
LOCATION:Pan Pacific Toronto\, 900 York Mills Road\, Toronto\, Ontario\, M3B 3H2\, Canada
CATEGORIES:Orchestra
ATTACH;FMTTYPE=image/jpeg:https://www.ludwig-van.com/toronto/wp-content/uploads/sites/2/2022/09/NYCO_Bruckner.jpg
GEO:43.7563455;-79.3495039
X-APPLE-STRUCTURED-LOCATION;VALUE=URI;X-ADDRESS=Pan Pacific Toronto 900 York Mills Road Toronto Ontario M3B 3H2 Canada;X-APPLE-RADIUS=500;X-TITLE=900 York Mills Road:geo:-79.3495039,43.7563455
END:VEVENT
END:VCALENDAR