BEGIN:VCALENDAR
VERSION:2.0
PRODID:-//Ludwig van Toronto - ECPv5.9.1//NONSGML v1.0//EN
CALSCALE:GREGORIAN
METHOD:PUBLISH
X-WR-CALNAME:Ludwig van Toronto
X-ORIGINAL-URL:https://www.ludwig-van.com/toronto
X-WR-CALDESC:Events for Ludwig van Toronto
BEGIN:VTIMEZONE
TZID:America/Toronto
BEGIN:DAYLIGHT
TZOFFSETFROM:-0500
TZOFFSETTO:-0400
TZNAME:EDT
DTSTART:20230312T070000
END:DAYLIGHT
BEGIN:STANDARD
TZOFFSETFROM:-0400
TZOFFSETTO:-0500
TZNAME:EST
DTSTART:20231105T060000
END:STANDARD
END:VTIMEZONE
BEGIN:VEVENT
DTSTART;TZID=America/Toronto:20230208T200000
DTEND;TZID=America/Toronto:20230208T220000
DTSTAMP:20260421T163537
CREATED:20221102T214816Z
LAST-MODIFIED:20221102T214816Z
UID:85211-1675886400-1675893600@www.ludwig-van.com
SUMMARY:Toronto Symphony Orchestra | Gimeno Conducts Romeo and Juliet
DESCRIPTION:“For never was a story of more woe…” No music captures the passion\, drama\, and emotional depth of Shakespeare’s tale more fully than Prokofiev’s spectacular ballet score compiled by Gustavo Gimeno\, a thrilling showcase for the TSO’s virtuosity. Also on the program\, the Orchestra perform a recent composition by Canadian Samy Moussa\, and the dazzling feats of Lalo’s Symphonie espagnole are performed with flair by captivating young Spanish violinist María Dueñas\, winner of the 2021 Menuhin Competition.
URL:https://www.ludwig-van.com/toronto/event/toronto-symphony-orchestra-gimeno-conducts-romeo-juliet/2023-02-08/
LOCATION:Roy Thomson Hall\, 60 Simcoe St\, Toronto\, Ontario\, M5J 2H5\, Canada
CATEGORIES:Orchestra
ATTACH;FMTTYPE=image/png:https://www.ludwig-van.com/toronto/wp-content/uploads/sites/2/2022/11/TSO_Gimeno_Conducts_Romeo_Juliet.png
END:VEVENT
END:VCALENDAR