BEGIN:VCALENDAR
VERSION:2.0
PRODID:-//Ludwig van Toronto - ECPv5.9.1//NONSGML v1.0//EN
CALSCALE:GREGORIAN
METHOD:PUBLISH
X-WR-CALNAME:Ludwig van Toronto
X-ORIGINAL-URL:https://www.ludwig-van.com/toronto
X-WR-CALDESC:Events for Ludwig van Toronto
BEGIN:VTIMEZONE
TZID:America/Toronto
BEGIN:DAYLIGHT
TZOFFSETFROM:-0500
TZOFFSETTO:-0400
TZNAME:EDT
DTSTART:20230312T070000
END:DAYLIGHT
BEGIN:STANDARD
TZOFFSETFROM:-0400
TZOFFSETTO:-0500
TZNAME:EST
DTSTART:20231105T060000
END:STANDARD
END:VTIMEZONE
BEGIN:VEVENT
DTSTART;TZID=America/Toronto:20230205T133000
DTEND;TZID=America/Toronto:20230205T153000
DTSTAMP:20260421T111007
CREATED:20221107T162020Z
LAST-MODIFIED:20221107T162020Z
UID:85495-1675603800-1675611000@www.ludwig-van.com
SUMMARY:Toronto Symphony Orchestra | The Hockey Sweater
DESCRIPTION:The iconic Canadian story The Hockey Sweater is brought to life through the music of Abigail Richardson-Schulte in this TSO co-commissioned work. Enjoy a charming winter tale\, narrated by author Roch Carrier\, that will appeal to all budding hockey fans
URL:https://www.ludwig-van.com/toronto/event/toronto-symphony-orchestra-hockey-sweater/2023-02-05/
LOCATION:Roy Thomson Hall\, 60 Simcoe St\, Toronto\, Ontario\, M5J 2H5\, Canada
CATEGORIES:Orchestra
ATTACH;FMTTYPE=image/png:https://www.ludwig-van.com/toronto/wp-content/uploads/sites/2/2022/11/TSO_Hockey_Sweater.png
END:VEVENT
BEGIN:VEVENT
DTSTART;TZID=America/Toronto:20230205T150000
DTEND;TZID=America/Toronto:20230205T170000
DTSTAMP:20260421T111007
CREATED:20221209T212317Z
LAST-MODIFIED:20221209T212317Z
UID:88254-1675609200-1675616400@www.ludwig-van.com
SUMMARY:The Royal Conservatory of Music | Bach Collegium Japan\, Masaaki Suzuki\, conductor\, with Roderick Williams\, baritone
DESCRIPTION:Bach Collegium Japan was founded by Masaaki Suzuki\, its inspirational Music Director. Comprised of both Baroque orchestra and chorus\, the ensemble has won a German Record Critics’ Award\, a BBC Music Magazine Award\, and the Choral category of the 2017 Gramophone Awards. \nRoderick Williams is one of the world’s most sought-after baritones\, who won the Royal Philharmonic Society’s Singer of the Year award in 2016. He was also awarded an OBE for services to music in June 2017.
URL:https://www.ludwig-van.com/toronto/event/royal-conservatory-music-bach-collegium%e2%80%afjapan-masaaki%e2%80%afsuzuki-conductor-roderick-williams-baritone/
LOCATION:Koerner Hall\, 273 Bloor St W\, \, Toronto\, ON\, M5S 1V6\, Canada
CATEGORIES:Orchestra
ATTACH;FMTTYPE=image/jpeg:https://www.ludwig-van.com/toronto/wp-content/uploads/sites/2/2022/12/bachcollegiumjapan.jpg
ORGANIZER;CN="Royal%20Conservatory":MAILTO:tickets@rcmusic.ca
GEO:43.6679641;-79.3966795
X-APPLE-STRUCTURED-LOCATION;VALUE=URI;X-ADDRESS=Koerner Hall 273 Bloor St W  Toronto ON M5S 1V6 Canada;X-APPLE-RADIUS=500;X-TITLE=273 Bloor St W\,:geo:-79.3966795,43.6679641
END:VEVENT
END:VCALENDAR