BEGIN:VCALENDAR
VERSION:2.0
PRODID:-//Ludwig van Toronto - ECPv5.9.1//NONSGML v1.0//EN
CALSCALE:GREGORIAN
METHOD:PUBLISH
X-WR-CALNAME:Ludwig van Toronto
X-ORIGINAL-URL:https://www.ludwig-van.com/toronto
X-WR-CALDESC:Events for Ludwig van Toronto
BEGIN:VTIMEZONE
TZID:America/Toronto
BEGIN:DAYLIGHT
TZOFFSETFROM:-0500
TZOFFSETTO:-0400
TZNAME:EDT
DTSTART:20230312T070000
END:DAYLIGHT
BEGIN:STANDARD
TZOFFSETFROM:-0400
TZOFFSETTO:-0500
TZNAME:EST
DTSTART:20231105T060000
END:STANDARD
END:VTIMEZONE
BEGIN:VEVENT
DTSTART;TZID=America/Toronto:20230203T193000
DTEND;TZID=America/Toronto:20230203T213000
DTSTAMP:20260421T073007
CREATED:20221016T223415Z
LAST-MODIFIED:20221016T223415Z
UID:83018-1675452600-1675459800@www.ludwig-van.com
SUMMARY:Canadian Opera Company | Salome
DESCRIPTION:A dance—perhaps the most famous one in history—precedes a macabre kiss and an execution in this opera by Richard Strauss. An explosive\, modernist score propels the action\, redefining musical storytelling. \nDirected by Academy Award-nominated Atom Egoyan\, this production stars Ensemble Studio graduate Ambur Braid—acclaimed for her recent tour de force performance in the title role at Frankfurt Opera—as Salome\, alongside Karita Mattila and Michael Schade.
URL:https://www.ludwig-van.com/toronto/event/canadian-opera-company-salome/2023-02-03/
LOCATION:Four Seasons Centre\, 145 Queen St. W.\, Toronto\, Ontario\, M5H 4G1\, Canada
CATEGORIES:opera
ATTACH;FMTTYPE=image/png:https://www.ludwig-van.com/toronto/wp-content/uploads/sites/2/2022/10/COC_Salome.png
END:VEVENT
BEGIN:VEVENT
DTSTART;TZID=America/Toronto:20230203T193000
DTEND;TZID=America/Toronto:20230203T213000
DTSTAMP:20260421T073007
CREATED:20221205T224805Z
LAST-MODIFIED:20221205T224805Z
UID:87878-1675452600-1675459800@www.ludwig-van.com
SUMMARY:The Royal Conservatory of Music | U of T presents: Wind Symphony - Imagine
DESCRIPTION:Imagine…\nWind Symphony\nPratik Gandhi\, conductor\nMacMillan Theatre \nThis concert celebrates the power of storytelling and the imagination. Featuring works by Christos Hatzis\, Julie Giroux\, and more. \nTimothy Mahr: Imagine\, If You Will…\nRobert Buckley Foaming Sea\nOmar Thomas Shenandoah\nChristos Hatzis\, arr. KEVIN LAU To the Ends of the Earth\, from Tongues of Fire\nKevin Day Galactic Voyage\nJulie Giroux Symphony of Fables
URL:https://www.ludwig-van.com/toronto/event/royal-conservatory-music-u-t-presents-wind-symphony-imagine/
LOCATION:MacMillan Theatre\, 80 Queens Park\, Toronto\, Ontario\, M5S 2C5\, Canada
CATEGORIES:Orchestra
ATTACH;FMTTYPE=image/jpeg:https://www.ludwig-van.com/toronto/wp-content/uploads/sites/2/2022/10/RCM_wind-symphony-pratik-gandhi.jpg
GEO:43.666508;-79.3944708
X-APPLE-STRUCTURED-LOCATION;VALUE=URI;X-ADDRESS=MacMillan Theatre 80 Queens Park Toronto Ontario M5S 2C5 Canada;X-APPLE-RADIUS=500;X-TITLE=80 Queens Park:geo:-79.3944708,43.666508
END:VEVENT
END:VCALENDAR