BEGIN:VCALENDAR
VERSION:2.0
PRODID:-//Ludwig van Toronto - ECPv5.9.1//NONSGML v1.0//EN
CALSCALE:GREGORIAN
METHOD:PUBLISH
X-WR-CALNAME:Ludwig van Toronto
X-ORIGINAL-URL:https://www.ludwig-van.com/toronto
X-WR-CALDESC:Events for Ludwig van Toronto
BEGIN:VTIMEZONE
TZID:America/Toronto
BEGIN:DAYLIGHT
TZOFFSETFROM:-0500
TZOFFSETTO:-0400
TZNAME:EDT
DTSTART:20230312T070000
END:DAYLIGHT
BEGIN:STANDARD
TZOFFSETFROM:-0400
TZOFFSETTO:-0500
TZNAME:EST
DTSTART:20231105T060000
END:STANDARD
END:VTIMEZONE
BEGIN:VEVENT
DTSTART;TZID=America/Toronto:20230202T200000
DTEND;TZID=America/Toronto:20230202T220000
DTSTAMP:20260421T054008
CREATED:20221003T204144Z
LAST-MODIFIED:20221003T204144Z
UID:82152-1675368000-1675375200@www.ludwig-van.com
SUMMARY:Music Toronto | Borealis Quartet
DESCRIPTION:Founded in Vancouver\, BC in 2000\, the Borealis has toured extensively in North America and Europe and in recent years\, established close ties with Asia\, touring extensively in Taiwan and China. In addition to an active concert career\, the Borealis is committed to outreach and the community\, playing for both seniors and children. The Borealis is on faculty and acts as the Quartet in Residence at the Kwantlen Polytechnic University and at the Langley Community Music School. The Borealis is known for an intense\, focused style that invites the listener in. Previous MTO concerts in 2004 and 2011. \n 
URL:https://www.ludwig-van.com/toronto/event/music-toronto-borealis-quartet/
LOCATION:Jane Mallet Theatre\, 27 Front St. East\, Toronto\, ON\, M5E\, Canada
CATEGORIES:Chamber music
ATTACH;FMTTYPE=image/jpeg:https://www.ludwig-van.com/toronto/wp-content/uploads/sites/2/2022/10/MusicToronto_BorealisQuartet.jpg
GEO:43.6472494;-79.3763834
X-APPLE-STRUCTURED-LOCATION;VALUE=URI;X-ADDRESS=Jane Mallet Theatre 27 Front St. East Toronto ON M5E Canada;X-APPLE-RADIUS=500;X-TITLE=27 Front St. East:geo:-79.3763834,43.6472494
END:VEVENT
BEGIN:VEVENT
DTSTART;TZID=America/Toronto:20230202T200000
DTEND;TZID=America/Toronto:20230202T220000
DTSTAMP:20260421T054008
CREATED:20221205T223324Z
LAST-MODIFIED:20221205T223324Z
UID:87876-1675368000-1675375200@www.ludwig-van.com
SUMMARY:The Royal Conservatory of Music | Chicago Symphony Orchestra Plays Mussorgsky
DESCRIPTION:For the first time in over 100 years\, the world-renowned Chicago Symphony Orchestra returns to Toronto! This concert marks the finale of their North American tour – and Maestro Riccardo Muti’s final tour as Music Director and conductor. The Grammy Award-winning Chicago Symphony Orchestra has been named the best orchestra in the United States and the fifth best orchestra in the world by editors of Gramophone and by bachtrack critics.
URL:https://www.ludwig-van.com/toronto/event/royal-conservatory-music-chicago-symphony-orchestra-plays-mussorgsky/
LOCATION:Koerner Hall\, 273 Bloor St W\, \, Toronto\, ON\, M5S 1V6\, Canada
CATEGORIES:Orchestra
ATTACH;FMTTYPE=image/jpeg:https://www.ludwig-van.com/toronto/wp-content/uploads/sites/2/2022/12/Chicago_Symphony_Orchestra.jpg
ORGANIZER;CN="Royal%20Conservatory":MAILTO:tickets@rcmusic.ca
GEO:43.6679641;-79.3966795
X-APPLE-STRUCTURED-LOCATION;VALUE=URI;X-ADDRESS=Koerner Hall 273 Bloor St W  Toronto ON M5S 1V6 Canada;X-APPLE-RADIUS=500;X-TITLE=273 Bloor St W\,:geo:-79.3966795,43.6679641
END:VEVENT
END:VCALENDAR