BEGIN:VCALENDAR
VERSION:2.0
PRODID:-//Ludwig van Toronto - ECPv5.9.1//NONSGML v1.0//EN
CALSCALE:GREGORIAN
METHOD:PUBLISH
X-WR-CALNAME:Ludwig van Toronto
X-ORIGINAL-URL:https://www.ludwig-van.com/toronto
X-WR-CALDESC:Events for Ludwig van Toronto
BEGIN:VTIMEZONE
TZID:America/Toronto
BEGIN:DAYLIGHT
TZOFFSETFROM:-0500
TZOFFSETTO:-0400
TZNAME:EDT
DTSTART:20230312T070000
END:DAYLIGHT
BEGIN:STANDARD
TZOFFSETFROM:-0400
TZOFFSETTO:-0500
TZNAME:EST
DTSTART:20231105T060000
END:STANDARD
END:VTIMEZONE
BEGIN:VEVENT
DTSTART;TZID=America/Toronto:20230128T190000
DTEND;TZID=America/Toronto:20230128T210000
DTSTAMP:20260420T212127
CREATED:20221202T230050Z
LAST-MODIFIED:20221202T230050Z
UID:87739-1674932400-1674939600@www.ludwig-van.com
SUMMARY:The Royal Conservatory of Music | 21C - Alisa Weilerstein: Fragments
DESCRIPTION:With Fragments\, cellist Alisa Weilerstein creates a space for performer\, composer\, and listener that is at once physically intimate and philosophically expansive. This groundbreaking project for solo cello that weaves together the 36 movements of Bach’s solo cello suites and 27 newly commissioned works\, dividing the whole into six hour-long Chapters\, is to be released over several seasons. \nWithin each Chapter\, individual movements from a single suite and a selection of new works are mindfully arranged into a new emotional arc\, set within an atmosphere of responsive lighting and scenic architecture. The music is performed without pause and without a program\, creating a wholly original experience that empowers audiences to surrender to their senses. \nAlisa Weilerstein was recognized with a MacArthur “genius grant” Fellowship in 2011. “Weilerstein is a throwback to an earlier age of classical performers: not content merely to serve as a vessel for the composer’s wishes\, she inhabits a piece fully and turns it to her own ends\,” marvels The New York Times. “Weilerstein’s cello is her id. She doesn’t give the impression that making music involves will at all. She and the cello seem simply to be one and the same\,” says the Los Angeles Times. As the Telegraph put it\, “Weilerstein is truly a phenomenon.”
URL:https://www.ludwig-van.com/toronto/event/royal-conservatory-music-21c-alisa-weilerstein-fragments/
LOCATION:Koerner Hall\, 273 Bloor St W\, \, Toronto\, ON\, M5S 1V6\, Canada
CATEGORIES:Orchestra
ATTACH;FMTTYPE=image/jpeg:https://www.ludwig-van.com/toronto/wp-content/uploads/sites/2/2022/12/Alisa-Weilerstein.jpg
ORGANIZER;CN="Royal%20Conservatory":MAILTO:tickets@rcmusic.ca
GEO:43.6679641;-79.3966795
X-APPLE-STRUCTURED-LOCATION;VALUE=URI;X-ADDRESS=Koerner Hall 273 Bloor St W  Toronto ON M5S 1V6 Canada;X-APPLE-RADIUS=500;X-TITLE=273 Bloor St W\,:geo:-79.3966795,43.6679641
END:VEVENT
BEGIN:VEVENT
DTSTART;TZID=America/Toronto:20230128T193000
DTEND;TZID=America/Toronto:20230128T213000
DTSTAMP:20260420T212127
CREATED:20221202T230824Z
LAST-MODIFIED:20221202T230824Z
UID:87742-1674934200-1674941400@www.ludwig-van.com
SUMMARY:The Royal Conservatory of Music | The Glenn Gould School Vocal Showcase
DESCRIPTION:A wonderful opportunity to see the GGS’s talented voice students present an evening of art songs and opera excerpts.
URL:https://www.ludwig-van.com/toronto/event/royal-conservatory-music-glenn-gould-school-vocal-showcase-2/
LOCATION:Mazzoleni Concert Hall\, 273 Bloor St West\, Toronto\, Ontario\, M5S 1W2\, Canada
CATEGORIES:opera
ATTACH;FMTTYPE=image/jpeg:https://www.ludwig-van.com/toronto/wp-content/uploads/sites/2/2022/12/GlennGouldSchool.jpg
ORGANIZER;CN="Royal%20Conservatory":MAILTO:tickets@rcmusic.ca
END:VEVENT
BEGIN:VEVENT
DTSTART;TZID=America/Toronto:20230128T193000
DTEND;TZID=America/Toronto:20230128T213000
DTSTAMP:20260420T212127
CREATED:20221205T220316Z
LAST-MODIFIED:20221205T220316Z
UID:87864-1674934200-1674941400@www.ludwig-van.com
SUMMARY:The Royal Conservatory of Music | U of T presents: Wind Ensemble
DESCRIPTION:Wind Ensemble\nJeffrey Reynolds\, conductor\nJames Campbell\, solo clarinet\nMacMillan Theatre \nAdolphus Hailstork: Celebration\nPaul Hart: Cartoon\nShuying Li: The Last Hive Mind\nAllan Gilliland: Dreaming of the Masters (featuring James Campbell\, solo clarinet)\nNathan Daughtrey: Twitch (featuring James Campbell\, Solo Clarinet)\nImprovisation #8\, led by Christine Duncan\nMaria Eduarda Mendes: Dark Light (Graduate Composer in Residence)\nDavid Maslanka: Give Us This Day
URL:https://www.ludwig-van.com/toronto/event/royal-conservatory-music-u-t-presents-wind-ensemble-2/
LOCATION:MacMillan Theatre\, 80 Queens Park\, Toronto\, Ontario\, M5S 2C5\, Canada
CATEGORIES:Orchestra
ATTACH;FMTTYPE=image/png:https://www.ludwig-van.com/toronto/wp-content/uploads/sites/2/2022/12/James-Campbell.png
ORGANIZER;CN="Royal%20Conservatory":MAILTO:tickets@rcmusic.ca
GEO:43.666508;-79.3944708
X-APPLE-STRUCTURED-LOCATION;VALUE=URI;X-ADDRESS=MacMillan Theatre 80 Queens Park Toronto Ontario M5S 2C5 Canada;X-APPLE-RADIUS=500;X-TITLE=80 Queens Park:geo:-79.3944708,43.666508
END:VEVENT
BEGIN:VEVENT
DTSTART;TZID=America/Toronto:20230128T200000
DTEND;TZID=America/Toronto:20230128T220000
DTSTAMP:20260420T212127
CREATED:20221102T211915Z
LAST-MODIFIED:20221102T211915Z
UID:85193-1674936000-1674943200@www.ludwig-van.com
SUMMARY:Toronto Symphony Orchestra | Shostakovich 5 + Crow Plays Brahms
DESCRIPTION:After Shostakovich’s music was publicly denounced for failing to conform to the Soviet ideal\, his Fifth Symphony was a work on which his life depended—literally. The monumental creation he produced was a crashing success\, appeasing the establishment\, thrilling audiences\, and crackling with covert defiance. Finnish conducting prodigy Tarmo Peltokoski draws out every nuance of this all-time-great masterpiece in his Canadian debut\, and Concertmaster Jonathan Crow performs a towering cornerstone of the repertoire in Brahms’s luminous Violin Concerto.
URL:https://www.ludwig-van.com/toronto/event/toronto-symphony-orchestra-shostakovich-5-crow-plays-brahms/2023-01-28/
LOCATION:Roy Thomson Hall\, 60 Simcoe St\, Toronto\, Ontario\, M5J 2H5\, Canada
CATEGORIES:Orchestra
ATTACH;FMTTYPE=image/png:https://www.ludwig-van.com/toronto/wp-content/uploads/sites/2/2022/11/TSO_Shostakovich.png
END:VEVENT
BEGIN:VEVENT
DTSTART;TZID=America/Toronto:20230128T220000
DTEND;TZID=America/Toronto:20230128T233000
DTSTAMP:20260420T212127
CREATED:20221202T231432Z
LAST-MODIFIED:20221202T231432Z
UID:87745-1674943200-1674948600@www.ludwig-van.com
SUMMARY:The Royal Conservatory of Music | 21C - Afterhours: Hymns to Night
DESCRIPTION:Curated and conducted by Brian Current\, the Conservatory’s own Glenn Gould School New Music Ensemble performs an immersive afterhours celebration of the mysteries of the night\, including Bekah Simms’ Foreverdark and R. Murray Schafer’s iconic Hymn to Night. Experience these inspiring works bathed in a candlelit listening wonderland.
URL:https://www.ludwig-van.com/toronto/event/royal-conservatory-music-21c-afterhours-hymns-night/
LOCATION:Temerty Theatre\, 273 Bloor Street West\, Toronto\, Ontario\, M5S 1W2\, Canada
CATEGORIES:Orchestra
ATTACH;FMTTYPE=image/jpeg:https://www.ludwig-van.com/toronto/wp-content/uploads/sites/2/2022/12/Brian-Current.jpg
ORGANIZER;CN="Royal%20Conservatory":MAILTO:tickets@rcmusic.ca
GEO:43.6678128;-79.3961048
X-APPLE-STRUCTURED-LOCATION;VALUE=URI;X-ADDRESS=Temerty Theatre 273 Bloor Street West Toronto Ontario M5S 1W2 Canada;X-APPLE-RADIUS=500;X-TITLE=273 Bloor Street West:geo:-79.3961048,43.6678128
END:VEVENT
END:VCALENDAR