BEGIN:VCALENDAR
VERSION:2.0
PRODID:-//Ludwig van Toronto - ECPv5.9.1//NONSGML v1.0//EN
CALSCALE:GREGORIAN
METHOD:PUBLISH
X-WR-CALNAME:Ludwig van Toronto
X-ORIGINAL-URL:https://www.ludwig-van.com/toronto
X-WR-CALDESC:Events for Ludwig van Toronto
BEGIN:VTIMEZONE
TZID:America/Toronto
BEGIN:DAYLIGHT
TZOFFSETFROM:-0500
TZOFFSETTO:-0400
TZNAME:EDT
DTSTART:20230312T070000
END:DAYLIGHT
BEGIN:STANDARD
TZOFFSETFROM:-0400
TZOFFSETTO:-0500
TZNAME:EST
DTSTART:20231105T060000
END:STANDARD
END:VTIMEZONE
BEGIN:VEVENT
DTSTART;TZID=America/Toronto:20230122T150000
DTEND;TZID=America/Toronto:20230122T170000
DTSTAMP:20260420T110410
CREATED:20221202T223423Z
LAST-MODIFIED:20221202T223423Z
UID:87731-1674399600-1674406800@www.ludwig-van.com
SUMMARY:The Royal Conservatory of Music | 21C - Ian Cusson and Stewart Goodyear: New Works
DESCRIPTION:A spectacular night of new Canadian works! Three pieces by Métis composer Ian Cusson based on paintings of Hieronymus Bosch played by Trio Arkel\, Duo Concertante\, and Charles Hamann alongside the world premiere of an RCM commission by Stewart Goodyear for piano and jazz musicians Michael Occhipinti (guitar)\, Joy Lapps-Lewis (steel pan)\, Roberto Occhipinti (bass)\, and Larnell Lewis (drums). \nIan Cusson is a composer of art song\, opera\, and orchestral works. Of Métis (Georgian Bay Métis Community) and French-Canadian descent\, his work explores Canadian Indigenous experience\, including the history of the Métis people\, the hybridity of mixed-racial identity\, and the intersection of western and Indigenous cultures. \nProclaimed “a phenomenon” by the Los Angeles Times and “one of the best pianists of his generation” by the Philadelphia Inquirer\, Stewart Goodyear is an accomplished concert pianist\, improviser\, and composer\, whose recent commissions include a piano quintet for the Penderecki String Quartet and a piano work for the Honens Piano Competition. His suite for piano and orchestra\, Callaloo\, and his Piano Sonata\, were released by Orchid Classics. In 2021\, The Royal Conservatory of Music appointed the RCM alumnus to a three-year term as its inaugural Artist-in-Residence.
URL:https://www.ludwig-van.com/toronto/event/royal-conservatory-music-21c-ian-cusson-stewart-goodyear-new-works/
LOCATION:Koerner Hall\, 273 Bloor St W\, \, Toronto\, ON\, M5S 1V6\, Canada
CATEGORIES:Orchestra
ATTACH;FMTTYPE=image/jpeg:https://www.ludwig-van.com/toronto/wp-content/uploads/sites/2/2022/12/Ian-Cusson_Stewart-Goodyear.jpg
ORGANIZER;CN="Royal%20Conservatory":MAILTO:tickets@rcmusic.ca
GEO:43.6679641;-79.3966795
X-APPLE-STRUCTURED-LOCATION;VALUE=URI;X-ADDRESS=Koerner Hall 273 Bloor St W  Toronto ON M5S 1V6 Canada;X-APPLE-RADIUS=500;X-TITLE=273 Bloor St W\,:geo:-79.3966795,43.6679641
END:VEVENT
END:VCALENDAR