BEGIN:VCALENDAR
VERSION:2.0
PRODID:-//Ludwig van Toronto - ECPv5.9.1//NONSGML v1.0//EN
CALSCALE:GREGORIAN
METHOD:PUBLISH
X-WR-CALNAME:Ludwig van Toronto
X-ORIGINAL-URL:https://www.ludwig-van.com/toronto
X-WR-CALDESC:Events for Ludwig van Toronto
BEGIN:VTIMEZONE
TZID:America/Toronto
BEGIN:DAYLIGHT
TZOFFSETFROM:-0500
TZOFFSETTO:-0400
TZNAME:EDT
DTSTART:20230312T070000
END:DAYLIGHT
BEGIN:STANDARD
TZOFFSETFROM:-0400
TZOFFSETTO:-0500
TZNAME:EST
DTSTART:20231105T060000
END:STANDARD
END:VTIMEZONE
BEGIN:VEVENT
DTSTART;TZID=America/Toronto:20230121T170000
DTEND;TZID=America/Toronto:20230121T190000
DTSTAMP:20260420T092046
CREATED:20221202T221828Z
LAST-MODIFIED:20221202T221828Z
UID:87721-1674320400-1674327600@www.ludwig-van.com
SUMMARY:The Royal Conservatory of Music | 21C - Cinq à Sept: After the Fires
DESCRIPTION:New song cycle by Liza Balkan and Lembit Beecher features GGS students and alumni. Flutist Susan Hoeppner is joined by percussionist Beverley Johnston to perform Christos Hatzis’s Arctic Dreams for flute\, vibraphone\, and electronics\, along with the world premiere of a piece called Ice Woman by Alice Ho. \nXin Wang\, soprano\nAndrea Ludwig\, mezzo-soprano\nKorin Thomas-Smith\, baritone\nZachary Gassenheimer\, clarinet\nHenry From\, piano
URL:https://www.ludwig-van.com/toronto/event/royal-conservatory-music-21c-cinq-sept-fires/
LOCATION:Temerty Theatre\, 273 Bloor Street West\, Toronto\, Ontario\, M5S 1W2\, Canada
CATEGORIES:Orchestra
ATTACH;FMTTYPE=image/jpeg:https://www.ludwig-van.com/toronto/wp-content/uploads/sites/2/2022/12/Susan-Hoeppner.jpg
ORGANIZER;CN="Royal%20Conservatory":MAILTO:tickets@rcmusic.ca
GEO:43.6678128;-79.3961048
X-APPLE-STRUCTURED-LOCATION;VALUE=URI;X-ADDRESS=Temerty Theatre 273 Bloor Street West Toronto Ontario M5S 1W2 Canada;X-APPLE-RADIUS=500;X-TITLE=273 Bloor Street West:geo:-79.3961048,43.6678128
END:VEVENT
BEGIN:VEVENT
DTSTART;TZID=America/Toronto:20230121T200000
DTEND;TZID=America/Toronto:20230121T220000
DTSTAMP:20260420T092046
CREATED:20221202T222729Z
LAST-MODIFIED:20221202T222729Z
UID:87727-1674331200-1674338400@www.ludwig-van.com
SUMMARY:The Royal Conservatory of Music | 21C - Fred Hersch and Andrew McAnsh
DESCRIPTION:Iconic jazz pianist\, educator\, and HIV/AIDS activist Fred Hersch and his trio are joined by RCM Quartet-in-Residence\, Dior Quartet\, to perform new works from Hersch’s new album\, Breath by Breath. Toronto-based trumpeter Andrew McAnsh performs Music of The Great Lakes: A Songbook for The Canadian Indigenous\, a five-part suite. \nFred Hersch is a pervasively influential creative force who has shaped the music’s course over more than three decades as an improviser\, composer\, educator\, bandleader\, collaborator\, and recording artist. He has been proclaimed “the most arrestingly innovative pianist in jazz over the last decade” by Vanity Fair\, “an elegant force of musical invention” by the Los Angeles Times\, and “a living legend” by The New Yorker. A 15-time Grammy Award nominee\, Hersch has regularly garnered jazz’s most prestigious awards\, including distinctions as a 2016 Doris Duke Artist\, 2016 and 2018 Jazz Pianist of the Year from the Jazz Journalists Association\, and the 2017 Prix Honorem de Jazz from L’Acádemie Charles Cros for the totality of his career. He placed #2 Jazz Musician of the Year in the 2021 DownBeat Critics Poll and was named #3 Jazz Pianist. He was also honoured as the 2021 International Jazz Artist of the Year by Jazz Magazine (France). \nAward-winning trumpeter\, composer\, educator\, and recent graduate of the Berklee Global Jazz Institute\, Andrew McAnsh was born and raised in Cambridge\, Ontario. McAnsh has performed and studied with notable artists including Esperanza Spalding\, Barry Harris\, Danilo Pérez\, John Patitucci\, Brian Blade\, Laila Biali\, Larnell Lewis\, Bill Dobbins\, Terri Lyne Carrington\, George Garzone\, Pat LaBarbera\, and Hilario Durán.
URL:https://www.ludwig-van.com/toronto/event/royal-conservatory-music-21c-fred-hersch-andrew-mcansh/
LOCATION:Koerner Hall\, 273 Bloor St W\, \, Toronto\, ON\, M5S 1V6\, Canada
CATEGORIES:Orchestra
ATTACH;FMTTYPE=image/jpeg:https://www.ludwig-van.com/toronto/wp-content/uploads/sites/2/2022/12/Fred-Hersch.jpg
ORGANIZER;CN="Royal%20Conservatory":MAILTO:tickets@rcmusic.ca
GEO:43.6679641;-79.3966795
X-APPLE-STRUCTURED-LOCATION;VALUE=URI;X-ADDRESS=Koerner Hall 273 Bloor St W  Toronto ON M5S 1V6 Canada;X-APPLE-RADIUS=500;X-TITLE=273 Bloor St W\,:geo:-79.3966795,43.6679641
END:VEVENT
END:VCALENDAR