BEGIN:VCALENDAR
VERSION:2.0
PRODID:-//Ludwig van Toronto - ECPv5.9.1//NONSGML v1.0//EN
CALSCALE:GREGORIAN
METHOD:PUBLISH
X-WR-CALNAME:Ludwig van Toronto
X-ORIGINAL-URL:https://www.ludwig-van.com/toronto
X-WR-CALDESC:Events for Ludwig van Toronto
BEGIN:VTIMEZONE
TZID:America/Toronto
BEGIN:DAYLIGHT
TZOFFSETFROM:-0500
TZOFFSETTO:-0400
TZNAME:EDT
DTSTART:20230312T070000
END:DAYLIGHT
BEGIN:STANDARD
TZOFFSETFROM:-0400
TZOFFSETTO:-0500
TZNAME:EST
DTSTART:20231105T060000
END:STANDARD
END:VTIMEZONE
BEGIN:VEVENT
DTSTART;TZID=America/Toronto:20230120T193000
DTEND;TZID=America/Toronto:20230120T213000
DTSTAMP:20260420T074959
CREATED:20221102T211157Z
LAST-MODIFIED:20221102T211157Z
UID:85188-1674243000-1674250200@www.ludwig-van.com
SUMMARY:Toronto Symphony Orchestra | Sheku Kanneh-Mason Plays Elgar
DESCRIPTION:Award-winning British cellist Sheku Kanneh-Mason became a household name after his performance at the royal wedding of Prince Harry and Meghan Markle in 2018\, and there’s no better spotlight for his incredible talents than Elgar’s poignant concerto\, one of the most well-known and beloved in the repertoire. It doesn’t get any more beautiful than Ralph Vaughan Williams’s stunning Fantasia on a Theme of Thomas Tallis. And\, be first in the world to hear TSO Composer-Advisor Gary Kulesha’s new symphony\, led by Conductor Emeritus Peter Oundjian.
URL:https://www.ludwig-van.com/toronto/event/toronto-symphony-orchestra-sheku-kanneh-mason-plays-elgar/2023-01-20/
LOCATION:Roy Thomson Hall\, 60 Simcoe St\, Toronto\, Ontario\, M5J 2H5\, Canada
CATEGORIES:Orchestra
ATTACH;FMTTYPE=image/png:https://www.ludwig-van.com/toronto/wp-content/uploads/sites/2/2022/11/TSO_Sheku_Kanneh.png
END:VEVENT
BEGIN:VEVENT
DTSTART;TZID=America/Toronto:20230120T200000
DTEND;TZID=America/Toronto:20230120T220000
DTSTAMP:20260420T074959
CREATED:20221125T200419Z
LAST-MODIFIED:20221125T200419Z
UID:86993-1674244800-1674252000@www.ludwig-van.com
SUMMARY:Sinfonia Toronto | Mozart & Mozetich
DESCRIPTION:Memories and Melodies\nMeditation honouring a grandmother\, Mozart’s ‘Dissonant’ quartet\, and a modern romance for bassoon and marimba \nSinfonia Toronto’s “MOZART & MOZETICH – Memories and Melodies” concert will travel through an unusual and beautiful sonic landscape. A concerto by Canadian composer Marjan Mozetich combines the rich tones of both bassoon and marimba with strings to create gorgeous harmonies and textues in a work that should become as popular as his famous “Affairs of the Heart” violin concerto. \nMétis composer Karen Sunabacka’s evocative “Never to Return” honours her great-great grandmother’s life on the prairies\, and Maestro Nurhan Arman’s orchestral arrangement of Mozart’s “Dissonant” quartet rounds out a diverse program.
URL:https://www.ludwig-van.com/toronto/event/sinfonia-toronto-mozart-mozetich/
LOCATION:Jane Mallet Theatre\, 27 Front St. East\, Toronto\, ON\, M5E\, Canada
CATEGORIES:Orchestra
ATTACH;FMTTYPE=image/png:https://www.ludwig-van.com/toronto/wp-content/uploads/sites/2/2022/11/Sinfonia-Mozart-Mozetich.png
GEO:43.6472494;-79.3763834
X-APPLE-STRUCTURED-LOCATION;VALUE=URI;X-ADDRESS=Jane Mallet Theatre 27 Front St. East Toronto ON M5E Canada;X-APPLE-RADIUS=500;X-TITLE=27 Front St. East:geo:-79.3763834,43.6472494
END:VEVENT
BEGIN:VEVENT
DTSTART;TZID=America/Toronto:20230120T200000
DTEND;TZID=America/Toronto:20230120T220000
DTSTAMP:20260420T074959
CREATED:20221202T220959Z
LAST-MODIFIED:20221202T221919Z
UID:87717-1674244800-1674252000@www.ludwig-van.com
SUMMARY:The Royal Conservatory of Music | 21C - Jean-Michel Blais
DESCRIPTION:Montreal-born Jean-Michel Blais has been a celebrated figure in the post-classical piano world since the release of his critically acclaimed debut album II in 2016. His compositions have earned him a Libera Award\, two Polaris prize nominations\, a #1 on the Billboard Classical chart and a Time magazine top 10 album of the year. \nHis new album\, aubades\, marks the musician’s transition from pianist to composer\, as he writes for an ensemble for the first time in his career. Musical ideas captured in over 600 recorded piano improvisations were transformed by Blais into 11 compositions performed by a 12-person ensemble. During the composition process\, Blais collaborated with Alex Weston\, former music assistant to Philip Glass. The musicians were recorded with close-up microphones\, creating a richly intimate atmosphere that captures the human behind each instrument\, from the mechanics of the woodwind keys to the snap of a double bass string.
URL:https://www.ludwig-van.com/toronto/event/royal-conservatory-music-jean-michel-blais/
LOCATION:Koerner Hall\, 273 Bloor St W\, \, Toronto\, ON\, M5S 1V6\, Canada
CATEGORIES:Orchestra
ATTACH;FMTTYPE=image/jpeg:https://www.ludwig-van.com/toronto/wp-content/uploads/sites/2/2022/12/Jean-Michel-Blais.jpg
ORGANIZER;CN="Royal%20Conservatory":MAILTO:tickets@rcmusic.ca
GEO:43.6679641;-79.3966795
X-APPLE-STRUCTURED-LOCATION;VALUE=URI;X-ADDRESS=Koerner Hall 273 Bloor St W  Toronto ON M5S 1V6 Canada;X-APPLE-RADIUS=500;X-TITLE=273 Bloor St W\,:geo:-79.3966795,43.6679641
END:VEVENT
END:VCALENDAR