BEGIN:VCALENDAR
VERSION:2.0
PRODID:-//Ludwig van Toronto - ECPv5.9.1//NONSGML v1.0//EN
CALSCALE:GREGORIAN
METHOD:PUBLISH
X-WR-CALNAME:Ludwig van Toronto
X-ORIGINAL-URL:https://www.ludwig-van.com/toronto
X-WR-CALDESC:Events for Ludwig van Toronto
BEGIN:VTIMEZONE
TZID:America/Toronto
BEGIN:DAYLIGHT
TZOFFSETFROM:-0500
TZOFFSETTO:-0400
TZNAME:EDT
DTSTART:20220313T070000
END:DAYLIGHT
BEGIN:STANDARD
TZOFFSETFROM:-0400
TZOFFSETTO:-0500
TZNAME:EST
DTSTART:20221106T060000
END:STANDARD
END:VTIMEZONE
BEGIN:VEVENT
DTSTART;TZID=America/Toronto:20221007T193000
DTEND;TZID=America/Toronto:20221007T220000
DTSTAMP:20260419T180151
CREATED:20220905T204531Z
LAST-MODIFIED:20220906T161955Z
UID:78483-1665171000-1665180000@www.ludwig-van.com
SUMMARY:Canadian Opera Company | The Flying Dutchman - Richard Wagner
DESCRIPTION:In a fishing village\, a young woman named Senta has become infatuated with the story of the Flying Dutchman\, a sea captain condemned to sail for eternity. Legend has it that he has been cursed\, and can only step ashore once every seven years—unless he finds true love. \nWhen a ghostly ship anchors near her town’s harbour\, Senta’s fantasies are put to the test in director Christopher Alden’s visually striking production\, inspired by classic Expressionist cinema and Wagner’s feverish\, Romantic score. \nWith the COC Orchestra and Chorus
URL:https://www.ludwig-van.com/toronto/event/flying-dutchman-richard-wagner/2022-10-07/
LOCATION:Four Seasons Centre\, 145 Queen St. W.\, Toronto\, Ontario\, M5H 4G1\, Canada
CATEGORIES:opera
ATTACH;FMTTYPE=image/jpeg:https://www.ludwig-van.com/toronto/wp-content/uploads/sites/2/2022/09/OCO_Flying-Dutchman2.jpg
END:VEVENT
BEGIN:VEVENT
DTSTART;TZID=America/Toronto:20221007T200000
DTEND;TZID=America/Toronto:20221007T220000
DTSTAMP:20260419T180151
CREATED:20220904T220353Z
LAST-MODIFIED:20220906T162128Z
UID:78124-1665172800-1665180000@www.ludwig-van.com
SUMMARY:The Royal Conservatory | Joshua Weilerstein conducts the Royal Conservatory Orchestra
DESCRIPTION:“A Born Communicator” (Le Temps)\, Joshua Weilerstein is the Artistic Director of the Orchestre de Chambre de Lausanne and enjoys a flourishing guest conducting career. He has been praised for “intense\, eloquently moving\, and spectacularly knife-edge” performances. \nPart of the Temerty Orchestral Program at The Glenn Gould School (GGS)\, the Royal Conservatory Orchestra (RCO) is widely regarded as an outstanding ensemble and one of the best training orchestras in North America. It consists of instrumental students in the undergraduate and graduate programs of the GGS. Graduates of the RCO have joined the ranks of the greatest orchestras in the world. \nProgram:\nDinuk Wijeratne: Pop Songs on Antique Poems\nDmitri Shostakovich: Violin Concerto No. 1 in A Minor\, op. 77\n(Yu Kai Sun\, violin)\nJohannes Brahms: Symphony No. 4 in E Minor\, op. 98 \nUnable to attend in person? Watch this event for free from anywhere in the world at RoyalConservatory.Live.
URL:https://www.ludwig-van.com/toronto/event/joshua-weilerstein-conducts-royal-conservatory-orchestra/
LOCATION:Koerner Hall\, 273 Bloor St W\, \, Toronto\, ON\, M5S 1V6\, Canada
CATEGORIES:Orchestra
ATTACH;FMTTYPE=image/jpeg:https://www.ludwig-van.com/toronto/wp-content/uploads/sites/2/2022/09/RC_Joshua-Weilerstein.jpg
ORGANIZER;CN="Royal%20Conservatory":MAILTO:tickets@rcmusic.ca
GEO:43.6679641;-79.3966795
X-APPLE-STRUCTURED-LOCATION;VALUE=URI;X-ADDRESS=Koerner Hall 273 Bloor St W  Toronto ON M5S 1V6 Canada;X-APPLE-RADIUS=500;X-TITLE=273 Bloor St W\,:geo:-79.3966795,43.6679641
END:VEVENT
END:VCALENDAR