BEGIN:VCALENDAR
VERSION:2.0
PRODID:-//Ludwig van Toronto - ECPv5.9.1//NONSGML v1.0//EN
CALSCALE:GREGORIAN
METHOD:PUBLISH
X-WR-CALNAME:Ludwig van Toronto
X-ORIGINAL-URL:https://www.ludwig-van.com/toronto
X-WR-CALDESC:Events for Ludwig van Toronto
BEGIN:VTIMEZONE
TZID:America/Toronto
BEGIN:DAYLIGHT
TZOFFSETFROM:-0500
TZOFFSETTO:-0400
TZNAME:EDT
DTSTART:20220313T070000
END:DAYLIGHT
BEGIN:STANDARD
TZOFFSETFROM:-0400
TZOFFSETTO:-0500
TZNAME:EST
DTSTART:20221106T060000
END:STANDARD
END:VTIMEZONE
BEGIN:VEVENT
DTSTART;TZID=America/Toronto:20221001T193000
DTEND;TZID=America/Toronto:20221001T210000
DTSTAMP:20260422T051234
CREATED:20220905T133043Z
LAST-MODIFIED:20220906T161113Z
UID:78417-1664652600-1664658000@www.ludwig-van.com
SUMMARY:The Royal Conservatory | The Pilgrim's Way - Toronto Mendelssohn Choir
DESCRIPTION:Centered on Joby Talbot’s Path of Miracles\, this concert explores the narrative of displacement\, identity\, and individual life’s journeys. Talbot’s masterwork for a cappella voices is a musical pilgrimage describing the journey on the Camino de Santiago. Through its four contrasting movements based on the main posts of the Camino (Roncesvalles\, Burgos\, León\, and Santiago) the music leads the listener on a unique reflective experience. Complemented by the work I Forgive by composer-in-residence Shireen Abu-Khader\, which tells the powerful story of Egyptian writer and activist Sarah Hejazi\, this concert is a powerful celebration of the multiple journeys and identities that make up our communities. \nJean-Sébastien Vallée\, conductor\nToronto Mendelssohn Singers\nShireen Abu-Khader\, composer-in-residence\nRaneem Barakat\, mezzo-soprano \nVenue: Trinity-St. Paul’s United Church\, 427 Bloor St W\, Toronto\, ON M5S 1X7\nDuration: 1h20 minutes \nVoxTix can be purchased online\, in person and over the phone but are only available for pick up at the Box Office or concert and I.D. must be provided.
URL:https://www.ludwig-van.com/toronto/event/pilgrims-way-toronto-mendelssohn-choir/
LOCATION:Trinity St-Paul’s Centre\, 427 Bloor Street West\, Toronto\, ON\, M5S 1X7\, Canada
CATEGORIES:Vocal
ATTACH;FMTTYPE=image/jpeg:https://www.ludwig-van.com/toronto/wp-content/uploads/sites/2/2022/09/Pilgrims_Way_Toronto-Mendelssohn_Choir.jpg
GEO:43.6661974;-79.4056008
X-APPLE-STRUCTURED-LOCATION;VALUE=URI;X-ADDRESS=Trinity St-Paul’s Centre 427 Bloor Street West Toronto ON M5S 1X7 Canada;X-APPLE-RADIUS=500;X-TITLE=427 Bloor Street West:geo:-79.4056008,43.6661974
END:VEVENT
END:VCALENDAR