BEGIN:VCALENDAR
VERSION:2.0
PRODID:-//Ludwig van Toronto - ECPv5.9.1//NONSGML v1.0//EN
CALSCALE:GREGORIAN
METHOD:PUBLISH
X-WR-CALNAME:Ludwig van Toronto
X-ORIGINAL-URL:https://www.ludwig-van.com/toronto
X-WR-CALDESC:Events for Ludwig van Toronto
BEGIN:VTIMEZONE
TZID:America/Toronto
BEGIN:DAYLIGHT
TZOFFSETFROM:-0500
TZOFFSETTO:-0400
TZNAME:EDT
DTSTART:20220313T070000
END:DAYLIGHT
BEGIN:STANDARD
TZOFFSETFROM:-0400
TZOFFSETTO:-0500
TZNAME:EST
DTSTART:20221106T060000
END:STANDARD
END:VTIMEZONE
BEGIN:VEVENT
DTSTART;TZID=America/Toronto:20220930T200000
DTEND;TZID=America/Toronto:20220930T220000
DTSTAMP:20260420T062145
CREATED:20220904T214120Z
LAST-MODIFIED:20220906T160749Z
UID:78117-1664568000-1664575200@www.ludwig-van.com
SUMMARY:The Royal Conservatory | Commemorate Truth & Reconciliation: Tomson Highway\, Rebecca Cuddy\, Sarain Fox\, and more
DESCRIPTION:Free tickets will be available starting Friday\, September 16\, 2022 at 10am.\nCall 416.408.0208 or click here to request tickets in advance.\nThe Royal Conservatory starts the new Koerner Hall concert season by honouring the lives and knowledge of Indigenous people. Dancer\, storyteller\, and activist Sarain Fox guides an evening that includes Juno Award nominee Nimkii; then Rebecca Cuddy sings a song cycle by composer Ian Cusson and poet Marylin Dumont (all Métis) accompanied by the New Orford String Quartet and Philip Chiu; and Tomson Highway unveils his irreverent and freewheeling “Cree Country” band with singer Patricia Cano. Co-curated with Denise Bolduc.
URL:https://www.ludwig-van.com/toronto/event/commemorate-truth-reconciliation-tomson-highway-rebecca-cuddy-sarain-fox/
LOCATION:Koerner Hall\, 273 Bloor St W\, \, Toronto\, ON\, M5S 1V6\, Canada
ATTACH;FMTTYPE=image/jpeg:https://www.ludwig-van.com/toronto/wp-content/uploads/sites/2/2022/09/Royal-Conservatory-Truth-Reconciliation.jpg
ORGANIZER;CN="Royal%20Conservatory":MAILTO:tickets@rcmusic.ca
GEO:43.6679641;-79.3966795
X-APPLE-STRUCTURED-LOCATION;VALUE=URI;X-ADDRESS=Koerner Hall 273 Bloor St W  Toronto ON M5S 1V6 Canada;X-APPLE-RADIUS=500;X-TITLE=273 Bloor St W\,:geo:-79.3966795,43.6679641
END:VEVENT
END:VCALENDAR