BEGIN:VCALENDAR
VERSION:2.0
PRODID:-//Ludwig van Toronto - ECPv5.9.1//NONSGML v1.0//EN
CALSCALE:GREGORIAN
METHOD:PUBLISH
X-WR-CALNAME:Ludwig van Toronto
X-ORIGINAL-URL:https://www.ludwig-van.com/toronto
X-WR-CALDESC:Events for Ludwig van Toronto
BEGIN:VTIMEZONE
TZID:America/Toronto
BEGIN:DAYLIGHT
TZOFFSETFROM:-0500
TZOFFSETTO:-0400
TZNAME:EDT
DTSTART:20220313T070000
END:DAYLIGHT
BEGIN:STANDARD
TZOFFSETFROM:-0400
TZOFFSETTO:-0500
TZNAME:EST
DTSTART:20221106T060000
END:STANDARD
END:VTIMEZONE
BEGIN:VEVENT
DTSTART;TZID=America/Toronto:20220929T200000
DTEND;TZID=America/Toronto:20220929T220000
DTSTAMP:20260420T075030
CREATED:20220905T153350Z
LAST-MODIFIED:20220906T160421Z
UID:78444-1664481600-1664488800@www.ludwig-van.com
SUMMARY:Toronto Symphony Orchestra | Saint-Saëns Organ Symphony
DESCRIPTION:“I gave everything to it I was able to give\,” declared Camille Saint-Saëns of his Third Symphony. “What I have here accomplished\, I will never achieve again.” Conductor Gemma New and the Toronto Symphony pull out all the stops in a performance of this dramatic\, late-Romantic masterwork\, featuring the sonic splendour of Roy Thomson Hall’s magnificent pipe organ. A visit to Sicily’s awe-inspiring Mount Etna gave rise to Canadian composer Samy Moussa’s Violin Concerto\, subtitled “Adrano” in reference to the ancient fire god said to have lived beneath\, and it shines in the hands of Canadian phenom Kerson Leong. Leong also plays soul-stirring music of Chausson\, and the concerts open with Mendelssohn’s enchanting musical postcard of Scotland\, The Hebrides. \n 
URL:https://www.ludwig-van.com/toronto/event/saint-saens-organ-symphony/2022-09-29/
LOCATION:Roy Thomson Hall\, 60 Simcoe St\, Toronto\, Ontario\, M5J 2H5\, Canada
ATTACH;FMTTYPE=image/jpeg:https://www.ludwig-van.com/toronto/wp-content/uploads/sites/2/2022/09/Camille-Saint-Saens_TSO.jpg
END:VEVENT
END:VCALENDAR