BEGIN:VCALENDAR
VERSION:2.0
PRODID:-//Ludwig van Toronto - ECPv5.9.1//NONSGML v1.0//EN
CALSCALE:GREGORIAN
METHOD:PUBLISH
X-WR-CALNAME:Ludwig van Toronto
X-ORIGINAL-URL:https://www.ludwig-van.com/toronto
X-WR-CALDESC:Events for Ludwig van Toronto
BEGIN:VTIMEZONE
TZID:America/Toronto
BEGIN:DAYLIGHT
TZOFFSETFROM:-0500
TZOFFSETTO:-0400
TZNAME:EDT
DTSTART:20220313T070000
END:DAYLIGHT
BEGIN:STANDARD
TZOFFSETFROM:-0400
TZOFFSETTO:-0500
TZNAME:EST
DTSTART:20221106T060000
END:STANDARD
END:VTIMEZONE
BEGIN:VEVENT
DTSTART;TZID=America/Toronto:20220925T140000
DTEND;TZID=America/Toronto:20220925T160000
DTSTAMP:20260420T142321
CREATED:20220905T131906Z
LAST-MODIFIED:20220906T160235Z
UID:78414-1664114400-1664121600@www.ludwig-van.com
SUMMARY:The Royal Conservatory | John O'Conor
DESCRIPTION:“A pianist of unbounding sensitivity” (Gramophone)\, John O’Conor performs the final three piano sonatas by Beethoven\, considered the pinnacle of his works. Irish pianist and pedagogue\, and former director of the Royal Irish Academy of Music\, O’Conor “represents a vanishing tradition that favors inner expression and atmosphere over showmanship and bravura” (Chicago Tribune). “Exquisite playing.” (The New York Times) \nAll Ludwig van Beethoven program\nPiano Sonata No. 30 in E Major\, op. 109\nPiano Sonata No. 31 in A flat Major\, op. 110\nPiano Sonata No. 32 in C Minor\, op. 111
URL:https://www.ludwig-van.com/toronto/event/john-oconor/
LOCATION:Mazzoleni Concert Hall\, 273 Bloor St West\, Toronto\, Ontario\, M5S 1W2\, Canada
CATEGORIES:piano
ATTACH;FMTTYPE=image/jpeg:https://www.ludwig-van.com/toronto/wp-content/uploads/sites/2/2022/09/John-OConor.jpg
ORGANIZER;CN="Royal%20Conservatory":MAILTO:tickets@rcmusic.ca
END:VEVENT
BEGIN:VEVENT
DTSTART;TZID=America/Toronto:20220925T143000
DTEND;TZID=America/Toronto:20220925T163000
DTSTAMP:20260420T142321
CREATED:20220907T181255Z
LAST-MODIFIED:20220907T181255Z
UID:78733-1664116200-1664123400@www.ludwig-van.com
SUMMARY:Opera Sustenida | Il trovatore
DESCRIPTION:Opera Sustenida is delighted to present their first LIVE opera with a hybrid multimedia-enhanced production of Verdi’s celebrated Il trovatore!\n\nFeaturing Canadian artists Stephanie DeCiantis\, Monica Zerbe\, Hassan Anami\, Andrew Tees\, and Dylan Wright\, with Tonatiuh Abrego and Daniella Theresia in supporting roles. With performances from both live and virtual community chorus members from across Canada. \nMusic Direction by Suzanne Yeo.\nStage Direction by Stephanie DeCiantis.\nIvan Jovanovic\, Pianist. \nThree Live Performances in Toronto this September!\n2:30pm on Sunday\, September 18 at The Heliconian Hall\n7pm on Saturday\, September 24 at Joseph D. Carrier Art Gallery\, Columbus Centre\n2:30pm on Sunday\, September 25 at The Arts & Letters Club\n\nTicket Prices:\nGeneral Admission: $35 each (plus fees)\nDiva Fan: $45 each (plus fees) – Heliconian only\nVIP Ticket: $60 each (plus fees)\nTickets Available at the Door (cash only) \nTickets HERE.
URL:https://www.ludwig-van.com/toronto/event/opera-sustenida-il-trovatore-3/
LOCATION:Arts & Letters Club\, 14 Elm St\, Toronto\, Ontario\, M5G 1G7\, Canada
CATEGORIES:opera
ATTACH;FMTTYPE=image/jpeg:https://www.ludwig-van.com/toronto/wp-content/uploads/sites/2/2022/09/Opera-Sustenida_Verdis-Il-trovatore.jpg
GEO:43.6578866;-79.3825221
X-APPLE-STRUCTURED-LOCATION;VALUE=URI;X-ADDRESS=Arts & Letters Club 14 Elm St Toronto Ontario M5G 1G7 Canada;X-APPLE-RADIUS=500;X-TITLE=14 Elm St:geo:-79.3825221,43.6578866
END:VEVENT
END:VCALENDAR