BEGIN:VCALENDAR
VERSION:2.0
PRODID:-//Ludwig van Toronto - ECPv5.9.1//NONSGML v1.0//EN
CALSCALE:GREGORIAN
METHOD:PUBLISH
X-WR-CALNAME:Ludwig van Toronto
X-ORIGINAL-URL:https://www.ludwig-van.com/toronto
X-WR-CALDESC:Events for Ludwig van Toronto
BEGIN:VTIMEZONE
TZID:America/Toronto
BEGIN:DAYLIGHT
TZOFFSETFROM:-0500
TZOFFSETTO:-0400
TZNAME:EDT
DTSTART:20220313T070000
END:DAYLIGHT
BEGIN:STANDARD
TZOFFSETFROM:-0400
TZOFFSETTO:-0500
TZNAME:EST
DTSTART:20221106T060000
END:STANDARD
END:VTIMEZONE
BEGIN:VEVENT
DTSTART;TZID=America/Toronto:20220923T200000
DTEND;TZID=America/Toronto:20220923T220000
DTSTAMP:20260420T180740
CREATED:20220907T164023Z
LAST-MODIFIED:20220907T164023Z
UID:78705-1663963200-1663970400@www.ludwig-van.com
SUMMARY:Tafelmusik | Handel's London
DESCRIPTION:Experience the energy of baroque London\, a lively metropolis where musical influences intersect.\nPicture a vibrant city humming with creative spirit\, attracting artists who exchange diverse ideas and perspectives. Though it sounds like present day New York or Toronto\, this is 18th-century London—the inspiration for our opening concert of the season. Guest directed by the “brilliant” (New York Times) Grammy Award winning harpsichordist Avi Stein\, this program channels the cosmopolitan energy of baroque London\, a city ripe with opportunities for cross-pollination. \nA magnet for artists and composers\, London drew musical influencers from all over Europe\, including Handel (from Germany via Italy)\, Kusser (from Hungary via Germany and France)\, Geminiani (from Italy)\, and Hellendaal (from the Netherlands). Our program includes four Grand Concertos\, the English take on the Italian concerto grosso\, and the perfect vehicle for celebrating this colourful intersection of styles. \nLondon natives were not immune to the city’s cosmopolitan trends. Henry Purcell never left his hometown\, but imbued his music with the French and Italian influences he heard around him. Purcell in turn inspired the late Tafelmusik cellist Allen Whear\, who based his composition Short Story on the Chaconne from Fairy Queen\, reaching across the centuries from one vibrant city to another.
URL:https://www.ludwig-van.com/toronto/event/tafelmusik-handels-london/2022-09-23/
LOCATION:Trinity-St. Paul’s Centre\, Jeanne Lamon Hall\, 427 Bloor St. W\, Toronto\, Ontario\, M5S 1X6\, Canada
CATEGORIES:Orchestra
ATTACH;FMTTYPE=image/jpeg:https://www.ludwig-van.com/toronto/wp-content/uploads/sites/2/2022/09/Tafelmusik_handel_london.jpg
END:VEVENT
END:VCALENDAR