BEGIN:VCALENDAR
VERSION:2.0
PRODID:-//Ludwig van Toronto - ECPv5.9.1//NONSGML v1.0//EN
CALSCALE:GREGORIAN
METHOD:PUBLISH
X-WR-CALNAME:Ludwig van Toronto
X-ORIGINAL-URL:https://www.ludwig-van.com/toronto
X-WR-CALDESC:Events for Ludwig van Toronto
BEGIN:VTIMEZONE
TZID:America/Toronto
BEGIN:DAYLIGHT
TZOFFSETFROM:-0500
TZOFFSETTO:-0400
TZNAME:EDT
DTSTART:20220313T070000
END:DAYLIGHT
BEGIN:STANDARD
TZOFFSETFROM:-0400
TZOFFSETTO:-0500
TZNAME:EST
DTSTART:20221106T060000
END:STANDARD
END:VTIMEZONE
BEGIN:VEVENT
DTSTART;TZID=America/Toronto:20220921T200000
DTEND;TZID=America/Toronto:20220921T220000
DTSTAMP:20260420T212210
CREATED:20220905T131056Z
LAST-MODIFIED:20220906T160016Z
UID:78410-1663790400-1663797600@www.ludwig-van.com
SUMMARY:The Royal Conservatory | Soundstreams presents: Choral Splendour
DESCRIPTION:Legendary Estonian Conductor Tõnu Kaljuste returns to Toronto to conduct Pärt’s masterpiece Stabat Mater\, combined with the world premiere of LEX by Paul Frehner. Also featuring the world premiere of the film Zipangu\, directed by Michael Greyeyes.
URL:https://www.ludwig-van.com/toronto/event/soundstreams-presents-choral-splendour/
LOCATION:Koerner Hall\, 273 Bloor St W\, \, Toronto\, ON\, M5S 1V6\, Canada
ATTACH;FMTTYPE=image/jpeg:https://www.ludwig-van.com/toronto/wp-content/uploads/sites/2/2022/09/Soundstreams.jpg
GEO:43.6679641;-79.3966795
X-APPLE-STRUCTURED-LOCATION;VALUE=URI;X-ADDRESS=Koerner Hall 273 Bloor St W  Toronto ON M5S 1V6 Canada;X-APPLE-RADIUS=500;X-TITLE=273 Bloor St W\,:geo:-79.3966795,43.6679641
END:VEVENT
BEGIN:VEVENT
DTSTART;TZID=America/Toronto:20220921T200000
DTEND;TZID=America/Toronto:20220921T220000
DTSTAMP:20260420T212210
CREATED:20220905T152021Z
LAST-MODIFIED:20220906T153609Z
UID:78435-1663790400-1663797600@www.ludwig-van.com
SUMMARY:Toronto Symphony Orchestra | Gimeno Conducts Chopin & Scheherazade
DESCRIPTION:Lose yourself in the magical world of 1\,001 Nights when Music Director Gustavo Gimeno leads Rimsky-Korsakov’s bewitching Scheherazade—one of classical music’s most dramatic\, exciting\, and popular works! Spotlighting the prodigious talents of Canadian pianist Bruce Liu\, who became the first Canadian to win the prestigious Chopin International Piano Competition in 2021\, Chopin’s Piano Concerto No. 2 bespeaks its young composer’s innermost thoughts and desires: unable to express his love for Konstancja Gladkowska in words\, he poured it into this tender and exquisite music. Myth becomes music in Lera Auerbach’s scintillating Icarus\, and Kevin Lau’s world première Celebration Prelude opens the performances in a joyful\, festive fashion.
URL:https://www.ludwig-van.com/toronto/event/gimeno-conducts-chopin-scheherazade/2022-09-21/
LOCATION:Roy Thomson Hall\, 60 Simcoe St\, Toronto\, Ontario\, M5J 2H5\, Canada
CATEGORIES:Orchestra
ATTACH;FMTTYPE=image/jpeg:https://www.ludwig-van.com/toronto/wp-content/uploads/sites/2/2022/09/Gustavo-Gimeno_TSO.jpg
END:VEVENT
END:VCALENDAR