BEGIN:VCALENDAR
VERSION:2.0
PRODID:-//Ludwig van Toronto - ECPv5.9.1//NONSGML v1.0//EN
CALSCALE:GREGORIAN
METHOD:PUBLISH
X-WR-CALNAME:Ludwig van Toronto
X-ORIGINAL-URL:https://www.ludwig-van.com/toronto
X-WR-CALDESC:Events for Ludwig van Toronto
BEGIN:VTIMEZONE
TZID:America/Toronto
BEGIN:DAYLIGHT
TZOFFSETFROM:-0500
TZOFFSETTO:-0400
TZNAME:EDT
DTSTART:20220313T070000
END:DAYLIGHT
BEGIN:STANDARD
TZOFFSETFROM:-0400
TZOFFSETTO:-0500
TZNAME:EST
DTSTART:20221106T060000
END:STANDARD
END:VTIMEZONE
BEGIN:VEVENT
DTSTART;TZID=America/Toronto:20220917T193000
DTEND;TZID=America/Toronto:20220917T213000
DTSTAMP:20260420T031031
CREATED:20220905T130125Z
LAST-MODIFIED:20220906T155655Z
UID:78403-1663443000-1663450200@www.ludwig-van.com
SUMMARY:The Royal Conservatory | Canadian Chinese Society for the Arts presents Winter Waltz Concert
DESCRIPTION:The Canadian Chinese Society for the Arts Symphony Orchestra is delighted to return to the Toronto stage after a spectacular appearance in Beijing\, performing at the invitation of the Chinese government in the “Meet in Beijing International Festival.” \nThe “Winter Waltz” Gala Concert is one of a series celebrating classical music in both Western and Chinese traditions. Earlier concerts were performed to sold out audiences in Toronto’s George Weston Recital Hall and Koerner Hall\, TELUS Centre for Performing Arts. This evening features Angel Wang\, violinist\, the orchestra’s founder and principal artist. In China\, Angel was a member of the Tianjin Symphony Orchestra and established the Angel Trio\, performing chamber music throughout the country. In Canada\, she is a veteran of both stage and screen\, most recently the Concert Master for three of Richard Clayderman’s North American tours. Angel is a faculty member at The Royal Conservatory of Music. \nAngel and the orchestra will take the audience on an elegant musical journey through China and old world Europe in a program of works by Vivaldi\, Tchaikovsky\, Johann Strauss Jr.\, Chen Yao-Xin\, He Fang\, He Zhan Hao\, and Chen Gang.
URL:https://www.ludwig-van.com/toronto/event/canadian-chinese-society-arts-presents-winter-waltz-concert/
LOCATION:Koerner Hall\, 273 Bloor St W\, \, Toronto\, ON\, M5S 1V6\, Canada
CATEGORIES:Orchestra
ATTACH;FMTTYPE=image/jpeg:https://www.ludwig-van.com/toronto/wp-content/uploads/sites/2/2022/09/Canadian-Chinese-Society_Angel_Wang.jpg
GEO:43.6679641;-79.3966795
X-APPLE-STRUCTURED-LOCATION;VALUE=URI;X-ADDRESS=Koerner Hall 273 Bloor St W  Toronto ON M5S 1V6 Canada;X-APPLE-RADIUS=500;X-TITLE=273 Bloor St W\,:geo:-79.3966795,43.6679641
END:VEVENT
END:VCALENDAR