BEGIN:VCALENDAR
VERSION:2.0
PRODID:-//Ludwig van Toronto - ECPv5.9.1//NONSGML v1.0//EN
CALSCALE:GREGORIAN
METHOD:PUBLISH
X-WR-CALNAME:Ludwig van Toronto
X-ORIGINAL-URL:https://www.ludwig-van.com/toronto
X-WR-CALDESC:Events for Ludwig van Toronto
BEGIN:VTIMEZONE
TZID:America/Toronto
BEGIN:DAYLIGHT
TZOFFSETFROM:-0500
TZOFFSETTO:-0400
TZNAME:EDT
DTSTART:20220313T070000
END:DAYLIGHT
BEGIN:STANDARD
TZOFFSETFROM:-0400
TZOFFSETTO:-0500
TZNAME:EST
DTSTART:20221106T060000
END:STANDARD
END:VTIMEZONE
BEGIN:VEVENT
DTSTART;TZID=America/Toronto:20220723T160000
DTEND;TZID=America/Toronto:20220723T173000
DTSTAMP:20260420T110501
CREATED:20220628T132645Z
LAST-MODIFIED:20220628T132645Z
UID:75855-1658592000-1658597400@www.ludwig-van.com
SUMMARY:Toronto Summer Music Festival | The Sorrows Of Young Werther: Mozart & Brahms
DESCRIPTION:ReGeneration concerts feature our TSM Academy Fellows—the rising stars of classical chamber music—performing on stage with their Mentors\, the top pedagogues and performers of today. \nMozart: Divertimento in E-flat Major\, K. 563 \nKyung Ah Oh\, Jennifer Stumm*\, Dale Jeong \nBrahms: Piano Quartet No. 3 in C minor\, Op. 60 \nJessy Je Young Kim\, Rémi Pelletier*\, Sara Scanlon\, Jonathan Mak
URL:https://www.ludwig-van.com/toronto/event/toronto-summer-music-festival-sorrows-young-werther-mozart-brahms/
LOCATION:Walter Hall\, 80 Queens Park\, Toronto\, ON\, M5S 2C5\, Canada
CATEGORIES:Chamber music,Festival
ATTACH;FMTTYPE=image/jpeg:https://www.ludwig-van.com/toronto/wp-content/uploads/sites/2/2022/06/Regen.jpg
GEO:43.666508;-79.3944708
X-APPLE-STRUCTURED-LOCATION;VALUE=URI;X-ADDRESS=Walter Hall 80 Queens Park Toronto ON M5S 2C5 Canada;X-APPLE-RADIUS=500;X-TITLE=80 Queens Park:geo:-79.3944708,43.666508
END:VEVENT
BEGIN:VEVENT
DTSTART;TZID=America/Toronto:20220723T193000
DTEND;TZID=America/Toronto:20220723T210000
DTSTAMP:20260420T110501
CREATED:20220628T132851Z
LAST-MODIFIED:20220628T132851Z
UID:75857-1658604600-1658610000@www.ludwig-van.com
SUMMARY:Toronto Summer Music Festival | The Eye Of The Storm: Mozart & Shostakovich
DESCRIPTION:ReGeneration concerts feature our TSM Academy Fellows—the rising stars of classical chamber music—performing on stage with their Mentors\, the top pedagogues and performers of today. \nMozart: String Quartet No. 15\, K. 421 \nHannah Corbett\, Isabella Egawa\, Syara Robert\, Sæunn Thorsteindóttir* \nMozart: String Quintet No. 4 in G minor\, K. 516 \nJennifer Koh*\, David Baik\, Kyungrok Grace Moon\, Serena Hsu\, David Liam Roberts \nShostakovich: Piano Quintet in G minor\, Op. 57 \nJeremy Lap Hei Hao\, Ariana Kim*\, Molly Wise\, Solina Lee\, Stephanie Tang
URL:https://www.ludwig-van.com/toronto/event/toronto-summer-music-festival-eye-storm-mozart-shostakovich/
LOCATION:Walter Hall\, 80 Queens Park\, Toronto\, ON\, M5S 2C5\, Canada
CATEGORIES:Chamber music,Festival
ATTACH;FMTTYPE=image/jpeg:https://www.ludwig-van.com/toronto/wp-content/uploads/sites/2/2022/06/Regen-Andrew.jpg
GEO:43.666508;-79.3944708
X-APPLE-STRUCTURED-LOCATION;VALUE=URI;X-ADDRESS=Walter Hall 80 Queens Park Toronto ON M5S 2C5 Canada;X-APPLE-RADIUS=500;X-TITLE=80 Queens Park:geo:-79.3944708,43.666508
END:VEVENT
END:VCALENDAR