BEGIN:VCALENDAR
VERSION:2.0
PRODID:-//Ludwig van Toronto - ECPv5.9.1//NONSGML v1.0//EN
CALSCALE:GREGORIAN
METHOD:PUBLISH
X-WR-CALNAME:Ludwig van Toronto
X-ORIGINAL-URL:https://www.ludwig-van.com/toronto
X-WR-CALDESC:Events for Ludwig van Toronto
BEGIN:VTIMEZONE
TZID:America/Toronto
BEGIN:DAYLIGHT
TZOFFSETFROM:-0500
TZOFFSETTO:-0400
TZNAME:EDT
DTSTART:20220313T070000
END:DAYLIGHT
BEGIN:STANDARD
TZOFFSETFROM:-0400
TZOFFSETTO:-0500
TZNAME:EST
DTSTART:20221106T060000
END:STANDARD
END:VTIMEZONE
BEGIN:VEVENT
DTSTART;TZID=America/Toronto:20220721T193000
DTEND;TZID=America/Toronto:20220721T213000
DTSTAMP:20260420T141948
CREATED:20220628T131957Z
LAST-MODIFIED:20220628T132027Z
UID:75851-1658431800-1658439000@www.ludwig-van.com
SUMMARY:Toronto Summer Music Festival | Echo Chamber Toronto: Poetry In Motion
DESCRIPTION:Echo Chamber Toronto is a performance series that intertwines contemporary dance with live chamber music. This concert explores the relationship of music and poetry with a program featuring Vaughan Williams’ evocative The Lark Ascending and Schönberg’s exquisite masterpiece Verklärte Nacht. The poetry on which these works are based have prevalent elements of movement\, lending themselves beautifully to dance. \nEcho Chamber Toronto \nAaron Schwebel\, violin\nSheila Jaffé\, violin\nKeith Hamm\, viola\nRémi Pelletier\, viola\nLeana Rutt\, cello\nJulie Hereish\, cello\nPhilip Chiu\, piano\nAnisa Tejpar\, dancer\nJarrett Siddall\, dancer\nChristian Lavigne\, dancer\nWilliam Yong\, choreographer \nRalph Vaughan Williams: The Lark Ascending \nClaude Debussy: Suite Bergamasque L. 75\, III. “Clair de lune” \nGabriel Fauré: Trois mélodies\, Op. 7\, No. 1\, “Après un rêve” \nClaude Debussy: Préludes\, Premier Livre\, L.117\, VIII. “La fille aux cheveux de lin” \nArnold Schönberg: Verklärte Nacht\, Op. 4 \n$20–56
URL:https://www.ludwig-van.com/toronto/event/toronto-summer-music-festival-echo-chamber-toronto-poetry-motion/
LOCATION:Isabel Bader Theatre\, 93 Charles St W\, Toronto\, Ontario\, M5S 2C7\, Canada
CATEGORIES:Chamber music,Contemporary Music,Dance,Festival
ATTACH;FMTTYPE=image/jpeg:https://www.ludwig-van.com/toronto/wp-content/uploads/sites/2/2022/06/Echo-Chamber.jpg
END:VEVENT
END:VCALENDAR