BEGIN:VCALENDAR
VERSION:2.0
PRODID:-//Ludwig van Toronto - ECPv5.9.1//NONSGML v1.0//EN
CALSCALE:GREGORIAN
METHOD:PUBLISH
X-WR-CALNAME:Ludwig van Toronto
X-ORIGINAL-URL:https://www.ludwig-van.com/toronto
X-WR-CALDESC:Events for Ludwig van Toronto
BEGIN:VTIMEZONE
TZID:America/Toronto
BEGIN:DAYLIGHT
TZOFFSETFROM:-0500
TZOFFSETTO:-0400
TZNAME:EDT
DTSTART:20220313T070000
END:DAYLIGHT
BEGIN:STANDARD
TZOFFSETFROM:-0400
TZOFFSETTO:-0500
TZNAME:EST
DTSTART:20221106T060000
END:STANDARD
END:VTIMEZONE
BEGIN:VEVENT
DTSTART;TZID=America/Toronto:20220720T110000
DTEND;TZID=America/Toronto:20220720T120000
DTSTAMP:20260420T160347
CREATED:20220628T130351Z
LAST-MODIFIED:20220628T130351Z
UID:75839-1658314800-1658318400@www.ludwig-van.com
SUMMARY:Toronto Summer Music Festival | Kids Concert With Millan And Faye
DESCRIPTION:Opera comedienne Kyra Millan and her musical partner Tina Faye invite audiences into the world of opera through a brilliantly funny concert full of operatic favourites and well-known classical tunes. \nTickets for this concert will be made available as of July 11 at 10 am via our website\, by phone\, or in-person at the RCM Weston Family Box Office.
URL:https://www.ludwig-van.com/toronto/event/toronto-summer-music-festival-kids-concert-millan-faye/
LOCATION:Walter Hall\, 80 Queens Park\, Toronto\, ON\, M5S 2C5\, Canada
CATEGORIES:Festival,Free,Kids
ATTACH;FMTTYPE=image/jpeg:https://www.ludwig-van.com/toronto/wp-content/uploads/sites/2/2022/06/FESTIVAL-EVENT-KIDS-CONCERT-KIDS-CONCERT-WITH-MILLAN-AND-FAYE.jpg
GEO:43.666508;-79.3944708
X-APPLE-STRUCTURED-LOCATION;VALUE=URI;X-ADDRESS=Walter Hall 80 Queens Park Toronto ON M5S 2C5 Canada;X-APPLE-RADIUS=500;X-TITLE=80 Queens Park:geo:-79.3944708,43.666508
END:VEVENT
BEGIN:VEVENT
DTSTART;TZID=America/Toronto:20220720T170000
DTEND;TZID=America/Toronto:20220720T180000
DTSTAMP:20260420T160347
CREATED:20220628T130957Z
LAST-MODIFIED:20220628T130957Z
UID:75841-1658336400-1658340000@www.ludwig-van.com
SUMMARY:Toronto Summer Music Festival | Han Chen
DESCRIPTION:Pianist and composer Han Chen presents a program featuring works by Beethoven\, Ligeti\, and Liszt. \nShuffle Hour concerts are on a first-come\, first-served basis.
URL:https://www.ludwig-van.com/toronto/event/toronto-summer-music-festival-han-chen/
LOCATION:Heliconian Hall\, 35 Hazelton Avenue\, Toronto\, ON\, M5R 2E3\, Canada
CATEGORIES:Festival,Free,piano
ATTACH;FMTTYPE=image/jpeg:https://www.ludwig-van.com/toronto/wp-content/uploads/sites/2/2022/06/han-chen.jpg
END:VEVENT
BEGIN:VEVENT
DTSTART;TZID=America/Toronto:20220720T193000
DTEND;TZID=America/Toronto:20220720T213000
DTSTAMP:20260420T160347
CREATED:20220628T131754Z
LAST-MODIFIED:20220628T131754Z
UID:75843-1658345400-1658352600@www.ludwig-van.com
SUMMARY:Toronto Summer Music Festival | Aisslinn Nosky
DESCRIPTION:Aisslinn Nosky\, who enthralls audiences around the world with her striking interpretations and impeccable technique\, is joined in a concert of Baroque gems by harpsichordist Christopher Bagan. \nAisslinn Nosky\, violin\nChristopher Bagan\, harpsichord.\nCullen O’Neal\, cello  \nHandel: Violin Sonata in D Major\, HWV 371 \nVivaldi: Violin Sonata Op. 2\, No. 3  \nJoseph-Nicolas-Pancrace-Royer: La Marche des Scythes  \nTelemann: Fantasia No. 7 in E-flat Major\, TWV 40:20 \nSchmelzer: Sonata Quarta in D Major \nJ.S. Bach: Violin Sonata in G Major\, BWV 1021 \nElisabeth Jacquet de la Guerre: Violin Sonata No. 1 in D minor \nCorelli: Violin Sonata in D minor\, Op.5\, No.12 ‘La Folia’ \n$20–56
URL:https://www.ludwig-van.com/toronto/event/toronto-summer-music-festival-aisslinn-nosky/
LOCATION:Walter Hall\, 80 Queens Park\, Toronto\, ON\, M5S 2C5\, Canada
CATEGORIES:Chamber music,Festival,Violin
ATTACH;FMTTYPE=image/jpeg:https://www.ludwig-van.com/toronto/wp-content/uploads/sites/2/2022/06/aisslinn-nosky.jpg
GEO:43.666508;-79.3944708
X-APPLE-STRUCTURED-LOCATION;VALUE=URI;X-ADDRESS=Walter Hall 80 Queens Park Toronto ON M5S 2C5 Canada;X-APPLE-RADIUS=500;X-TITLE=80 Queens Park:geo:-79.3944708,43.666508
END:VEVENT
END:VCALENDAR