BEGIN:VCALENDAR
VERSION:2.0
PRODID:-//Ludwig van Toronto - ECPv5.9.1//NONSGML v1.0//EN
CALSCALE:GREGORIAN
METHOD:PUBLISH
X-WR-CALNAME:Ludwig van Toronto
X-ORIGINAL-URL:https://www.ludwig-van.com/toronto
X-WR-CALDESC:Events for Ludwig van Toronto
BEGIN:VTIMEZONE
TZID:America/Toronto
BEGIN:DAYLIGHT
TZOFFSETFROM:-0500
TZOFFSETTO:-0400
TZNAME:EDT
DTSTART:20220313T070000
END:DAYLIGHT
BEGIN:STANDARD
TZOFFSETFROM:-0400
TZOFFSETTO:-0500
TZNAME:EST
DTSTART:20221106T060000
END:STANDARD
END:VTIMEZONE
BEGIN:VEVENT
DTSTART;TZID=America/Toronto:20220714T120000
DTEND;TZID=America/Toronto:20220714T130000
DTSTAMP:20260421T015935
CREATED:20220628T002550Z
LAST-MODIFIED:20220628T002550Z
UID:75794-1657800000-1657803600@www.ludwig-van.com
SUMMARY:Toronto Summer Music Festival | Academy Noon Concert 2
DESCRIPTION:Free noon-hour concerts featuring Chamber Music Institute Fellows at Heliconian Hall. \nDvorák: String Quintet No. 3\, Op. 97 \nJeremy Lap Hei Hao\, David Baik\, Syara Robert\, Kyungrok Grace Moon\, Solina Lee \nAcademy Noon Concerts are on a first-come\, first-served basis. Online pre-booking will only be available for those aged 65 and over\, and those with accessibility needs. Online pre-booking will be available as of 10 am on July 11 on this page. Tickets are limited.
URL:https://www.ludwig-van.com/toronto/event/toronto-summer-music-festival-academy-noon-concert-2/
LOCATION:Heliconian Hall\, 35 Hazelton Avenue\, Toronto\, ON\, M5R 2E3\, Canada
CATEGORIES:Chamber music,Free
ATTACH;FMTTYPE=image/jpeg:https://www.ludwig-van.com/toronto/wp-content/uploads/sites/2/2022/06/Solina-Lee.jpg
END:VEVENT
BEGIN:VEVENT
DTSTART;TZID=America/Toronto:20220714T170000
DTEND;TZID=America/Toronto:20220714T180000
DTSTAMP:20260421T015935
CREATED:20220628T004237Z
LAST-MODIFIED:20220628T004237Z
UID:75797-1657818000-1657821600@www.ludwig-van.com
SUMMARY:Toronto Summer Music Festival | The Taylor Academy 1
DESCRIPTION:A showcase featuring Evan Pyne\, Ellen Annor-Adjei\, and Dayou Kim of the Taylor Academy. \nShuffle Hour concerts are on a first-come\, first-served basis.
URL:https://www.ludwig-van.com/toronto/event/toronto-summer-music-festival-taylor-academy-1/
LOCATION:Heliconian Hall\, 35 Hazelton Avenue\, Toronto\, ON\, M5R 2E3\, Canada
CATEGORIES:Chamber music,Festival,Free
ATTACH;FMTTYPE=image/jpeg:https://www.ludwig-van.com/toronto/wp-content/uploads/sites/2/2022/06/taylor-strings.jpeg
END:VEVENT
BEGIN:VEVENT
DTSTART;TZID=America/Toronto:20220714T193000
DTEND;TZID=America/Toronto:20220714T213000
DTSTAMP:20260421T015935
CREATED:20220628T004553Z
LAST-MODIFIED:20220628T004553Z
UID:75800-1657827000-1657834200@www.ludwig-van.com
SUMMARY:Toronto Summer Music Festival | Dover Quartet
DESCRIPTION:Praised for their “expert musicianship\, razor-sharp ensemble\, deep musical feeling and palpable commitment to communication” (Chicago Tribune)\, the Dover Quartet makes a triumphant return to Toronto in the beautiful Koerner Hall. \nDover Quartet\nJoel Link\, violin\nBryan Lee\, violin\nMilena Pajaro-van de Stadt\, viola\nCamden Shaw\, cello \nHaydn: Quartet in D Major\, Op. 64\, No. 5 “Lark” \nMozart: Quartet in C Major\, K. 465\, “Dissonance” \nIntermission \nRavel: Quartet in F Major \n$20–82
URL:https://www.ludwig-van.com/toronto/event/toronto-summer-music-festival-dover-quartet/
LOCATION:Koerner Hall\, 273 Bloor St W\, \, Toronto\, ON\, M5S 1V6\, Canada
CATEGORIES:Chamber music,Festival
ATTACH;FMTTYPE=image/jpeg:https://www.ludwig-van.com/toronto/wp-content/uploads/sites/2/2022/06/Dover-Quartet-credit-Roy-Cox-copy.jpg
GEO:43.6679641;-79.3966795
X-APPLE-STRUCTURED-LOCATION;VALUE=URI;X-ADDRESS=Koerner Hall 273 Bloor St W  Toronto ON M5S 1V6 Canada;X-APPLE-RADIUS=500;X-TITLE=273 Bloor St W\,:geo:-79.3966795,43.6679641
END:VEVENT
END:VCALENDAR