BEGIN:VCALENDAR
VERSION:2.0
PRODID:-//Ludwig van Toronto - ECPv5.9.1//NONSGML v1.0//EN
CALSCALE:GREGORIAN
METHOD:PUBLISH
X-WR-CALNAME:Ludwig van Toronto
X-ORIGINAL-URL:https://www.ludwig-van.com/toronto
X-WR-CALDESC:Events for Ludwig van Toronto
BEGIN:VTIMEZONE
TZID:America/Toronto
BEGIN:DAYLIGHT
TZOFFSETFROM:-0500
TZOFFSETTO:-0400
TZNAME:EDT
DTSTART:20220313T070000
END:DAYLIGHT
BEGIN:STANDARD
TZOFFSETFROM:-0400
TZOFFSETTO:-0500
TZNAME:EST
DTSTART:20221106T060000
END:STANDARD
END:VTIMEZONE
BEGIN:VEVENT
DTSTART;TZID=America/Toronto:20220713T110000
DTEND;TZID=America/Toronto:20220713T120000
DTSTAMP:20260421T034205
CREATED:20220627T235701Z
LAST-MODIFIED:20220627T235701Z
UID:75782-1657710000-1657713600@www.ludwig-van.com
SUMMARY:Toronto Summer Music Festival | Kids Concert With Dover Quartet
DESCRIPTION:Dover Quartet’s youthful energy will light up the room as they introduce kids to their instruments and sounds in a fun and educational way! Hosted by Joanna Kellam. \nTickets for this concert will be made available as of July 4 at 10 am via our website\, by phone\, or in-person at the RCM Weston Family Box Office.
URL:https://www.ludwig-van.com/toronto/event/toronto-summer-music-festival-kids-concert-dover-quartet/
LOCATION:Walter Hall\, 80 Queens Park\, Toronto\, ON\, M5S 2C5\, Canada
CATEGORIES:Chamber music,Festival,Free
ATTACH;FMTTYPE=image/jpeg:https://www.ludwig-van.com/toronto/wp-content/uploads/sites/2/2022/06/Dover-Quartet-July-17-Koerner-Hall-1280x853-1.jpg
GEO:43.666508;-79.3944708
X-APPLE-STRUCTURED-LOCATION;VALUE=URI;X-ADDRESS=Walter Hall 80 Queens Park Toronto ON M5S 2C5 Canada;X-APPLE-RADIUS=500;X-TITLE=80 Queens Park:geo:-79.3944708,43.666508
END:VEVENT
BEGIN:VEVENT
DTSTART;TZID=America/Toronto:20220713T120000
DTEND;TZID=America/Toronto:20220713T130000
DTSTAMP:20260421T034205
CREATED:20220628T000055Z
LAST-MODIFIED:20220628T000055Z
UID:75785-1657713600-1657717200@www.ludwig-van.com
SUMMARY:Toronto Summer Music Festival | Academy Noon Concert 1
DESCRIPTION:Free noon-hour concerts featuring Chamber Music Institute Fellows at Heliconian Hall. \nMozart: Piano Quartet in G minor\, K. 478 \nKyung Ah Oh\, Molly Wise\, Dale Jeong\, Jonathan Mak \nSmetana: Piano Trio in G minor\, Op. 15 \nIsabella Egawa\, Sara Scanlon\, Joshua Wong \nAcademy Noon Concerts are on a first-come\, first-served basis. Online pre-booking will only be available for those aged 65 and over\, and those with accessibility needs. Online pre-booking will be available as of 10 am on July 11 on this page. Tickets are limited.
URL:https://www.ludwig-van.com/toronto/event/toronto-summer-music-festival-academy-noon-concert-1/
LOCATION:Heliconian Hall\, 35 Hazelton Avenue\, Toronto\, ON\, M5R 2E3\, Canada
CATEGORIES:Chamber music,Festival,Free
ATTACH;FMTTYPE=image/jpeg:https://www.ludwig-van.com/toronto/wp-content/uploads/sites/2/2022/06/Dale-Jeong-copy.jpg
END:VEVENT
BEGIN:VEVENT
DTSTART;TZID=America/Toronto:20220713T170000
DTEND;TZID=America/Toronto:20220713T180000
DTSTAMP:20260421T034205
CREATED:20220628T000559Z
LAST-MODIFIED:20220628T000559Z
UID:75788-1657731600-1657735200@www.ludwig-van.com
SUMMARY:Toronto Summer Music Festival | Emily Jean Flack
DESCRIPTION:Canadian singer-songwriter Emily Jean Flack joins us for a performance of part contemporary folk\, part Celtic pop\, with just a dash of jazz sensibility. \nShuffle Hour concerts are on a first-come\, first-served basis.
URL:https://www.ludwig-van.com/toronto/event/toronto-summer-music-festival-emily-jean-flack/
LOCATION:Heliconian Hall\, 35 Hazelton Avenue\, Toronto\, ON\, M5R 2E3\, Canada
CATEGORIES:Festival,Free,Vocal
ATTACH;FMTTYPE=image/jpeg:https://www.ludwig-van.com/toronto/wp-content/uploads/sites/2/2022/06/Emily-Jean-Flack.jpg
END:VEVENT
BEGIN:VEVENT
DTSTART;TZID=America/Toronto:20220713T193000
DTEND;TZID=America/Toronto:20220713T213000
DTSTAMP:20260421T034205
CREATED:20220628T001131Z
LAST-MODIFIED:20220628T001131Z
UID:75791-1657740600-1657747800@www.ludwig-van.com
SUMMARY:Toronto Summer Music Festival | Zuleykha
DESCRIPTION:Journey back to historical times with Zuleykha\, a new opera from Loose Tea Music Theatre by composer Afarin Mansouri. This opera upends the traditional narrative of Potiphar’s wife as a sinner and seducer of the Prophet Joseph\, exploring instead a story of how she had to overcome a male dominant society to discover her true inner voice. Sung in the Farsi language and featuring traditional Eastern music within the European operatic tradition. \nAfarin Mansouri\, composer and librettist\nAlaina Viau\, dramaturg\, producer\, director\nSaman Shahi\, music director \nAnne-Marie Ramos\, Zuleykha\nTahirih Vejdani\, The Maid\nSaman Shahi\, piano\nPadideh Ahrarnejad\, tar\, rubab\, bass tar\nAli Massoudi\, percussion \nAfarin Mansouri – Zuleykha \n$20 – 56 \nWith Loose Tea Music Theatre
URL:https://www.ludwig-van.com/toronto/event/toronto-summer-music-festival-zuleykha/
LOCATION:Walter Hall\, 80 Queens Park\, Toronto\, ON\, M5S 2C5\, Canada
CATEGORIES:Festival,piano,World Music
ATTACH;FMTTYPE=image/jpeg:https://www.ludwig-van.com/toronto/wp-content/uploads/sites/2/2022/06/Afarin-Mansouri.jpg
GEO:43.666508;-79.3944708
X-APPLE-STRUCTURED-LOCATION;VALUE=URI;X-ADDRESS=Walter Hall 80 Queens Park Toronto ON M5S 2C5 Canada;X-APPLE-RADIUS=500;X-TITLE=80 Queens Park:geo:-79.3944708,43.666508
END:VEVENT
END:VCALENDAR