BEGIN:VCALENDAR
VERSION:2.0
PRODID:-//Ludwig van Toronto - ECPv5.9.1//NONSGML v1.0//EN
CALSCALE:GREGORIAN
METHOD:PUBLISH
X-WR-CALNAME:Ludwig van Toronto
X-ORIGINAL-URL:https://www.ludwig-van.com/toronto
X-WR-CALDESC:Events for Ludwig van Toronto
BEGIN:VTIMEZONE
TZID:America/Toronto
BEGIN:DAYLIGHT
TZOFFSETFROM:-0500
TZOFFSETTO:-0400
TZNAME:EDT
DTSTART:20220313T070000
END:DAYLIGHT
BEGIN:STANDARD
TZOFFSETFROM:-0400
TZOFFSETTO:-0500
TZNAME:EST
DTSTART:20221106T060000
END:STANDARD
END:VTIMEZONE
BEGIN:VEVENT
DTSTART;TZID=America/Toronto:20220712T150000
DTEND;TZID=America/Toronto:20220712T163000
DTSTAMP:20260421T051712
CREATED:20220627T234156Z
LAST-MODIFIED:20220627T234156Z
UID:75769-1657638000-1657643400@www.ludwig-van.com
SUMMARY:Toronto Summer Music Festival | Chamber Music Masterclass
DESCRIPTION:Masterclass With John Novacek
URL:https://www.ludwig-van.com/toronto/event/toronto-summer-music-festival-chamber-music-masterclass/
LOCATION:Walter Hall\, 80 Queens Park\, Toronto\, ON\, M5S 2C5\, Canada
CATEGORIES:Festival,Free,piano
ATTACH;FMTTYPE=image/jpeg:https://www.ludwig-van.com/toronto/wp-content/uploads/sites/2/2022/06/John-Novacek.jpg
GEO:43.666508;-79.3944708
X-APPLE-STRUCTURED-LOCATION;VALUE=URI;X-ADDRESS=Walter Hall 80 Queens Park Toronto ON M5S 2C5 Canada;X-APPLE-RADIUS=500;X-TITLE=80 Queens Park:geo:-79.3944708,43.666508
END:VEVENT
BEGIN:VEVENT
DTSTART;TZID=America/Toronto:20220712T170000
DTEND;TZID=America/Toronto:20220712T180000
DTSTAMP:20260421T051712
CREATED:20220627T235250Z
LAST-MODIFIED:20220627T235321Z
UID:75778-1657645200-1657648800@www.ludwig-van.com
SUMMARY:Toronto Summer Music Festival | Teresa Suen-Campbell
DESCRIPTION:Come and be serenaded by the sweet music of Toronto-based harpist Teresa Suen-Campbell. \nShuffle Hour concerts are on a first-come\, first-served basis.
URL:https://www.ludwig-van.com/toronto/event/toronto-summer-music-festival/
LOCATION:Heliconian Hall\, 35 Hazelton Avenue\, Toronto\, ON\, M5R 2E3\, Canada
CATEGORIES:Chamber music,Festival,Free
ATTACH;FMTTYPE=image/jpeg:https://www.ludwig-van.com/toronto/wp-content/uploads/sites/2/2022/06/TERESA-SUEN-CAMPBELL.jpg
END:VEVENT
BEGIN:VEVENT
DTSTART;TZID=America/Toronto:20220712T193000
DTEND;TZID=America/Toronto:20220712T213000
DTSTAMP:20260421T051712
CREATED:20220627T233643Z
LAST-MODIFIED:20220627T233643Z
UID:75766-1657654200-1657661400@www.ludwig-van.com
SUMMARY:Toronto Summer Music Festival | VC2 Cello Duo
DESCRIPTION:VC2 Cello Duo is an imaginative and riveting ensemble that captivates audiences through their performances of classical masterworks\, unknown gems\, and boundary-pushing music. \nVC2 Cello Duo \nAmahl Arulanandam\, cello\nBryan Holt\, cello \nFoo Fighters\, arr. VC2 Cello Duo: “Everlong” \nVincent Ho: Heist 2* \nJacques Offenbach: Duet in B minor\, Op. 51\, No. 2 \nKaitlyn Raitz: Thistle & Lace \nJohan Halvorsen\, arr. Blaise Déjardin: Variations on La Folia \nKelly-Marie Murphy: Final Glimpse** \nJean-Louis Duport\, arr. VC2 Cello Duo: Étude No. 2 in F minor \nAndrew Downing: 5 Little Pieces (Based on Beethoven’s Sonata for Cello and Piano\, Op. 5\, No. 1) \nHunter Coblents: Two Cellos\, Dilations (Based on Beethoven’s Sonata for Cello and Piano\, Op. 102\, No. 2) \nMatt Brubeck: Entsprechung^ (Based on Beethoven’s Sonata for Cello and Piano. Op. 102\, No. 1) \nFjóla Evans: Dogged \nRaphael Weinroth-Browne: Triumvirate^ (Based on Beethoven’s Sonata for Cello and Piano\, Op. 5\, No. 2)
URL:https://www.ludwig-van.com/toronto/event/toronto-summer-music-festival-vc2-cello-duo/
LOCATION:Lula Lounge\, 1585 Dundas St W\, Toronto\, Ontario\, M6J 1T9\, Canada
CATEGORIES:Chamber music,Contemporary Music,Festival
ATTACH;FMTTYPE=image/jpeg:https://www.ludwig-van.com/toronto/wp-content/uploads/sites/2/2022/06/VC2.jpg
GEO:43.6497314;-79.4331157
X-APPLE-STRUCTURED-LOCATION;VALUE=URI;X-ADDRESS=Lula Lounge 1585 Dundas St W Toronto Ontario M6J 1T9 Canada;X-APPLE-RADIUS=500;X-TITLE=1585 Dundas St W:geo:-79.4331157,43.6497314
END:VEVENT
BEGIN:VEVENT
DTSTART;TZID=America/Toronto:20220712T200000
DTEND;TZID=America/Toronto:20220712T220000
DTSTAMP:20260421T051712
CREATED:20220617T133959Z
LAST-MODIFIED:20220627T183822Z
UID:75649-1657656000-1657663200@www.ludwig-van.com
SUMMARY:Toronto Concert Orchestra | Symphony in the City - Elton Rohn
DESCRIPTION:Canadian Artist Ron Camilleri becomes Elton John in this high energy tribute show of fully live music. \n\nThe only Elton John tribute asked to play the Elton John convention in Las Vegas where they met the band. Davey Johnstone (Elton’s long time guitarist and musical director) told the band they were the best 70’s Elton John tribute in the world. Nigel Olsson ( Elton’s longtime drummer) said “Elton has a twin.” Enjoy an evening out on the lake\, Dinner and VIP packages available. Free Parking. \nTickets $30-80.
URL:https://www.ludwig-van.com/toronto/event/toronto-concert-orchestra-symphony-city-elton-rohn/
LOCATION:Palais Royale\, 1601 Lake Shore Blvd\, Toronto\, Ontario\, M6K3C1\, Canada
CATEGORIES:Orchestra
ATTACH;FMTTYPE=image/jpeg:https://www.ludwig-van.com/toronto/wp-content/uploads/sites/2/2022/06/3-July-12-Elton-Rohn-.jpg
GEO:43.6367202;-79.4471386
X-APPLE-STRUCTURED-LOCATION;VALUE=URI;X-ADDRESS=Palais Royale 1601 Lake Shore Blvd Toronto Ontario M6K3C1 Canada;X-APPLE-RADIUS=500;X-TITLE=1601 Lake Shore Blvd:geo:-79.4471386,43.6367202
END:VEVENT
END:VCALENDAR