BEGIN:VCALENDAR
VERSION:2.0
PRODID:-//Ludwig van Toronto - ECPv5.9.1//NONSGML v1.0//EN
CALSCALE:GREGORIAN
METHOD:PUBLISH
X-WR-CALNAME:Ludwig van Toronto
X-ORIGINAL-URL:https://www.ludwig-van.com/toronto
X-WR-CALDESC:Events for Ludwig van Toronto
BEGIN:VTIMEZONE
TZID:America/Toronto
BEGIN:DAYLIGHT
TZOFFSETFROM:-0500
TZOFFSETTO:-0400
TZNAME:EDT
DTSTART:20220313T070000
END:DAYLIGHT
BEGIN:STANDARD
TZOFFSETFROM:-0400
TZOFFSETTO:-0500
TZNAME:EST
DTSTART:20221106T060000
END:STANDARD
END:VTIMEZONE
BEGIN:VEVENT
DTSTART;TZID=America/Toronto:20220711T193000
DTEND;TZID=America/Toronto:20220711T213000
DTSTAMP:20260421T065103
CREATED:20220627T233140Z
LAST-MODIFIED:20220627T233140Z
UID:75763-1657567800-1657575000@www.ludwig-van.com
SUMMARY:Toronto Summer Music Festival | Appl & Rieger in Recital
DESCRIPTION:Hailed as “the most promising of today’s up-and-coming song recitalists” (Financial Times)\, German-British baritone Benjamin Appl joins renowned pianist Wolfram Rieger in a recital anchored by the poetry of Wilhelm Müller.\nBenjamin Appl\, baritone\nWolfram Rieger\, piano \nDavid Lang: flower\, forget me (Canadian Première)* \nFranz Schubert: Die schöne Müllerin\, Op. 25\, D. 795
URL:https://www.ludwig-van.com/toronto/event/toronto-summer-music-festival-appl-rieger-recital/
CATEGORIES:Chamber music,Festival,Vocal
ATTACH;FMTTYPE=image/jpeg:https://www.ludwig-van.com/toronto/wp-content/uploads/sites/2/2022/06/Benjamin-Appl.jpg
END:VEVENT
END:VCALENDAR