BEGIN:VCALENDAR
VERSION:2.0
PRODID:-//Ludwig van Toronto - ECPv5.9.1//NONSGML v1.0//EN
CALSCALE:GREGORIAN
METHOD:PUBLISH
X-WR-CALNAME:Ludwig van Toronto
X-ORIGINAL-URL:https://www.ludwig-van.com/toronto
X-WR-CALDESC:Events for Ludwig van Toronto
BEGIN:VTIMEZONE
TZID:America/Toronto
BEGIN:DAYLIGHT
TZOFFSETFROM:-0500
TZOFFSETTO:-0400
TZNAME:EDT
DTSTART:20220313T070000
END:DAYLIGHT
BEGIN:STANDARD
TZOFFSETFROM:-0400
TZOFFSETTO:-0500
TZNAME:EST
DTSTART:20221106T060000
END:STANDARD
END:VTIMEZONE
BEGIN:VEVENT
DTSTART;TZID=America/Toronto:20220706T200000
DTEND;TZID=America/Toronto:20220706T220000
DTSTAMP:20260421T161014
CREATED:20220627T231144Z
LAST-MODIFIED:20220627T231144Z
UID:75753-1657137600-1657144800@www.ludwig-van.com
SUMMARY:Ludovici Einaudi | Underwater Tour
DESCRIPTION:Seven Days Walking could be Ludovico Einaudi’s masterwork. Seven albums released over seven months throughout 2019 – variation after variation on a theme\, all of them inspired by a winter’s walk he repeated over a period of time in the Alps. It’s a complete world\, dreamed up in seven days. \n“I hope that you listen to one album one day\, and another the next\, and can’t figure out which is which\,” Einaudi says playfully\, which is a modest comment coming from the world’s most ubiquitous classical composer. This is music expressly designed for you to lose yourself in\, a vast library of impressionistic pieces – pianistic reflections of moon on snow; an interlude of birdsong replicated in melody; the musical suggestion of fox tracks\, recorded with such delicacy you can hear the pads on the keys of his grand piano. \nIncreasingly popular with new\, young audiences living in a highly connected and technology-focused world\, Einaudi’s music and live shows offer something meditative\, a private space away from distraction.
URL:https://www.ludwig-van.com/toronto/event/ludovici-einaudi-underwater-tour/2022-07-06/
LOCATION:Roy Thomson Hall\, 60 Simcoe St\, Toronto\, Ontario\, M5J 2H5\, Canada
CATEGORIES:Contemporary Music,piano
ATTACH;FMTTYPE=image/jpeg:https://www.ludwig-van.com/toronto/wp-content/uploads/sites/2/2022/06/Ludovici-Einaudi.jpg
END:VEVENT
END:VCALENDAR