BEGIN:VCALENDAR
VERSION:2.0
PRODID:-//Ludwig van Toronto - ECPv5.9.1//NONSGML v1.0//EN
CALSCALE:GREGORIAN
METHOD:PUBLISH
X-WR-CALNAME:Ludwig van Toronto
X-ORIGINAL-URL:https://www.ludwig-van.com/toronto
X-WR-CALDESC:Events for Ludwig van Toronto
BEGIN:VTIMEZONE
TZID:America/Toronto
BEGIN:DAYLIGHT
TZOFFSETFROM:-0500
TZOFFSETTO:-0400
TZNAME:EDT
DTSTART:20200308T070000
END:DAYLIGHT
BEGIN:STANDARD
TZOFFSETFROM:-0400
TZOFFSETTO:-0500
TZNAME:EST
DTSTART:20201101T060000
END:STANDARD
END:VTIMEZONE
BEGIN:VEVENT
DTSTART;TZID=America/Toronto:20200423T200000
DTEND;TZID=America/Toronto:20200423T220000
DTSTAMP:20260425T230253
CREATED:20190909T161341Z
LAST-MODIFIED:20190909T161341Z
UID:62265-1587672000-1587679200@www.ludwig-van.com
SUMMARY:Soundstreams | Secrets
DESCRIPTION:Inspired by the anonymous secrets of Torontonians collected especially for this concert\, this brilliant Dutch ensemble traverses classical\, jazz\, and soul to plumb the full range of emotion embedded in our secrets. From love lost and the depths of despair\, through to the very heights of joy and ecstasy— will you let them tell your secret? \nFEATURED PERFORMERS\nClaron McFadden\, vocals\nMichel Massot\, tuba\, euphonium\, trombone\nTuur Florizoone\, chromatic accordion\nMarine Horbaczewski\, cello \nTickets\, here.
URL:https://www.ludwig-van.com/toronto/event/soundstreams-secrets/2020-04-23/
LOCATION:Drake Hotel\, 1150 Queen St. West\, Toronto\, Ontario\, Canada
CATEGORIES:Chamber music,Contemporary Music
ATTACH;FMTTYPE=image/jpeg:https://www.ludwig-van.com/toronto/wp-content/uploads/sites/2/2019/09/Claron-McFadden.jpg
GEO:43.6431078;-79.4246457
X-APPLE-STRUCTURED-LOCATION;VALUE=URI;X-ADDRESS=Drake Hotel 1150 Queen St. West Toronto Ontario Canada;X-APPLE-RADIUS=500;X-TITLE=1150 Queen St. West:geo:-79.4246457,43.6431078
END:VEVENT
BEGIN:VEVENT
DTSTART;TZID=America/Toronto:20200423T200000
DTEND;TZID=America/Toronto:20200423T220000
DTSTAMP:20260425T230253
CREATED:20200226T144954Z
LAST-MODIFIED:20200226T144954Z
UID:67092-1587672000-1587679200@www.ludwig-van.com
SUMMARY:Tafelmusik | Bach Goldberg Variations
DESCRIPTION:Program\n\nGrégoire Jeay World premiere\nBach Goldberg Variations (arranged for orchestra by Elisa Citterio)
URL:https://www.ludwig-van.com/toronto/event/tafelmusik-bach-goldberg-variations/2020-04-23/
LOCATION:Trinity-St. Paul’s Centre\, Jeanne Lamon Hall\, 427 Bloor St. W\, Toronto\, Ontario\, M5S 1X6\, Canada
CATEGORIES:Period ensemble
ATTACH;FMTTYPE=image/jpeg:https://www.ludwig-van.com/toronto/wp-content/uploads/sites/2/2017/09/Elisa-Citterio-and-Tafelmusik-Baroque-Orchestra2_Sept-21-2017_Photo-J....jpg
END:VEVENT
END:VCALENDAR