BEGIN:VCALENDAR
VERSION:2.0
PRODID:-//Ludwig van Toronto - ECPv5.9.1//NONSGML v1.0//EN
CALSCALE:GREGORIAN
METHOD:PUBLISH
X-WR-CALNAME:Ludwig van Toronto
X-ORIGINAL-URL:https://www.ludwig-van.com/toronto
X-WR-CALDESC:Events for Ludwig van Toronto
BEGIN:VTIMEZONE
TZID:America/Toronto
BEGIN:DAYLIGHT
TZOFFSETFROM:-0500
TZOFFSETTO:-0400
TZNAME:EDT
DTSTART:20200308T070000
END:DAYLIGHT
BEGIN:STANDARD
TZOFFSETFROM:-0400
TZOFFSETTO:-0500
TZNAME:EST
DTSTART:20201101T060000
END:STANDARD
END:VTIMEZONE
BEGIN:VEVENT
DTSTART;TZID=America/Toronto:20200422T200000
DTEND;TZID=America/Toronto:20200422T220000
DTSTAMP:20260425T211339
CREATED:20200224T184420Z
LAST-MODIFIED:20200224T184420Z
UID:66765-1587585600-1587592800@www.ludwig-van.com
SUMMARY:Canadian Stage | Crypto
DESCRIPTION:Toronto Premiere\nGuillaume Côté\, Principal Dancer and Choreographic Associate at The National Ballet of Canada\, is one of the most electrifying and in-demand dancers of his generation. Côté is also an incisive multidisciplinary artist\, celebrated for his choreographic talent displayed in the riveting and complex creations\, Frame By Frame and Le Petit Prince.Featuring the music of Swedish composer Mikael Karlsson and infused with theatre and technology\, Côté’s latest cutting-edge contemporary dance creation is a ground-breaking work that explores forced displacement and the human need to control and transform beauty.
URL:https://www.ludwig-van.com/toronto/event/canadian-stage-crypto/2020-04-22/
LOCATION:Bluma Appel Theatre\, 27 Front St E\, Toronto\, Ontario\, M5E 1B4\, Canada
CATEGORIES:Dance
ATTACH;FMTTYPE=image/jpeg:https://www.ludwig-van.com/toronto/wp-content/uploads/sites/2/2020/02/Canadian-Stage-Crypto.jpg
END:VEVENT
END:VCALENDAR