BEGIN:VCALENDAR
VERSION:2.0
PRODID:-//Ludwig van Toronto - ECPv5.9.1//NONSGML v1.0//EN
CALSCALE:GREGORIAN
METHOD:PUBLISH
X-WR-CALNAME:Ludwig van Toronto
X-ORIGINAL-URL:https://www.ludwig-van.com/toronto
X-WR-CALDESC:Events for Ludwig van Toronto
BEGIN:VTIMEZONE
TZID:America/Toronto
BEGIN:DAYLIGHT
TZOFFSETFROM:-0500
TZOFFSETTO:-0400
TZNAME:EDT
DTSTART:20200308T070000
END:DAYLIGHT
BEGIN:STANDARD
TZOFFSETFROM:-0400
TZOFFSETTO:-0500
TZNAME:EST
DTSTART:20201101T060000
END:STANDARD
END:VTIMEZONE
BEGIN:VEVENT
DTSTART;TZID=America/Toronto:20200418T120000
DTEND;TZID=America/Toronto:20200418T170000
DTSTAMP:20260425T133927
CREATED:20200223T212526Z
LAST-MODIFIED:20200223T212526Z
UID:66737-1587211200-1587229200@www.ludwig-van.com
SUMMARY:Met Opera Live in HD/ Cineplex Canada | Agrippina [ENCORE]
DESCRIPTION:In the Met’s first-ever performances of Agrippina\, Handel’s satire of sex and power politics\, Sir David McVicar reconceives a production he originally created for the Monnaie in Brussels in 2000\, evoking a scandalous world in which the Roman Empire never fell but simply kept going right up to the present. Holding a distorted mirror to contemporary society (as Handel did when he staged this opera)\, the production presents the corrupt intrigues of the political classes\, brought to life by Joyce DiDonato as the power-hungry empress Agrippina\, Brenda Rae as the scheming\, seductive Poppea\, and Kate Lindsey as the feckless teenager Nerone. Iestyn Davies portrays the ambitious officer Ottone\, and Matthew Rose is the emperor Claudius\, on whose vacated throne Agrippina is determined to install her son. Renowned for his interpretations of the Baroque repertoire\, Harry Bicket conducts. \nCast\nBrenda Rae (Poppea)\, Joyce DiDonato (Agrippina)\, Kate Lindsey (Nerone)\, Iestyn Davies (Ottone)\, Duncan Rock (Pallante)\, Matthew Rose (Claudio) \nDirectors\nConductor: Harry Bicket Production: Sir David McVicar \nCheck the website for participating theatres.
URL:https://www.ludwig-van.com/toronto/event/met-opera-live-hd-cineplex-canada-agrippina-encore/2020-04-18/
LOCATION:Cineplex Cinemas Yonge-Dundas\, 10 Dundas St E\, Toronto\, Ontario\, M5B 2G9\, Canada
CATEGORIES:Film,opera
ATTACH;FMTTYPE=image/jpeg:https://www.ludwig-van.com/toronto/wp-content/uploads/sites/2/2020/02/31029_768_1024.jpg
END:VEVENT
BEGIN:VEVENT
DTSTART;TZID=America/Toronto:20200418T150000
DTEND;TZID=America/Toronto:20200418T170000
DTSTAMP:20260425T133927
CREATED:20200225T202101Z
LAST-MODIFIED:20200225T202101Z
UID:66900-1587222000-1587229200@www.ludwig-van.com
SUMMARY:Toronto Symphony Orchestra | Joe Hisaishi in Concert
DESCRIPTION:Program\n\n\n\nJoe Hisaishi: DA MA SHI E\n\n\n\n\nJoe Hisaishi: Spirited Away Suite\n\n\n\n\nIntermission: Intermission\n\n\n\n\nJoe Hisaishi: The East Land Symphony
URL:https://www.ludwig-van.com/toronto/event/toronto-symphony-orchestra-joe-hisaishi-concert/2020-04-18/
LOCATION:Meridian Hall (formerly Sony Centre)\, 1 Front Street East\, Toronto\, M5E 1B2\, Canada
CATEGORIES:Orchestra
ATTACH;FMTTYPE=image/jpeg:https://www.ludwig-van.com/toronto/wp-content/uploads/sites/2/2020/02/Joe-Hisaishi.jpg
GEO:43.6464823;-79.376082
X-APPLE-STRUCTURED-LOCATION;VALUE=URI;X-ADDRESS=Meridian Hall (formerly Sony Centre) 1 Front Street East Toronto M5E 1B2 Canada;X-APPLE-RADIUS=500;X-TITLE=1 Front Street East:geo:-79.376082,43.6464823
END:VEVENT
BEGIN:VEVENT
DTSTART;TZID=America/Toronto:20200418T193000
DTEND;TZID=America/Toronto:20200418T220000
DTSTAMP:20260425T133927
CREATED:20191215T204943Z
LAST-MODIFIED:20191215T204943Z
UID:65500-1587238200-1587247200@www.ludwig-van.com
SUMMARY:Canadian Opera Company | Aida
DESCRIPTION:CAST AND CREATIVE TEAMS \nConductor Jader Bignamini\nDirector Tim Albery\nSet Designer Hildegard Bechtler\nCostume Designer Jon Morrell\nLighting Designer Thomas C. Hase\nChoreographer Laila Diallo\nPrice Family Chorus Master Sandra Horst \n  \nAida Tamara Wilson\nRadames Russell Thomas\nAmneris Clémentine Margaine\nAmonasro Roland Wood\nRamfis Goderdzi Janelidze\nKing of Egypt Richard Wiegold\nMessenger Matthew Cairns\nPriestess Simona Genga
URL:https://www.ludwig-van.com/toronto/event/canadian-opera-company-aida/2020-04-18/
LOCATION:Four Seasons Centre\, 145 Queen St. W.\, Toronto\, Ontario\, M5H 4G1\, Canada
CATEGORIES:opera
ATTACH;FMTTYPE=image/jpeg:https://www.ludwig-van.com/toronto/wp-content/uploads/sites/2/2019/12/aida-1.jpg
END:VEVENT
BEGIN:VEVENT
DTSTART;TZID=America/Toronto:20200418T200000
DTEND;TZID=America/Toronto:20200418T220000
DTSTAMP:20260425T133927
CREATED:20200304T130600Z
LAST-MODIFIED:20200304T130600Z
UID:67321-1587240000-1587247200@www.ludwig-van.com
SUMMARY:Against the Grain Theatre | Bound
DESCRIPTION:In Spring 2020\, composer Kevin Lau and librettist Joel Ivany present the world premiere of BOUND. A fully realized three-year concept to realization project that infuses new sounds and ideas into the backbone of Handel’s existing works.  In the wake of the world’s refugee crisis\, this operatic premiere explores the current state of those displaced\, dehumanized and mistreated\, with texts and stories drawn from real-life news articles and world events.
URL:https://www.ludwig-van.com/toronto/event/grain-theatre-bound-3/2020-04-18/
LOCATION:Harbourfront Centre Theatre\, 235 Queens Quay W\, Toronto\, Ontario\, M5J 2G8\, Canada
CATEGORIES:opera
ATTACH;FMTTYPE=image/jpeg:https://www.ludwig-van.com/toronto/wp-content/uploads/sites/2/2020/03/Against-the-Grain-bound.jpg
GEO:43.6391182;-79.3828906
X-APPLE-STRUCTURED-LOCATION;VALUE=URI;X-ADDRESS=Harbourfront Centre Theatre 235 Queens Quay W Toronto Ontario M5J 2G8 Canada;X-APPLE-RADIUS=500;X-TITLE=235 Queens Quay W:geo:-79.3828906,43.6391182
END:VEVENT
END:VCALENDAR