BEGIN:VCALENDAR
VERSION:2.0
PRODID:-//Ludwig van Toronto - ECPv5.9.1//NONSGML v1.0//EN
CALSCALE:GREGORIAN
METHOD:PUBLISH
X-WR-CALNAME:Ludwig van Toronto
X-ORIGINAL-URL:https://www.ludwig-van.com/toronto
X-WR-CALDESC:Events for Ludwig van Toronto
BEGIN:VTIMEZONE
TZID:America/Toronto
BEGIN:DAYLIGHT
TZOFFSETFROM:-0500
TZOFFSETTO:-0400
TZNAME:EDT
DTSTART:20200308T070000
END:DAYLIGHT
BEGIN:STANDARD
TZOFFSETFROM:-0400
TZOFFSETTO:-0500
TZNAME:EST
DTSTART:20201101T060000
END:STANDARD
END:VTIMEZONE
BEGIN:VEVENT
DTSTART;TZID=America/Toronto:20200416T080000
DTEND;TZID=America/Toronto:20200416T170000
DTSTAMP:20260425T101518
CREATED:20190909T231204Z
LAST-MODIFIED:20190909T231204Z
UID:62288-1587024000-1587056400@www.ludwig-van.com
SUMMARY:Esprit Orchestra | New Wave Festival
DESCRIPTION:A rendezvous\, bridge\, crucible\, showcase\, interface for young composers\, performers\, and audiences. \nThe festival features concerts and events with music by young composers\, mentors and others\, including Stephanie Orlando\, Misato Mochizuki\, Christina Volpini\, Žibuoklė Martinaitytė\, Alison Yun-Fei Jiang\, Quinn Jacobs\, John Rea\, Chris Paul Harman\, Nico Muhly.
URL:https://www.ludwig-van.com/toronto/event/esprit-orchestra-new-wave-festival/2020-04-16/
LOCATION:Trinity St-Paul’s Centre\, 427 Bloor Street West\, Toronto\, ON\, M5S 1X7\, Canada
CATEGORIES:Contemporary Music,Festival
ATTACH;FMTTYPE=image/jpeg:https://www.ludwig-van.com/toronto/wp-content/uploads/sites/2/2015/10/Alex-Pauk-photo-by-Denise-Grant.jpg
GEO:43.6661974;-79.4056008
X-APPLE-STRUCTURED-LOCATION;VALUE=URI;X-ADDRESS=Trinity St-Paul’s Centre 427 Bloor Street West Toronto ON M5S 1X7 Canada;X-APPLE-RADIUS=500;X-TITLE=427 Bloor Street West:geo:-79.4056008,43.6661974
END:VEVENT
BEGIN:VEVENT
DTSTART;TZID=America/Toronto:20200416T200000
DTEND;TZID=America/Toronto:20200416T220000
DTSTAMP:20260425T101518
CREATED:20191202T233346Z
LAST-MODIFIED:20191202T233346Z
UID:65250-1587067200-1587074400@www.ludwig-van.com
SUMMARY:Music Toronto | Quatuor Ébène
DESCRIPTION:Founded in 1999 at the Boulogne Billancourt Conservatory in France\, Quatuor Ébène studied with the Quatuor Ysaÿe in Paris and with Gábor Takács\, Eberhard Feltz and György Kurtág. They launched their international career with an impressive win at the ARD Music Competition in 2004. The Quatuor Ébène’s concerts are marked by a special elan much prized in Europe. Since 2009 the quartet play on 17th and 18th century instruments on loan from a private donor. Quatuor Ébène played on this series in March 2016. From April 2019 through January 2020 the Quatuor Ébène will go on a world tour with the theme “Beethoven Live Around the World.” \nBeethoven: Quartet in B-flat Major\, Op. 18\, No. 6\nQuartet in A Minor\, Op. 132
URL:https://www.ludwig-van.com/toronto/event/music-toronto-quatuor-ebene-2/
LOCATION:Jane Mallet Theatre\, 27 Front St. East\, Toronto\, ON\, M5E\, Canada
CATEGORIES:Chamber music
ATTACH;FMTTYPE=image/jpeg:https://www.ludwig-van.com/toronto/wp-content/uploads/sites/2/2019/12/Quatuor-Ébène.jpg
GEO:43.6472494;-79.3763834
X-APPLE-STRUCTURED-LOCATION;VALUE=URI;X-ADDRESS=Jane Mallet Theatre 27 Front St. East Toronto ON M5E Canada;X-APPLE-RADIUS=500;X-TITLE=27 Front St. East:geo:-79.3763834,43.6472494
END:VEVENT
END:VCALENDAR