BEGIN:VCALENDAR
VERSION:2.0
PRODID:-//Ludwig van Toronto - ECPv5.9.1//NONSGML v1.0//EN
CALSCALE:GREGORIAN
METHOD:PUBLISH
X-WR-CALNAME:Ludwig van Toronto
X-ORIGINAL-URL:https://www.ludwig-van.com/toronto
X-WR-CALDESC:Events for Ludwig van Toronto
BEGIN:VTIMEZONE
TZID:America/Toronto
BEGIN:DAYLIGHT
TZOFFSETFROM:-0500
TZOFFSETTO:-0400
TZNAME:EDT
DTSTART:20200308T070000
END:DAYLIGHT
BEGIN:STANDARD
TZOFFSETFROM:-0400
TZOFFSETTO:-0500
TZNAME:EST
DTSTART:20201101T060000
END:STANDARD
END:VTIMEZONE
BEGIN:VEVENT
DTSTART;TZID=America/Toronto:20200405T150000
DTEND;TZID=America/Toronto:20200405T170000
DTSTAMP:20260422T222834
CREATED:20200225T162108Z
LAST-MODIFIED:20200225T162108Z
UID:66880-1586098800-1586106000@www.ludwig-van.com
SUMMARY:Toronto Symphony Orchestra | Lisiecki Plays Beethoven’s Emperor
DESCRIPTION:Piano wunderkind Jan Lisiecki has been praised by The New York Times for his “pristine\, lyrical\, and intelligent” playing. Former TSO Music Director Jukka-Pekka Saraste conducts him and the Orchestra in Beethoven’s regal “Emperor” Concerto. (Pictured: Jan Lisiecki\, piano) \nPerformances are roughly two hours long\, including a 20-minute intermission.
URL:https://www.ludwig-van.com/toronto/event/toronto-symphony-orchestra-lisiecki-plays-beethovens-emperor-2/
LOCATION:George Weston Recital Hall\, 5040 Yonge Street\, Toronto\, ON\, M2N 6R8\, Canada
CATEGORIES:Orchestra,piano
ATTACH;FMTTYPE=image/jpeg:https://www.ludwig-van.com/toronto/wp-content/uploads/sites/2/2017/04/Jan_Lisiecki-Photo-Bo-Huang.jpg
GEO:43.7660095;-79.4144326
X-APPLE-STRUCTURED-LOCATION;VALUE=URI;X-ADDRESS=George Weston Recital Hall 5040 Yonge Street Toronto ON M2N 6R8 Canada;X-APPLE-RADIUS=500;X-TITLE=5040 Yonge Street:geo:-79.4144326,43.7660095
END:VEVENT
END:VCALENDAR