BEGIN:VCALENDAR
VERSION:2.0
PRODID:-//Ludwig van Toronto - ECPv5.9.1//NONSGML v1.0//EN
CALSCALE:GREGORIAN
METHOD:PUBLISH
X-WR-CALNAME:Ludwig van Toronto
X-ORIGINAL-URL:https://www.ludwig-van.com/toronto
X-WR-CALDESC:Events for Ludwig van Toronto
BEGIN:VTIMEZONE
TZID:America/Toronto
BEGIN:DAYLIGHT
TZOFFSETFROM:-0500
TZOFFSETTO:-0400
TZNAME:EDT
DTSTART:20200308T070000
END:DAYLIGHT
BEGIN:STANDARD
TZOFFSETFROM:-0400
TZOFFSETTO:-0500
TZNAME:EST
DTSTART:20201101T060000
END:STANDARD
END:VTIMEZONE
BEGIN:VEVENT
DTSTART;TZID=America/Toronto:20200331T120000
DTEND;TZID=America/Toronto:20200331T130000
DTSTAMP:20260422T132559
CREATED:20200226T001041Z
LAST-MODIFIED:20200326T210915Z
UID:67010-1585656000-1585659600@www.ludwig-van.com
SUMMARY:Canadian Opera Company | Unbound — CANCELLED DUE TO COVID-19 
DESCRIPTION:VOCAL SERIES\nIn celebration of the International Transgender Day of Visibility\, Against the Grain Theatre presents a recital by Breanna Sinclairé\, a lyric soprano who is transgender. Breanna sings the role of Kelly in BOUND\, a piece which explores the world’s refugee crisis and the current state of those displaced\, dehumanized and mistreated. Don’t miss this rare “one-afternoon-only” solo recital where she reveals the full extent of her musical and dramatic range\, demonstrating the transformative power of the human voice.
URL:https://www.ludwig-van.com/toronto/event/canadian-opera-company-unbound/
LOCATION:Richard Bradshaw Amphitheatre\, Four Seasons Centre for the Performing Arts\, 145 Queen St. W.\, Toronto\, M5V 2A9
CATEGORIES:Free,Vocal
ATTACH;FMTTYPE=image/png:https://www.ludwig-van.com/toronto/wp-content/uploads/sites/2/2014/03/Canadian_Opera_Company_2011.png
END:VEVENT
BEGIN:VEVENT
DTSTART;TZID=America/Toronto:20200331T200000
DTEND;TZID=America/Toronto:20200331T220000
DTSTAMP:20260422T132559
CREATED:20191202T232925Z
LAST-MODIFIED:20200326T210930Z
UID:65248-1585684800-1585692000@www.ludwig-van.com
SUMMARY:Music Toronto | Benjamin Grosvenor — CANCELLED DUE TO COVID-19 
DESCRIPTION:Born in 1992\, Benjamin first came to prominence as the outstanding winner of the Keyboard Final of the 2004 BBC Young Musician Competition at eleven; he was invited to perform with the BBC Symphony Orchestra at the First Night of the Proms in 2011 at nineteen. Also in 2011 Benjamin signed to Decca Classics\, and was the inaugural recipient of The Ronnie and Lawrence Ackman Classical Piano Prize with the New York Philharmonic in 2016. No longer a prodigy\, he is an established virtuoso. Previous Music TORONTO recitals in 2014\, 2015 and 2017. \nRameau: Gavotte & Variations\nBeethoven: Sonata in E-flat Major\, Op. 7\n– – – \nSchumann: Kreisleriana\, Op. 16\nGounod/Liszt: Valse de l’Opéra Faust\, S. 407
URL:https://www.ludwig-van.com/toronto/event/music-toronto-benjamin-grosvenor-2/
LOCATION:Jane Mallet Theatre\, 27 Front St. East\, Toronto\, ON\, M5E\, Canada
CATEGORIES:Chamber music
ATTACH;FMTTYPE=image/jpeg:https://www.ludwig-van.com/toronto/wp-content/uploads/sites/2/2018/10/grovesnor.jpg
GEO:43.6472494;-79.3763834
X-APPLE-STRUCTURED-LOCATION;VALUE=URI;X-ADDRESS=Jane Mallet Theatre 27 Front St. East Toronto ON M5E Canada;X-APPLE-RADIUS=500;X-TITLE=27 Front St. East:geo:-79.3763834,43.6472494
END:VEVENT
END:VCALENDAR