BEGIN:VCALENDAR
VERSION:2.0
PRODID:-//Ludwig van Toronto - ECPv5.9.1//NONSGML v1.0//EN
CALSCALE:GREGORIAN
METHOD:PUBLISH
X-WR-CALNAME:Ludwig van Toronto
X-ORIGINAL-URL:https://www.ludwig-van.com/toronto
X-WR-CALDESC:Events for Ludwig van Toronto
BEGIN:VTIMEZONE
TZID:America/Toronto
BEGIN:DAYLIGHT
TZOFFSETFROM:-0500
TZOFFSETTO:-0400
TZNAME:EDT
DTSTART:20200308T070000
END:DAYLIGHT
BEGIN:STANDARD
TZOFFSETFROM:-0400
TZOFFSETTO:-0500
TZNAME:EST
DTSTART:20201101T060000
END:STANDARD
END:VTIMEZONE
BEGIN:VEVENT
DTSTART;TZID=America/Toronto:20200326T200000
DTEND;TZID=America/Toronto:20200326T220000
DTSTAMP:20260422T044241
CREATED:20200226T133106Z
LAST-MODIFIED:20200326T210531Z
UID:67085-1585252800-1585260000@www.ludwig-van.com
SUMMARY:Tafelmusik | Bach St. John Passion — CANCELLED DUE TO COVID-19 
DESCRIPTION:Directed by Ivars Taurins\nJana Miller\, soprano\nKrisztina Szabó\, mezzo-soprano\nCharles Daniels\, tenor\nWilliam Sharp\, baritone\nAndrew Mahon\, bass-baritone\nTafelmusik Chamber Choir
URL:https://www.ludwig-van.com/toronto/event/tafelmusik-bach-st-john-passion/2020-03-26/
LOCATION:Koerner Hall\, 273 Bloor St W\, \, Toronto\, ON\, M5S 1V6\, Canada
CATEGORIES:Period ensemble
ATTACH;FMTTYPE=image/jpeg:https://www.ludwig-van.com/toronto/wp-content/uploads/sites/2/2018/03/TafelmusikOrchestraandChamberChoirDirectedByIvarsTaurins_PhotoByTrevor_Haldenby.jpg
GEO:43.6679641;-79.3966795
X-APPLE-STRUCTURED-LOCATION;VALUE=URI;X-ADDRESS=Koerner Hall 273 Bloor St W  Toronto ON M5S 1V6 Canada;X-APPLE-RADIUS=500;X-TITLE=273 Bloor St W\,:geo:-79.3966795,43.6679641
END:VEVENT
END:VCALENDAR