BEGIN:VCALENDAR
VERSION:2.0
PRODID:-//Ludwig van Toronto - ECPv5.9.1//NONSGML v1.0//EN
CALSCALE:GREGORIAN
METHOD:PUBLISH
X-WR-CALNAME:Ludwig van Toronto
X-ORIGINAL-URL:https://www.ludwig-van.com/toronto
X-WR-CALDESC:Events for Ludwig van Toronto
BEGIN:VTIMEZONE
TZID:America/Toronto
BEGIN:DAYLIGHT
TZOFFSETFROM:-0500
TZOFFSETTO:-0400
TZNAME:EDT
DTSTART:20200308T070000
END:DAYLIGHT
BEGIN:STANDARD
TZOFFSETFROM:-0400
TZOFFSETTO:-0500
TZNAME:EST
DTSTART:20201101T060000
END:STANDARD
END:VTIMEZONE
BEGIN:VEVENT
DTSTART;TZID=America/Toronto:20200324T193000
DTEND;TZID=America/Toronto:20200324T213000
DTSTAMP:20260422T004115
CREATED:20200213T150839Z
LAST-MODIFIED:20200213T150839Z
UID:66485-1585078200-1585085400@www.ludwig-van.com
SUMMARY:Canadian Chinese Society for the Arts | Winter Waltz Concert
DESCRIPTION:Vivaldi to Vienna to Beijing\nThe CCSA Symphony Orchestra returns to the Toronto stage after a spectacular appearance in Beijing\, performing at the invitation of the Chinese government in the May 2019 International “Meet in Beijing Festival”. \nThe Toronto 2020 Spring Gala Concert is one of a series celebrating classical music in both Western and Chinese traditions.  Earlier concerts were performed to sold-out audiences in Toronto’s George Weston Recital Hall and Koerner Hall.    This evening features Angel Wang\, violinist\, the CCSA’s founder and principal artist.  In China Angel was a member of the Tianjin Symphony Orchestra and established the “Angel Trio”\, performing chamber music throughout the country.  In Canada\, she is a veteran of both stage and screen\, most recently the Concert Master for three of Richard Clayderman’s North American tours.  Angel is a faculty member at the Royal Conservatory of Music in Toronto. \nAngel is joined this evening by Barry Shiffman\, Concert Master\, and Claudio Vena\, conductor in a programme celebrating the end of winter and awakening of spring in Western and Chinese cultures. \nTickets and details here.
URL:https://www.ludwig-van.com/toronto/event/canadian-chinese-society-arts-winter-waltz-concert/
LOCATION:Koerner Hall\, 273 Bloor St W\, \, Toronto\, ON\, M5S 1V6\, Canada
CATEGORIES:Orchestra
ATTACH;FMTTYPE=image/jpeg:https://www.ludwig-van.com/toronto/wp-content/uploads/sites/2/2020/02/angelwang@koernerhall_squ.jpg
GEO:43.6679641;-79.3966795
X-APPLE-STRUCTURED-LOCATION;VALUE=URI;X-ADDRESS=Koerner Hall 273 Bloor St W  Toronto ON M5S 1V6 Canada;X-APPLE-RADIUS=500;X-TITLE=273 Bloor St W\,:geo:-79.3966795,43.6679641
END:VEVENT
END:VCALENDAR