BEGIN:VCALENDAR
VERSION:2.0
PRODID:-//Ludwig van Toronto - ECPv5.9.1//NONSGML v1.0//EN
CALSCALE:GREGORIAN
METHOD:PUBLISH
X-WR-CALNAME:Ludwig van Toronto
X-ORIGINAL-URL:https://www.ludwig-van.com/toronto
X-WR-CALDESC:Events for Ludwig van Toronto
BEGIN:VTIMEZONE
TZID:America/Toronto
BEGIN:DAYLIGHT
TZOFFSETFROM:-0500
TZOFFSETTO:-0400
TZNAME:EDT
DTSTART:20200308T070000
END:DAYLIGHT
BEGIN:STANDARD
TZOFFSETFROM:-0400
TZOFFSETTO:-0500
TZNAME:EST
DTSTART:20201101T060000
END:STANDARD
END:VTIMEZONE
BEGIN:VEVENT
DTSTART;TZID=America/Toronto:20200322T151500
DTEND;TZID=America/Toronto:20200322T170000
DTSTAMP:20260421T204423
CREATED:20191002T131813Z
LAST-MODIFIED:20191002T131813Z
UID:62885-1584890100-1584896400@www.ludwig-van.com
SUMMARY:Mooredale Concerts | Andrew Wan\, violin and Charles Richard-Hamelin\, piano
DESCRIPTION:Versatile violinist Andrew Wan is concertmaster of the Orchestre Symphonique de Montréal and a member of the acclaimed New Orford String Quartet. As a soloist\, he has performed internationally under conductors such as Maxim Vengerov\, Vasily Petrenko\, appearing in recitals with the Juilliard String Quartet\, Daniil Trifonov\, and James Ehnes. His discography includes Grammy-nominated and JUNO Award-winning releases with the Seattle Chamber Music Society\, the Metropolis Ensemble\, and a live recording of Saint-Saëns three violin concertos with the OSM and Kent Nagano. \nSilver medalist and laureate of the Krystian Zimerman prize at the 2015 International Chopin Piano Competition\, Quebec’s Charles Richard-Hamelin stands out as an important pianist of his generation. He has appeared at prestigious festivals including La Roque d’Anthéron (France)\, Prague Spring\, “Chopin and his Europe” (Warsaw)\, and the Lanaudière. As a soloist\, he has performed with the main symphony orchestras of Canada as well as the Warsaw Philharmonic\, Sinfonia Varsovia\, Singapore and Korean Symphony Orchestras. His first solo recording of Chopin late works received critical acclaim from Diapason & BBC Music Magazine. \nThey will perform an all-Beethoven programme from their recent recordings of the complete violin sonatas: No. 4 in A minor\, Op. 23\, No. 10 in G Major\, Op. 96\, and No. 9 in A Major\, Op. 47 (Kreutzer). \nTickets\, here.
URL:https://www.ludwig-van.com/toronto/event/mooredale-concerts-andrew-wan-violin-charles-richard-hamelin-piano/
LOCATION:Walter Hall\, 80 Queens Park\, Toronto\, ON\, M5S 2C5\, Canada
CATEGORIES:Chamber music
ATTACH;FMTTYPE=image/jpeg:https://www.ludwig-van.com/toronto/wp-content/uploads/sites/2/2019/10/2019AndrewCharles-hires.jpg
GEO:43.666508;-79.3944708
X-APPLE-STRUCTURED-LOCATION;VALUE=URI;X-ADDRESS=Walter Hall 80 Queens Park Toronto ON M5S 2C5 Canada;X-APPLE-RADIUS=500;X-TITLE=80 Queens Park:geo:-79.3944708,43.666508
END:VEVENT
BEGIN:VEVENT
DTSTART;TZID=America/Toronto:20200322T200000
DTEND;TZID=America/Toronto:20200322T220000
DTSTAMP:20260421T204423
CREATED:20190909T230900Z
LAST-MODIFIED:20190909T230900Z
UID:62286-1584907200-1584914400@www.ludwig-van.com
SUMMARY:Esprit Orchestra | Taiko Returns
DESCRIPTION:Ishii demands physical power\, delicate precision\, emotional strength and willpower from our guest taiko drummers to make Mono-Prism the explosive conclusion of our concert. Goddard’s musical mastery extends to his performance as a pianist in what is\, for the composer\, a project of passion that Esprit is thrilled to foster. Astapov brings his Russian heritage to the fore in setting a text by one of today’s most important under-forty Russian poets. Croall’s presence as a performer brings a powerful Anishinaabekwe plea for all humans to take care of our precious environment. \nBarbara Croall (Canada) —  Mijidwewinan (Messages) (2008) for Anishinaabekwe soloist and orchestra\nChristopher Goddard (Canada) —  Piano Concerto (2020)** concerto for piano and orchestra\nEugene Astapov (Canada) —  A Still Life (2020)*** for soprano and orchestra (poetry by Russian poet Polina Barskova)\nMaki Ishii (Japan) —  Mono-Prism (1976) for taiko drumming group and orchestra \n**World Premiere commissioned by Esprit Orchestra with generous support from Chantal Perrot\n***World Premiere commissioned by Esprit Orchestra with generous support from The Michael and Sonja Koerner Charitable Foundation \nTickets\, here.
URL:https://www.ludwig-van.com/toronto/event/esprit-orchestra-taiko-returns/
LOCATION:Koerner Hall\, 273 Bloor St W\, \, Toronto\, ON\, M5S 1V6\, Canada
CATEGORIES:Contemporary Music,Orchestra,World Music
ATTACH;FMTTYPE=image/jpeg:https://www.ludwig-van.com/toronto/wp-content/uploads/sites/2/2016/07/esprit-orchestra.jpg
GEO:43.6679641;-79.3966795
X-APPLE-STRUCTURED-LOCATION;VALUE=URI;X-ADDRESS=Koerner Hall 273 Bloor St W  Toronto ON M5S 1V6 Canada;X-APPLE-RADIUS=500;X-TITLE=273 Bloor St W\,:geo:-79.3966795,43.6679641
END:VEVENT
END:VCALENDAR