BEGIN:VCALENDAR
VERSION:2.0
PRODID:-//Ludwig van Toronto - ECPv5.9.1//NONSGML v1.0//EN
CALSCALE:GREGORIAN
METHOD:PUBLISH
X-WR-CALNAME:Ludwig van Toronto
X-ORIGINAL-URL:https://www.ludwig-van.com/toronto
X-WR-CALDESC:Events for Ludwig van Toronto
BEGIN:VTIMEZONE
TZID:America/Toronto
BEGIN:DAYLIGHT
TZOFFSETFROM:-0500
TZOFFSETTO:-0400
TZNAME:EDT
DTSTART:20200308T070000
END:DAYLIGHT
BEGIN:STANDARD
TZOFFSETFROM:-0400
TZOFFSETTO:-0500
TZNAME:EST
DTSTART:20201101T060000
END:STANDARD
END:VTIMEZONE
BEGIN:VEVENT
DTSTART;TZID=America/Toronto:20200317T120000
DTEND;TZID=America/Toronto:20200317T130000
DTSTAMP:20260421T114304
CREATED:20200226T000522Z
LAST-MODIFIED:20200226T000522Z
UID:67002-1584446400-1584450000@www.ludwig-van.com
SUMMARY:Canadian Opera Company | Opera for All Ages
DESCRIPTION:VOCAL SERIES\nArtists of the COC Ensemble Studio playfully explore opera in a lively interactive March Break presentation. Audience members of all ages can listen to\, learn about\, and try their hand at the fascinating art of opera. This program is fun for the whole family and people of all abilities and exceptionalities!
URL:https://www.ludwig-van.com/toronto/event/canadian-opera-company-opera-ages/
LOCATION:Richard Bradshaw Amphitheatre\, Four Seasons Centre for the Performing Arts\, 145 Queen St. W.\, Toronto\, M5V 2A9
CATEGORIES:Free,Kids,Vocal
ATTACH;FMTTYPE=image/png:https://www.ludwig-van.com/toronto/wp-content/uploads/sites/2/2014/03/Canadian_Opera_Company_2011.png
END:VEVENT
END:VCALENDAR