BEGIN:VCALENDAR
VERSION:2.0
PRODID:-//Ludwig van Toronto - ECPv5.9.1//NONSGML v1.0//EN
CALSCALE:GREGORIAN
METHOD:PUBLISH
X-WR-CALNAME:Ludwig van Toronto
X-ORIGINAL-URL:https://www.ludwig-van.com/toronto
X-WR-CALDESC:Events for Ludwig van Toronto
BEGIN:VTIMEZONE
TZID:America/Toronto
BEGIN:DAYLIGHT
TZOFFSETFROM:-0500
TZOFFSETTO:-0400
TZNAME:EDT
DTSTART:20200308T070000
END:DAYLIGHT
BEGIN:STANDARD
TZOFFSETFROM:-0400
TZOFFSETTO:-0500
TZNAME:EST
DTSTART:20201101T060000
END:STANDARD
END:VTIMEZONE
BEGIN:VEVENT
DTSTART;TZID=America/Toronto:20200313T193000
DTEND;TZID=America/Toronto:20200313T213000
DTSTAMP:20260421T044023
CREATED:20200225T161534Z
LAST-MODIFIED:20200225T161534Z
UID:66864-1584127800-1584135000@www.ludwig-van.com
SUMMARY:Toronto Symphony Orchestra | Pictures at an Exhibition
DESCRIPTION:The TSO’s virtuosity is on full display in the vibrantly colourful Pictures at an Exhibition. Sergei Babayan performs Tchaikovsky’s First Piano Concerto. Once deemed impossible to play\, this romantic masterpiece is now one of history’s most recognizable and admired works. \nPerformances are roughly two hours long\, including a 20-minute intermission. \nThe previously announced TSO performances of Pictures at an Exhibition on March 20\, 21\, and 22\, 2020 have been moved to March 13\, 14\, and 15\, 2020 due to scheduling conflicts. 
URL:https://www.ludwig-van.com/toronto/event/toronto-symphony-orchestra-pictures-exhibition/2020-03-13/
LOCATION:Roy Thomson Hall\, 60 Simcoe St\, Toronto\, Ontario\, M5J 2H5\, Canada
CATEGORIES:Orchestra
ATTACH;FMTTYPE=image/jpeg:https://www.ludwig-van.com/toronto/wp-content/uploads/sites/2/2020/02/TSO-PICTURES-AT-AN-EXHIBITION.jpg
END:VEVENT
END:VCALENDAR