BEGIN:VCALENDAR
VERSION:2.0
PRODID:-//Ludwig van Toronto - ECPv5.9.1//NONSGML v1.0//EN
CALSCALE:GREGORIAN
METHOD:PUBLISH
X-WR-CALNAME:Ludwig van Toronto
X-ORIGINAL-URL:https://www.ludwig-van.com/toronto
X-WR-CALDESC:Events for Ludwig van Toronto
BEGIN:VTIMEZONE
TZID:America/Toronto
BEGIN:DAYLIGHT
TZOFFSETFROM:-0500
TZOFFSETTO:-0400
TZNAME:EDT
DTSTART:20200308T070000
END:DAYLIGHT
BEGIN:STANDARD
TZOFFSETFROM:-0400
TZOFFSETTO:-0500
TZNAME:EST
DTSTART:20201101T060000
END:STANDARD
END:VTIMEZONE
BEGIN:VEVENT
DTSTART;TZID=America/Toronto:20200311T120000
DTEND;TZID=America/Toronto:20200311T130000
DTSTAMP:20260420T211938
CREATED:20200226T000314Z
LAST-MODIFIED:20200226T000314Z
UID:66998-1583928000-1583931600@www.ludwig-van.com
SUMMARY:Canadian Opera Company | her body as words
DESCRIPTION:DANCE SERIES\nPeggy Baker Dance Projects is dedicated to offering experiences of significance\, personal connection\, and transformative potential to our audience through the power and beauty of the art of dance. Peggy Baker\, Artistic Director and Canadian dance icon\, presents the company’s dancers and musicians in a special preview performance and gives a unique opportunity for insight into her creative process.
URL:https://www.ludwig-van.com/toronto/event/canadian-opera-company-body-words/
LOCATION:Richard Bradshaw Amphitheatre\, Four Seasons Centre for the Performing Arts\, 145 Queen St. W.\, Toronto\, M5V 2A9
CATEGORIES:Dance,Free
ATTACH;FMTTYPE=image/png:https://www.ludwig-van.com/toronto/wp-content/uploads/sites/2/2014/03/Canadian_Opera_Company_2011.png
END:VEVENT
BEGIN:VEVENT
DTSTART;TZID=America/Toronto:20200311T193000
DTEND;TZID=America/Toronto:20200311T213000
DTSTAMP:20260420T211938
CREATED:20200226T004621Z
LAST-MODIFIED:20200317T210306Z
UID:67050-1583955000-1583962200@www.ludwig-van.com
SUMMARY:National Ballet of Canada | Romeo and Juliet – Cancelled Due to COVID-19
DESCRIPTION:Alexei Ratmansky created his stunning adaptation of Romeo and Juliet for The National Ballet of Canada in 2011 to open the company’s 60th anniversary season. The production is true to the colour and character of 16th century Verona and jampacked with dancing – fast footwork\, expressive pas de deux and gorgeous ensemble pieces blending classical and folkdance elements. Romeo and Juliet is pure Ratmansky\, a thoughtful and visually striking revival of one of ballet’s great narrative works.
URL:https://www.ludwig-van.com/toronto/event/national-ballet-canada-romeo-juliet/2020-03-11/
LOCATION:Four Seasons Centre\, 145 Queen St. W.\, Toronto\, Ontario\, M5H 4G1\, Canada
CATEGORIES:Dance
ATTACH;FMTTYPE=image/jpeg:https://www.ludwig-van.com/toronto/wp-content/uploads/sites/2/2020/02/Romeo-and-Juliet.jpg
END:VEVENT
END:VCALENDAR