BEGIN:VCALENDAR
VERSION:2.0
PRODID:-//Ludwig van Toronto - ECPv5.9.1//NONSGML v1.0//EN
CALSCALE:GREGORIAN
METHOD:PUBLISH
X-WR-CALNAME:Ludwig van Toronto
X-ORIGINAL-URL:https://www.ludwig-van.com/toronto
X-WR-CALDESC:Events for Ludwig van Toronto
BEGIN:VTIMEZONE
TZID:America/Toronto
BEGIN:DAYLIGHT
TZOFFSETFROM:-0500
TZOFFSETTO:-0400
TZNAME:EDT
DTSTART:20200308T070000
END:DAYLIGHT
BEGIN:STANDARD
TZOFFSETFROM:-0400
TZOFFSETTO:-0500
TZNAME:EST
DTSTART:20201101T060000
END:STANDARD
END:VTIMEZONE
BEGIN:VEVENT
DTSTART;TZID=America/Toronto:20200310T120000
DTEND;TZID=America/Toronto:20200310T130000
DTSTAMP:20260420T192244
CREATED:20200226T000119Z
LAST-MODIFIED:20200226T000119Z
UID:66994-1583841600-1583845200@www.ludwig-van.com
SUMMARY:Canadian Opera Company | Souvenirs
DESCRIPTION:CHAMBER MUSIC SERIES\nCanada’s Rolston String Quartet continues to receive acclaim and recognition for their musical excellence\, including the prestigious Cleveland Quartet Award from Chamber Music America\, First Prize at the 12th Banff International String Quartet Competition\, Grand Prize at the 31st Chamber Music Yellow Springs Competition\, and Astral’s National Auditions. They celebrate the launch of their debut recording\, Souvenirs\, with a concert that features the lush and romantic music of Pyotr Ilyich Tchaikovsky.
URL:https://www.ludwig-van.com/toronto/event/canadian-opera-company-souvenirs/
LOCATION:Richard Bradshaw Amphitheatre\, Four Seasons Centre for the Performing Arts\, 145 Queen St. W.\, Toronto\, M5V 2A9
CATEGORIES:Chamber music,Free
ATTACH;FMTTYPE=image/jpeg:https://www.ludwig-van.com/toronto/wp-content/uploads/sites/2/2018/03/Rolston-Quartet-2018.jpg
END:VEVENT
BEGIN:VEVENT
DTSTART;TZID=America/Toronto:20200310T200000
DTEND;TZID=America/Toronto:20200310T220000
DTSTAMP:20260420T192244
CREATED:20191202T232308Z
LAST-MODIFIED:20191202T232313Z
UID:65243-1583870400-1583877600@www.ludwig-van.com
SUMMARY:Music Toronto | André Laplante
DESCRIPTION:Quebec pianist André Laplante has performed extensively throughout Canada\, the United States\, Europe and Asia\, and has released a series of ever more impressive CDs. Critics have compared him with Ashkenazy\, Horowitz and Rudolph Serkin\, placing him in the elite circle of virtuoso pianists who do not hesitate to take risks. \nMozart: Fantasy in D Minor K.397\nMozart: Piano Sonata in E-flat Major K.282\nBeethoven: Piano Sonata No. 6\, Op. 10\, No. 2 in F Major\nJacques Hétu: Variations for Piano\n– – –\nSchubert: Piano Sonata No. 21 in B-flat Major\, D 960
URL:https://www.ludwig-van.com/toronto/event/music-toronto-andre-laplante/
LOCATION:Jane Mallet Theatre\, 27 Front St. East\, Toronto\, ON\, M5E\, Canada
CATEGORIES:Chamber music,piano
ATTACH;FMTTYPE=image/jpeg:https://www.ludwig-van.com/toronto/wp-content/uploads/sites/2/2013/07/andre.jpg
GEO:43.6472494;-79.3763834
X-APPLE-STRUCTURED-LOCATION;VALUE=URI;X-ADDRESS=Jane Mallet Theatre 27 Front St. East Toronto ON M5E Canada;X-APPLE-RADIUS=500;X-TITLE=27 Front St. East:geo:-79.3763834,43.6472494
END:VEVENT
END:VCALENDAR