BEGIN:VCALENDAR
VERSION:2.0
PRODID:-//Ludwig van Toronto - ECPv5.9.1//NONSGML v1.0//EN
CALSCALE:GREGORIAN
METHOD:PUBLISH
X-WR-CALNAME:Ludwig van Toronto
X-ORIGINAL-URL:https://www.ludwig-van.com/toronto
X-WR-CALDESC:Events for Ludwig van Toronto
BEGIN:VTIMEZONE
TZID:America/Toronto
BEGIN:DAYLIGHT
TZOFFSETFROM:-0500
TZOFFSETTO:-0400
TZNAME:EDT
DTSTART:20200308T070000
END:DAYLIGHT
BEGIN:STANDARD
TZOFFSETFROM:-0400
TZOFFSETTO:-0500
TZNAME:EST
DTSTART:20201101T060000
END:STANDARD
END:VTIMEZONE
BEGIN:VEVENT
DTSTART;TZID=America/Toronto:20200307T120000
DTEND;TZID=America/Toronto:20200307T140000
DTSTAMP:20260420T141829
CREATED:20200227T004135Z
LAST-MODIFIED:20200227T004135Z
UID:67140-1583582400-1583589600@www.ludwig-van.com
SUMMARY:The MET: Live in HD | Wozzeck (Berg) German w/e.s.t. [ENCORE]
DESCRIPTION:Synopsis\nYannick Nézet-Séguin conducts William Kentridge’s new production of Alban Berg’s expressionistic masterpiece Wozzeck\, regarded for its intense emotional power and brilliant score as one of the most significant operas of the 20th century. Composed during and in the 5 aftermath of World War I\, Berg’s dark exploration of a soldier besieged by the evils of society\, is staged by Kentridge in a ramshackle warren of stairs\, ramps\, discarded furniture\, and debris. His own theatrically animated charcoal drawings\, along with other projected drawings\, maps\, and film clips\, evoke a nightmarish world of crashed planes\, searchlights\, ghostly gas masks\, and battlefields. Peter Mattei makes his role debut as Wozzeck opposite Elza van den Heever as Marie\, the mother of his child. Singing the roles of Wozzeck’s tormentors are Christopher Ventris as the Drum-Major\, Gerhard Siegel as the Captain\, and Christian Van Horn as the Doctor. Andrew Staples makes his Met debut as Andres. Kentridge\, who previously directed Berg’s Lulu and Shostakovich’s The Nose at the Met\, unveiled the new production at the 2017 Salzburg Festival\, where it received critical acclaim. Kentridge’s production is a co-production of the Met\, Canadian Opera Company\, Opera Australia\, and Salzburg Festival. \n\n\nCast\nElza van den Heever (Marie)\, Tamara Mumford (Margret)\, Christopher Ventris (The Drum-Major)\, Gerhard Siegel (The Captain)\, Andrew Staples (Andres)\, Peter Mattei (Wozzeck)\, Christian Van Horn (Doctor) \n\n\nDirectors\nConductor: Yannick Nézet-Séguin\, Production: William Kentridge
URL:https://www.ludwig-van.com/toronto/event/met-live-hd-wozzeck-berg-german-w-e-s-t-encore/2020-03-07/
LOCATION:Cineplex Cinemas Yonge-Dundas\, 10 Dundas St E\, Toronto\, Ontario\, M5B 2G9\, Canada
CATEGORIES:Film,opera
ATTACH;FMTTYPE=image/jpeg:https://www.ludwig-van.com/toronto/wp-content/uploads/sites/2/2020/02/30973_768_1024.jpg
END:VEVENT
BEGIN:VEVENT
DTSTART;TZID=America/Toronto:20200307T200000
DTEND;TZID=America/Toronto:20200307T220000
DTSTAMP:20260420T141829
CREATED:20200226T002300Z
LAST-MODIFIED:20200226T002300Z
UID:67025-1583611200-1583618400@www.ludwig-van.com
SUMMARY:Royal Conservatory | Branford Marsalis Quartet
DESCRIPTION:Grammy Award-winning\, New Orleans-born Branford Marsalis has stayed the course. From his early acclaim as a saxophonist bringing new energy and new audiences to the jazz art\, he has refined and expanded his talents and his horizons as a musician\, composer\, bandleader\, and educator – a 21st century mainstay of artistic excellence. It is no secret that the Branford Marsalis Quartet can be as freewheeling off the bandstand as in performance. Saxophonist Marsalis\, pianist Joey Calderazzo\, bassist Eric Revis\, and drummer Justin Faulkner are each bold personalities with strong opinions\, equally intense in musical exchanges. \nMarsalis is\, as the Los Angeles Times dubbed him\, “the highest echelon of jazz tenor saxophonists.” As the eldest musical sibling in jazz’s most famous contemporary clan\, he parlayed his formative experiences in Art Blakey’s Jazz Messengers and his brother Wynton’s band into simultaneous careers as a performer\, educator\, composer\, label owner\, and bandleader with nearly 30 albums to his name. An uncompromising artist and three-time Grammy Award winner\, Marsalis’s insatiable desire to expand horizons has found him performing with the New York Philharmonic\, embracing hip hop influences with his Buckshot LaFonque project\, leading the house band on The Tonight Show with Jay Leno\, and working in the pop realm with Sting and Bruce Hornsby. But Marsalis is best known as the leader of this extraordinary quartet\, a group that plays dauntingly intricate and breathtakingly dynamic music. A powerfully kinetic sound that entails navigating odd meters and eye-blink tempo shifts\, it is an approach captured on the band’s new OKeh Records album\, The Secret Between the Shadow and the Soul. \nAfter the concert\, enjoy a beverage and more music at the Postlude Performance. \nTickets and details HERE.
URL:https://www.ludwig-van.com/toronto/event/royal-conservatory-branford-marsalis-quartet/
LOCATION:Koerner Hall\, 273 Bloor St W\, \, Toronto\, ON\, M5S 1V6\, Canada
CATEGORIES:Jazz
ATTACH;FMTTYPE=image/jpeg:https://www.ludwig-van.com/toronto/wp-content/uploads/sites/2/2020/02/bmarsalis_email2.jpg
ORGANIZER;CN="Royal%20Conservatory":MAILTO:tickets@rcmusic.ca
GEO:43.6679641;-79.3966795
X-APPLE-STRUCTURED-LOCATION;VALUE=URI;X-ADDRESS=Koerner Hall 273 Bloor St W  Toronto ON M5S 1V6 Canada;X-APPLE-RADIUS=500;X-TITLE=273 Bloor St W\,:geo:-79.3966795,43.6679641
END:VEVENT
END:VCALENDAR