BEGIN:VCALENDAR
VERSION:2.0
PRODID:-//Ludwig van Toronto - ECPv5.9.1//NONSGML v1.0//EN
CALSCALE:GREGORIAN
METHOD:PUBLISH
X-WR-CALNAME:Ludwig van Toronto
X-ORIGINAL-URL:https://www.ludwig-van.com/toronto
X-WR-CALDESC:Events for Ludwig van Toronto
BEGIN:VTIMEZONE
TZID:America/Toronto
BEGIN:DAYLIGHT
TZOFFSETFROM:-0500
TZOFFSETTO:-0400
TZNAME:EDT
DTSTART:20200308T070000
END:DAYLIGHT
BEGIN:STANDARD
TZOFFSETFROM:-0400
TZOFFSETTO:-0500
TZNAME:EST
DTSTART:20201101T060000
END:STANDARD
END:VTIMEZONE
BEGIN:VEVENT
DTSTART;TZID=America/Toronto:20200305T200000
DTEND;TZID=America/Toronto:20200305T220000
DTSTAMP:20260420T105600
CREATED:20191214T201216Z
LAST-MODIFIED:20191214T201216Z
UID:65412-1583438400-1583445600@www.ludwig-van.com
SUMMARY:The Glenn Gould Foundation | James Rhodes The Beethoven Revolution
DESCRIPTION:James Rhodes has played the world’s most prestigious venues in the UK\, Europe\, Asia\, and South America. He has released seven albums\, all of which topped the iTunes classical charts\, and authored four books\, including the newly released Playlist\, a Millennial-friendly intro to classical composers. His best-selling memoir Instrumental\, a brutally honest\, moving\, and compelling story\, was almost banned until the UK Supreme Court allowed its 2015 publication (soon to be a major motion picture starring Andrew Garfield). \nA passionate champion for classical music\, James has made TV programs for BBC\, Sky\, and Channel 4\, including James Rhodes: Piano Man\, Notes from The Inside\, and Don’t Stop the Music\, which raised over £1 million for instruments for UK primary schools. \nProgram includes:\nLudwig van Beethoven: Piano Sonata No. 15 in D Minor\, op. 28 (“Pastoral”)\nLudwig van Beethoven: Piano Sonata No. 27 in E Minor\, op. 90\nLudwig van Beethoven: Piano Sonata No. 21 in C Major\, op. 53 (“Waldstein”)
URL:https://www.ludwig-van.com/toronto/event/glenn-gould-foundation-james-rhodes-beethoven-revolution/
LOCATION:Koerner Hall\, 273 Bloor St W\, \, Toronto\, ON\, M5S 1V6\, Canada
CATEGORIES:piano
ATTACH;FMTTYPE=image/jpeg:https://www.ludwig-van.com/toronto/wp-content/uploads/sites/2/2019/12/rhodes.jpg
GEO:43.6679641;-79.3966795
X-APPLE-STRUCTURED-LOCATION;VALUE=URI;X-ADDRESS=Koerner Hall 273 Bloor St W  Toronto ON M5S 1V6 Canada;X-APPLE-RADIUS=500;X-TITLE=273 Bloor St W\,:geo:-79.3966795,43.6679641
END:VEVENT
END:VCALENDAR