BEGIN:VCALENDAR
VERSION:2.0
PRODID:-//Ludwig van Toronto - ECPv5.9.1//NONSGML v1.0//EN
CALSCALE:GREGORIAN
METHOD:PUBLISH
X-WR-CALNAME:Ludwig van Toronto
X-ORIGINAL-URL:https://www.ludwig-van.com/toronto
X-WR-CALDESC:Events for Ludwig van Toronto
BEGIN:VTIMEZONE
TZID:America/Toronto
BEGIN:DAYLIGHT
TZOFFSETFROM:-0500
TZOFFSETTO:-0400
TZNAME:EDT
DTSTART:20200308T070000
END:DAYLIGHT
BEGIN:STANDARD
TZOFFSETFROM:-0400
TZOFFSETTO:-0500
TZNAME:EST
DTSTART:20201101T060000
END:STANDARD
END:VTIMEZONE
BEGIN:VEVENT
DTSTART;TZID=America/Toronto:20200304T120000
DTEND;TZID=America/Toronto:20200304T130000
DTSTAMP:20260420T092009
CREATED:20200225T235918Z
LAST-MODIFIED:20200225T235918Z
UID:66990-1583323200-1583326800@www.ludwig-van.com
SUMMARY:Canadian Opera Company | Beneath a Solace of Stars
DESCRIPTION:PIANO VIRTUOSO SERIES\nAlexander Malikov\, Juilliard graduate and multi-prize winning pianist\, has performed extensively across Canada and the United States. He performs a program centered on excerpts from 15 for Piano by Canadian composer Howard Bashaw. This major contemporary work showcases the full dramatic range of the pianist\, from explosive and roaring virtuosity to moments of fleeting tranquility and shadowy murmurings. The program also features works by Liszt and Granados.
URL:https://www.ludwig-van.com/toronto/event/canadian-opera-company-beneath-solace-stars/
LOCATION:Richard Bradshaw Amphitheatre\, Four Seasons Centre for the Performing Arts\, 145 Queen St. W.\, Toronto\, M5V 2A9
CATEGORIES:Free,piano
ATTACH;FMTTYPE=image/png:https://www.ludwig-van.com/toronto/wp-content/uploads/sites/2/2014/03/Canadian_Opera_Company_2011.png
END:VEVENT
END:VCALENDAR