BEGIN:VCALENDAR
VERSION:2.0
PRODID:-//Ludwig van Toronto - ECPv5.9.1//NONSGML v1.0//EN
CALSCALE:GREGORIAN
METHOD:PUBLISH
X-WR-CALNAME:Ludwig van Toronto
X-ORIGINAL-URL:https://www.ludwig-van.com/toronto
X-WR-CALDESC:Events for Ludwig van Toronto
BEGIN:VTIMEZONE
TZID:America/Toronto
BEGIN:DAYLIGHT
TZOFFSETFROM:-0500
TZOFFSETTO:-0400
TZNAME:EDT
DTSTART:20200308T070000
END:DAYLIGHT
BEGIN:STANDARD
TZOFFSETFROM:-0400
TZOFFSETTO:-0500
TZNAME:EST
DTSTART:20201101T060000
END:STANDARD
END:VTIMEZONE
BEGIN:VEVENT
DTSTART;TZID=America/Toronto:20200303T120000
DTEND;TZID=America/Toronto:20200303T130000
DTSTAMP:20260420T074907
CREATED:20200225T235732Z
LAST-MODIFIED:20200225T235732Z
UID:66986-1583236800-1583240400@www.ludwig-van.com
SUMMARY:Canadian Opera Company | Rebanks Family Fellowship Showcase
DESCRIPTION:CHAMBER MUSIC SERIES\nThis performance showcases artists from the Rebanks Family Fellowship and International Performance Residency Program at The Royal Conservatory’s Glenn Gould School\, which is designed as a catalyst for launching successful professional careers of extraordinary Canadian emerging artists who have completed their formal training.
URL:https://www.ludwig-van.com/toronto/event/canadian-opera-company-rebanks-family-fellowship-showcase/
LOCATION:Richard Bradshaw Amphitheatre\, Four Seasons Centre for the Performing Arts\, 145 Queen St. W.\, Toronto\, M5V 2A9
CATEGORIES:Chamber music,Free
ATTACH;FMTTYPE=image/png:https://www.ludwig-van.com/toronto/wp-content/uploads/sites/2/2014/03/Canadian_Opera_Company_2011.png
END:VEVENT
BEGIN:VEVENT
DTSTART;TZID=America/Toronto:20200303T200000
DTEND;TZID=America/Toronto:20200303T220000
DTSTAMP:20260420T074907
CREATED:20200225T161127Z
LAST-MODIFIED:20200225T161127Z
UID:66856-1583265600-1583272800@www.ludwig-van.com
SUMMARY:Toronto Symphony Orchestra | Music Of John Williams
DESCRIPTION:Celebrate the undisputed king of movie music with a look back at four decades of John Williams’s beloved works! With a particular focus on his legendary collaboration with Academy Award–winning director Steven Spielberg\, there will be no shortage of fan favourites including themes from Jaws\, Indiana Jones\, Schindler’s List\, Hook\, and more. It’s going to be a feast of film scores—join in and let the magic begin. \nPerformances are roughly two hours long\, including a 20-minute intermission.
URL:https://www.ludwig-van.com/toronto/event/toronto-symphony-orchestra-music-john-williams/2020-03-03/
LOCATION:Roy Thomson Hall\, 60 Simcoe St\, Toronto\, Ontario\, M5J 2H5\, Canada
CATEGORIES:Orchestra
ATTACH;FMTTYPE=image/jpeg:https://www.ludwig-van.com/toronto/wp-content/uploads/sites/2/2020/02/TSO-John-Williams.jpg
END:VEVENT
BEGIN:VEVENT
DTSTART;TZID=America/Toronto:20200303T200000
DTEND;TZID=America/Toronto:20200303T220000
DTSTAMP:20260420T074907
CREATED:20200302T140534Z
LAST-MODIFIED:20200302T140551Z
UID:67292-1583265600-1583272800@www.ludwig-van.com
SUMMARY:Tafelmusik | The Indigo Project
DESCRIPTION:Alison Mackay’s superb multimedia creations\, blending music\, visuals\, narration\, dance\, and social commentary\, are now famous the world over. In this latest offering\, she traces the significance of the introduction into 17th-century Europe of indigofera tinctoria\, the indigo dye that provided both the royal blue of the Bourbon courts and the colour of the cotton fabric worn by the common folk\, known as denim. \nThis fascinating social and musical journey travels from the courts of Europe to the lowest classes of European life\, and extends into the exploitation of garment workers in the present day. Blending music both classical and popular\, the program includes representations of the India where indigofera tinctoria was grown and the North American slave plantations where it was cultivated. \nProgram includes: \n\nCorelli Concerto grosso op. 6\, no. 1\nLully Excerpts from Psyché\nStreet ballads from England\, France & Italy\nClassical music from South India
URL:https://www.ludwig-van.com/toronto/event/tafelmusik-indigo-project-2/
LOCATION:George Weston Recital Hall\, 5040 Yonge Street\, Toronto\, ON\, M2N 6R8\, Canada
CATEGORIES:Period ensemble
ATTACH;FMTTYPE=image/jpeg:https://www.ludwig-van.com/toronto/wp-content/uploads/sites/2/2017/10/Elisa-Citterio-and-Tafelmusik-Baroque-Orchestra_Sept-21-2017_Photo-Jeff-....jpg
GEO:43.7660095;-79.4144326
X-APPLE-STRUCTURED-LOCATION;VALUE=URI;X-ADDRESS=George Weston Recital Hall 5040 Yonge Street Toronto ON M2N 6R8 Canada;X-APPLE-RADIUS=500;X-TITLE=5040 Yonge Street:geo:-79.4144326,43.7660095
END:VEVENT
END:VCALENDAR