BEGIN:VCALENDAR
VERSION:2.0
PRODID:-//Ludwig van Toronto - ECPv5.9.1//NONSGML v1.0//EN
CALSCALE:GREGORIAN
METHOD:PUBLISH
X-WR-CALNAME:Ludwig van Toronto
X-ORIGINAL-URL:https://www.ludwig-van.com/toronto
X-WR-CALDESC:Events for Ludwig van Toronto
BEGIN:VTIMEZONE
TZID:America/Toronto
BEGIN:DAYLIGHT
TZOFFSETFROM:-0500
TZOFFSETTO:-0400
TZNAME:EDT
DTSTART:20200308T070000
END:DAYLIGHT
BEGIN:STANDARD
TZOFFSETFROM:-0400
TZOFFSETTO:-0500
TZNAME:EST
DTSTART:20201101T060000
END:STANDARD
END:VTIMEZONE
BEGIN:VEVENT
DTSTART;TZID=America/Toronto:20200229T125500
DTEND;TZID=America/Toronto:20200229T161500
DTSTAMP:20260420T030934
CREATED:20200223T212606Z
LAST-MODIFIED:20200223T212606Z
UID:66734-1582980900-1582992900@www.ludwig-van.com
SUMMARY:Met Opera Live in HD/ Cineplex Canada | Agrippina
DESCRIPTION:In the Met’s first-ever performances of Agrippina\, Handel’s satire of sex and power politics\, Sir David McVicar reconceives a production he originally created for the Monnaie in Brussels in 2000\, evoking a scandalous world in which the Roman Empire never fell but simply kept going right up to the present. Holding a distorted mirror to contemporary society (as Handel did when he staged this opera)\, the production presents the corrupt intrigues of the political classes\, brought to life by Joyce DiDonato as the power-hungry empress Agrippina\, Brenda Rae as the scheming\, seductive Poppea\, and Kate Lindsey as the feckless teenager Nerone. Iestyn Davies portrays the ambitious officer Ottone\, and Matthew Rose is the emperor Claudius\, on whose vacated throne Agrippina is determined to install her son. Renowned for his interpretations of the Baroque repertoire\, Harry Bicket conducts. \nCast\nBrenda Rae (Poppea)\, Joyce DiDonato (Agrippina)\, Kate Lindsey (Nerone)\, Iestyn Davies (Ottone)\, Duncan Rock (Pallante)\, Matthew Rose (Claudio) \nDirectors\nConductor: Harry Bicket Production: Sir David McVicar \nSee HERE for Encore performances April 18\, 20\, 22\, 26.
URL:https://www.ludwig-van.com/toronto/event/met-opera-live-hd-cineplex-canada-agrippina/2020-02-29/
LOCATION:Cineplex Cinemas Yonge-Dundas\, 10 Dundas St E\, Toronto\, Ontario\, M5B 2G9\, Canada
CATEGORIES:Film,opera
ATTACH;FMTTYPE=image/jpeg:https://www.ludwig-van.com/toronto/wp-content/uploads/sites/2/2020/02/31029_768_1024.jpg
END:VEVENT
BEGIN:VEVENT
DTSTART;TZID=America/Toronto:20200229T193000
DTEND;TZID=America/Toronto:20200229T213000
DTSTAMP:20260420T030934
CREATED:20200223T211409Z
LAST-MODIFIED:20200224T195007Z
UID:66722-1583004600-1583011800@www.ludwig-van.com
SUMMARY:National Ballet of Canada | Angels' Atlas
DESCRIPTION:Crystal Pite\, the Olivier Award-winning choreographer of Emergence creates a brand new work for The National Ballet of Canada. Angels’ Atlas\, the highly anticipated world premiere comes as Pite gains international acclaim for riveting work that is both aesthetically inventive and deeply human. Often manipulating large groups of dancers\, she is fascinated not only with pattern and space but also with the emotional register of the body and the stories that it holds.
URL:https://www.ludwig-van.com/toronto/event/national-ballet-canada-angels-atlas/2020-02-29/
LOCATION:Four Seasons Centre\, 145 Queen St. W.\, Toronto\, Ontario\, M5H 4G1\, Canada
CATEGORIES:Dance
ATTACH;FMTTYPE=image/jpeg:https://www.ludwig-van.com/toronto/wp-content/uploads/sites/2/2020/02/Angel’s-Atlas.jpg
END:VEVENT
END:VCALENDAR