BEGIN:VCALENDAR
VERSION:2.0
PRODID:-//Ludwig van Toronto - ECPv5.9.1//NONSGML v1.0//EN
CALSCALE:GREGORIAN
METHOD:PUBLISH
X-WR-CALNAME:Ludwig van Toronto
X-ORIGINAL-URL:https://www.ludwig-van.com/toronto
X-WR-CALDESC:Events for Ludwig van Toronto
BEGIN:VTIMEZONE
TZID:America/Toronto
BEGIN:DAYLIGHT
TZOFFSETFROM:-0500
TZOFFSETTO:-0400
TZNAME:EDT
DTSTART:20200308T070000
END:DAYLIGHT
BEGIN:STANDARD
TZOFFSETFROM:-0400
TZOFFSETTO:-0500
TZNAME:EST
DTSTART:20201101T060000
END:STANDARD
END:VTIMEZONE
BEGIN:VEVENT
DTSTART;TZID=America/Toronto:20200223T150000
DTEND;TZID=America/Toronto:20200223T170000
DTSTAMP:20260419T165745
CREATED:20190923T201315Z
LAST-MODIFIED:20190923T201315Z
UID:62698-1582470000-1582477200@www.ludwig-van.com
SUMMARY:Orchestra Toronto | Telling a Tale with Tom Allen
DESCRIPTION:Jean Sibelius:  En Saga \nElizabeth Raum: Sir Gawain and the Green Knight \nAntonin Dvořák:  Noonday Witch \nSergei Prokofiev:  Selections from Romeo and Juliet (Suites 1\, 2 and 3) \nFEATURING \nMichael Newnham – Conductor\nTom Allen – Storyteller and Host \nPre-concert chat at 2:15 with Michael Newnham \nLink for tickets\, see here.
URL:https://www.ludwig-van.com/toronto/event/orchestra-toronto-telling-tale-tom-allen/
LOCATION:George Weston Recital Hall\, 5040 Yonge Street\, Toronto\, ON\, M2N 6R8\, Canada
CATEGORIES:Orchestra
ATTACH;FMTTYPE=image/jpeg:https://www.ludwig-van.com/toronto/wp-content/uploads/sites/2/2018/11/concert-3-slider-copy.jpg
GEO:43.7660095;-79.4144326
X-APPLE-STRUCTURED-LOCATION;VALUE=URI;X-ADDRESS=George Weston Recital Hall 5040 Yonge Street Toronto ON M2N 6R8 Canada;X-APPLE-RADIUS=500;X-TITLE=5040 Yonge Street:geo:-79.4144326,43.7660095
END:VEVENT
BEGIN:VEVENT
DTSTART;TZID=America/Toronto:20200223T150000
DTEND;TZID=America/Toronto:20200223T170000
DTSTAMP:20260419T165745
CREATED:20200217T144052Z
LAST-MODIFIED:20200217T144052Z
UID:66615-1582470000-1582477200@www.ludwig-van.com
SUMMARY:Royal Conservatory of Music | Takács Quartet
DESCRIPTION:Program: \nFanny Mendelssohn-Hensel: String Quartet in E flat Major \nBéla Bartók: String Quartet No. 4 in C Major\, Sz. 91\, BB 95 \nLudwig van Beethoven: String Quartet No. 9 in C Major\, op. 59\, no. 3
URL:https://www.ludwig-van.com/toronto/event/royal-conservatory-music-takacs-quartet/
LOCATION:Koerner Hall\, 273 Bloor St W\, \, Toronto\, ON\, M5S 1V6\, Canada
CATEGORIES:Chamber music
ATTACH;FMTTYPE=image/jpeg:https://www.ludwig-van.com/toronto/wp-content/uploads/sites/2/2018/03/09_Takacs_Ellen-Appel.jpg
ORGANIZER;CN="Royal%20Conservatory":MAILTO:tickets@rcmusic.ca
GEO:43.6679641;-79.3966795
X-APPLE-STRUCTURED-LOCATION;VALUE=URI;X-ADDRESS=Koerner Hall 273 Bloor St W  Toronto ON M5S 1V6 Canada;X-APPLE-RADIUS=500;X-TITLE=273 Bloor St W\,:geo:-79.3966795,43.6679641
END:VEVENT
END:VCALENDAR